Workbook
Name BDI_SERVIÇO_DRENAGEM: '[4]BDI-DRENAGEM'!$F$9
Name Faixa: BDI!$C$18:$F$18
Name INSUMOS: [6]MAT!$A$3:$E$249
Name TABREC: '[7]TABELA RECURSOS'!$A$1:$G$142

Sheet BDI
A2: COMPOSIÇÃO DO BDI - NÃO DESONERADO | D2: BDI COMUM | E2: BDI REDUZIDO
D3: SERVIÇOS | E3: MAT / EQUIP | F3: ASFALTO
A4: A | B4: Administração Central da Contratada | D4: =INDEX($C$20:$F$28,MATCH(A4,$A$20:$A$28,0),MATCH($F$14,$C$18:$F$18,0)) -> 0.0322 | E4: 0.1557 | F4: 0.1528
A5: B | B5: Administração Local | D5: 0
A6: C | B6: Impostos e Tributos | D6: =INDEX($C$20:$F$28,MATCH(A6,$A$20:$A$28,0),MATCH($F$14,$C$18:$F$18,0)) -> 0.0765
A7: C1 | B7: ISS | D7: =INDEX($C$20:$F$28,MATCH(A7,$A$20:$A$28,0),MATCH($F$14,$C$18:$F$18,0)) -> 0.04
A8: C2 | B8: PIS | D8: =INDEX($C$20:$F$28,MATCH(A8,$A$20:$A$28,0),MATCH($F$14,$C$18:$F$18,0)) -> 0.0065
A9: C3 | B9: Seguridade Social (COFINS) | D9: =INDEX($C$20:$F$28,MATCH(A9,$A$20:$A$28,0),MATCH($F$14,$C$18:$F$18,0)) -> 0.03
A10: D | B10: Encargos Financeiros | D10: =INDEX($C$20:$F$28,MATCH(A10,$A$20:$A$28,0),MATCH($F$14,$C$18:$F$18,0)) -> 0.006
A11: E | B11: Taxa de Risco, Seguros e Garantia | D11: =INDEX($C$20:$F$28,MATCH(A11,$A$20:$A$28,0),MATCH($F$14,$C$18:$F$18,0)) -> 0.02
A12: F | B12: Lucro | D12: =INDEX($C$20:$F$28,MATCH(A12,$A$20:$A$28,0),MATCH($F$14,$C$18:$F$18,0)) -> 0.06
D13: =((1+D4+D5+D10+D11+D12)/(1-D6))-1 -> 0.21082837
A14: SELECIONAR A FAIXA DE CUSTO DA OBRA | F14: 4ª FAIXA
A15: CONFORME RESOLUÇÃO TC Nº 329, DE 24 DE SETEMBRO DE 2019
A17: TAXA DE BDI PADRÃO APLICÁVEL
A18: COMPONENTES | C18: 1ª FAIXA | D18: 2ª FAIXA | E18: 3ª FAIXA | F18: 4ª FAIXA
C19: até R$ 330.000,00 | D19: R$ 330.000,00 a R$ 3.300.000,00 | E19: R$ 3.300.000,00 a R$ 20.000.000,00 | F19: acima de R$ 20.000.000,00
A20: A | B20: Administração Central | C20: 0.0559 | D20: 0.0406 | E20: 0.0326 | F20: 0.0322
A21: B | B21: Administração Local | C21: 0.0853 | D21: 0.0819 | E21: 0.0763 | F21: 0.0658
A22: C | B22: Impostos / Tributos | C22: =SUM(C23:C25) -> 0.0765 | D22: =SUM(D23:D25) -> 0.0765 | E22: =SUM(E23:E25) -> 0.0765 | F22: =SUM(F23:F25) -> 0.0765
A23: C1 | B23: ISSQN | C23: 0.04 | D23: 0.04 | E23: 0.04 | F23: 0.04
A24: C2 | B24: PIS | C24: 0.0065 | D24: 0.0065 | E24: 0.0065 | F24: 0.0065
A25: C3 | B25: COFINS | C25: 0.03 | D25: 0.03 | E25: 0.03 | F25: 0.03
A26: D | B26: Custos Financeiros | C26: 0.0061 | D26: 0.0061 | E26: 0.0061 | F26: 0.006
A27: E | B27: Risco, Garantias e Seguros | C27: 0.005 | D27: 0.01 | E27: 0.015 | F27: 0.02
A28: F | B28: Lucro | C28: 0.09 | D28: 0.08 | E28: 0.07 | F28: 0.06
A29: TOTAL | C29: =((1+C20+C21+C26+C27+C28)/(1-C22))-1 -> 0.34520845 | D29: =((1+D20+D21+D26+D27+D28)/(1-D22))-1 -> 0.31954521 | E29: =((1+E20+E21+E26+E27+E28)/(1-E22))-1 -> 0.29940444 | F29: =((1+F20+F21+F26+F27+F28)/(1-F22))-1 -> 0.28207905

Sheet ORÇAMENTO
H1: FONTE | I1: DATA REF | J1: DATA BASE | K1: JAN/21 | Q1: CURVA ABC
H2: DER EDIF. | I2: N/A | J2: BDI | Q2: LIMITE | R2: GRUPO | S2: ITENS | V2: VALORES
H3: DER ROD. | I3: JUN/20 | J3: SEM DESONERAÇÃO | Q3: =LARGE($R$11:$R$78,T3) -> 1607.1 | R3: C | S3: 0.5 | T3: =ROUND((COUNTIF($R$10:$R$78,">0"))*(SUM($S$3:S5)),0) -> 11 | U3: =T3-T4 -> 5 | V3: =SUMIF($T$11:$T$78,R3,$R$11:$R$78) -> 698947.58 | W3: =V3/$R$79 -> 0.02279496
H4: CESAN | I4: JAN/21 | J4: SERVIÇOS | K4: =BDI!$D$13 -> 0.21082837 | Q4: =LARGE($R$11:$R$78,T4) -> 1204866 | R4: B | S4: 0.3 | T4: =ROUND(COUNTIF($R$10:$R$78,">0")*(SUM($S$4:S5)),0) -> 6 | U4: =T4-T5 -> 4 | V4: =SUMIF($T$11:$T$78,R4,$R$11:$R$78) -> 7188632.9 | W4: =V4/$R$79 -> 0.23444476
H5: SINAPI | I5: N/A | J5: MAT / EQUIP | K5: =BDI!$E$4 -> 0.1557 | Q5: =LARGE($R$11:$R$78,T5) -> 4240782 | R5: A | S5: 0.2 | T5: =ROUND(COUNTIF($R$10:$R$78,">0")*(SUM($S$5:S5)),0) -> 2 | U5: =T5 -> 2 | V5: =SUMIF($T$11:$T$78,R5,$R$11:$R$78) -> 22774794 | W5: =V5/$R$79 -> 0.74276028
H6: SICRO | I6: JAN/21 | J6: BETUMINOSOS | K6: N/A
A7: BUSCA | B7: ITENS | C7: ORGÃO | D7: CÓDIGO | E7: DESCRIÇÃO | F7: UND. | G7: PREÇO UNITÁRIO | H7: MÍNIMO | J7: MÁXIMO | M7: TIPO BDI | N7: BDI APLICADO | O7: SEM BDI | Q7: AGRUPAMENTO
H8: QUANT | I8: TOTAL | J8: QUANT | K8: TOTAL | Q8: QTD | R8: TOTAL | S8: % | T8: ABC
A9: =CONCATENATE(C9,D9) | E9: LOTE 1 - REGIÃO METROPOLITANA | I9: =SUBTOTAL(9,I10:I22) -> 1452686.2 | K9: =SUBTOTAL(9,K10:K22) -> 14839467
A10: =CONCATENATE(C10,D10) | B10: 1 | E10: CANTEIRO DE OBRAS | I10: =SUBTOTAL(9,I11:I13) -> 22895.61 | K10: =SUBTOTAL(9,K11:K13) -> 45791.22
A11: =CONCATENATE(C11,D11) -> CESAN7010100210 | B11: 1.1 | C11: CESAN | D11: 7010100210 | E11: =INDEX('Preços Serviços'!$D$6:$H$49,MATCH($A11,'Preços Serviços'!$A$6:$A$49,0),MATCH(E$7,'Preços Serviços'!$D$5:$H$5,0)) -> Banheiro Quimico | F11: =INDEX('Preços Serviços'!$D$6:$H$49,MATCH($A11,'Preços Serviços'!$A$6:$A$49,0),MATCH(F$7,'Preços Serviços'!$D$5:$H$5,0)) -> unm | G11: =ROUND(O11*(1+N11),2) -> 1792.4 | H11: =MEM_LIMPEZA!H17 -> 12 | I11: =ROUND($G11*H11,2) -> 21508.8 | J11: =MEM_LIMPEZA!I17 -> 24 | K11: =ROUND($G11*J11,2) -> 43017.6 | N11: =IF($M11=$J$5,$K$5,IF($M11=$J$6,$K$6,$K$4)) -> 0.21082837 | O11: =ROUND(INDEX('Preços Serviços'!$B$6:$H$49,MATCH($A11,'Preços Serviços'!$A$6:$A$49,0),MATCH("PREÇO UNITÁRIO CORRIGIDO",'Preços Serviços'!B$5:$H$5,0)),2) -> 1480.31 | Q11: =IF(COUNTIF($A$11:A11,A11)=1,SUMIF($A:$A,A11,$J:$J),0) -> 120 | R11: =ROUND(Q11*G11,2) -> 215088 | S11: =R11/$R$79 -> 0.007014721 | T11: =IFERROR(VLOOKUP(R11,$Q$3:$R$5,2,1),"-") -> C
A12: =CONCATENATE(C12,D12) -> SICRO5212556 | B12: 1.2 | C12: SICRO | D12: 5212556 | E12: =INDEX('Preços Serviços'!$D$6:$H$49,MATCH($A12,'Preços Serviços'!$A$6:$A$49,0),MATCH(E$7,'Preços Serviços'!$D$5:$H$5,0)) -> Placa para sinalização de obras montada em cavalete metálico - 1,00 x 1,00 m | F12: =INDEX('Preços Serviços'!$D$6:$H$49,MATCH($A12,'Preços Serviços'!$A$6:$A$49,0),MATCH(F$7,'Preços Serviços'!$D$5:$H$5,0)) -> und | G12: =ROUND(O12*(1+N12),2) -> 53.57 | H12: =MEM_LIMPEZA!H26 -> 3 | I12: =ROUND($G12*H12,2) -> 160.71 | J12: =MEM_LIMPEZA!I26 -> 6 | K12: =ROUND($G12*J12,2) -> 321.42 | N12: =IF($M12=$J$5,$K$5,IF($M12=$J$6,$K$6,$K$4)) -> 0.21082837 | O12: =ROUND(INDEX('Preços Serviços'!$B$6:$H$49,MATCH($A12,'Preços Serviços'!$A$6:$A$49,0),MATCH("PREÇO UNITÁRIO CORRIGIDO",'Preços Serviços'!B$5:$H$5,0)),2) -> 44.24 | Q12: =IF(COUNTIF($A$11:A12,A12)=1,SUMIF($A:$A,A12,$J:$J),0) -> 30 | R12: =ROUND(Q12*G12,2) -> 1607.1 | S12: =R12/$R$79 -> 5.2412771e-05 | T12: =IFERROR(VLOOKUP(R12,$Q$3:$R$5,2,1),"-") -> C
A13: =CONCATENATE(C13,D13) -> DER-ROD42046 | B13: 1.3 | C13: DER-ROD | D13: 42046 | E13: =INDEX('Preços Serviços'!$D$6:$H$49,MATCH($A13,'Preços Serviços'!$A$6:$A$49,0),MATCH(E$7,'Preços Serviços'!$D$5:$H$5,0)) -> Cones para sinalização, fornecimento e colocação | F13: =INDEX('Preços Serviços'!$D$6:$H$49,MATCH($A13,'Preços Serviços'!$A$6:$A$49,0),MATCH(F$7,'Preços Serviços'!$D$5:$H$5,0)) -> und | G13: =ROUND(O13*(1+N13),2) -> 122.61 | H13: =MEM_LIMPEZA!H35 -> 10 | I13: =ROUND($G13*H13,2) -> 1226.1 | J13: =MEM_LIMPEZA!I35 -> 20 | K13: =ROUND($G13*J13,2) -> 2452.2 | N13: =IF($M13=$J$5,$K$5,IF($M13=$J$6,$K$6,$K$4)) -> 0.21082837 | O13: =ROUND(INDEX('Preços Serviços'!$B$6:$H$49,MATCH($A13,'Preços Serviços'!$A$6:$A$49,0),MATCH("PREÇO UNITÁRIO CORRIGIDO",'Preços Serviços'!B$5:$H$5,0)),2) -> 101.26 | Q13: =IF(COUNTIF($A$11:A13,A13)=1,SUMIF($A:$A,A13,$J:$J),0) -> 100 | R13: =ROUND(Q13*G13,2) -> 12261 | S13: =R13/$R$79 -> 0.00039987119 | T13: =IFERROR(VLOOKUP(R13,$Q$3:$R$5,2,1),"-") -> C
A14: =CONCATENATE(C14,D14) | B14: 2 | E14: LIMPEZA DE CORPOS HÍDRICOS | I14: =SUBTOTAL(9,I15:I22) -> 1429790.6 | K14: =SUBTOTAL(9,K15:K22) -> 14793676
A15: =CONCATENATE(C15,D15) -> SICRO1619003 | B15: 2.1 | C15: SICRO | D15: 1619003 | E15: =INDEX('Preços Serviços'!$D$6:$H$49,MATCH($A15,'Preços Serviços'!$A$6:$A$49,0),MATCH(E$7,'Preços Serviços'!$D$5:$H$5,0)) -> Demolição mecânica de concreto armado, com escavadeira hidráulica com martelo hidráulico - sem reaproveitamento | F15: =INDEX('Preços Serviços'!$D$6:$H$49,MATCH($A15,'Preços Serviços'!$A$6:$A$49,0),MATCH(F$7,'Preços Serviços'!$D$5:$H$5,0)) -> m3 | G15: =ROUND(O15*(1+N15),2) -> 75.1 | H15: =MEM_LIMPEZA!H42 -> 196.88 | I15: =ROUND($G15*H15,2) -> 14785.69 | J15: =MEM_LIMPEZA!I42 -> 656.25 | K15: =ROUND($G15*J15,2) -> 49284.38 | N15: =IF($M15=$J$5,$K$5,IF($M15=$J$6,$K$6,$K$4)) -> 0.21082837 | O15: =ROUND(INDEX('Preços Serviços'!$B$6:$H$49,MATCH($A15,'Preços Serviços'!$A$6:$A$49,0),MATCH("PREÇO UNITÁRIO CORRIGIDO",'Preços Serviços'!B$5:$H$5,0)),2) -> 62.02 | Q15: =IF(COUNTIF($A$11:A15,A15)=1,SUMIF($A:$A,A15,$J:$J),0) -> 3281.25 | R15: =ROUND(Q15*G15,2) -> 246421.88 | S15: =R15/$R$79 -> 0.008036621 | T15: =IFERROR(VLOOKUP(R15,$Q$3:$R$5,2,1),"-") -> C
A16: =CONCATENATE(C16,D16) -> SICRO1716639 | B16: 2.2 | C16: SICRO | D16: 1716639 | E16: =INDEX('Preços Serviços'!$D$6:$H$49,MATCH($A16,'Preços Serviços'!$A$6:$A$49,0),MATCH(E$7,'Preços Serviços'!$D$5:$H$5,0)) -> Derrocagem subaquática de material de 3ª categoria - malha de 4,0 m² - perfuração e detonação - plataforma com duas torres de perfuração | F16: =INDEX('Preços Serviços'!$D$6:$H$49,MATCH($A16,'Preços Serviços'!$A$6:$A$49,0),MATCH(F$7,'Preços Serviços'!$D$5:$H$5,0)) -> m3 | G16: =ROUND(O16*(1+N16),2) -> 39.64 | H16: =MEM_LIMPEZA!H53 -> 0 | I16: =ROUND($G16*H16,2) -> 0 | J16: =MEM_LIMPEZA!I53 -> 3150 | K16: =ROUND($G16*J16,2) -> 124866 | N16: =IF($M16=$J$5,$K$5,IF($M16=$J$6,$K$6,$K$4)) -> 0.21082837 | O16: =ROUND(INDEX('Preços Serviços'!$B$6:$H$49,MATCH($A16,'Preços Serviços'!$A$6:$A$49,0),MATCH("PREÇO UNITÁRIO CORRIGIDO",'Preços Serviços'!B$5:$H$5,0)),2) -> 32.74 | Q16: =IF(COUNTIF($A$11:A20,A16)=1,SUMIF($A:$A,A16,$J:$J),0) -> 5640 | R16: =ROUND(Q16*G16,2) -> 223569.6 | S16: =R16/$R$79 -> 0.0072913336 | T16: =IFERROR(VLOOKUP(R16,$Q$3:$R$5,2,1),"-") -> C
A17: =CONCATENATE(C17,D17) -> SICRO5502663 | B17: 2.3 | C17: SICRO | D17: 5502663 | E17: =INDEX('Preços Serviços'!$D$6:$H$49,MATCH($A17,'Preços Serviços'!$A$6:$A$49,0),MATCH(E$7,'Preços Serviços'!$D$5:$H$5,0)) -> Escavação e transporte de material de 3ª categoria - DMT de 0 a 50 m | F17: =INDEX('Preços Serviços'!$D$6:$H$49,MATCH($A17,'Preços Serviços'!$A$6:$A$49,0),MATCH(F$7,'Preços Serviços'!$D$5:$H$5,0)) -> m3 | G17: =ROUND(O17*(1+N17),2) -> 27.43 | H17: =MEM_LIMPEZA!H63 -> 1456.88 | I17: =ROUND($G17*H17,2) -> 39962.22 | J17: =MEM_LIMPEZA!I63 -> 16406.25 | K17: =ROUND($G17*J17,2) -> 450023.44 | N17: =IF($M17=$J$5,$K$5,IF($M17=$J$6,$K$6,$K$4)) -> 0.21082837 | O17: =ROUND(INDEX('Preços Serviços'!$B$6:$H$49,MATCH($A17,'Preços Serviços'!$A$6:$A$49,0),MATCH("PREÇO UNITÁRIO CORRIGIDO",'Preços Serviços'!B$5:$H$5,0)),2) -> 22.65 | Q17: =IF(COUNTIF($A$11:A20,A17)=1,SUMIF($A:$A,A17,$J:$J),0) -> 46421.25 | R17: =ROUND(Q17*G17,2) -> 1273334.9 | S17: =R17/$R$79 -> 0.041527603 | T17: =IFERROR(VLOOKUP(R17,$Q$3:$R$5,2,1),"-") -> B
A18: =CONCATENATE(C18,D18) -> SICRO1917680 | B18: 2.4 | C18: SICRO | D18: 1917680 | E18: =INDEX('Preços Serviços'!$D$6:$H$49,MATCH($A18,'Preços Serviços'!$A$6:$A$49,0),MATCH(E$7,'Preços Serviços'!$D$5:$H$5,0)) -> Dragagem de material de 1ª categoria com escavadeira hidráulica - capacidade de caçamba de 1,56 m³ - DMT 0 a 50 m | F18: =INDEX('Preços Serviços'!$D$6:$H$49,MATCH($A18,'Preços Serviços'!$A$6:$A$49,0),MATCH(F$7,'Preços Serviços'!$D$5:$H$5,0)) -> m3 | G18: =ROUND(O18*(1+N18),2) -> 2 | H18: =MEM_LIMPEZA!H73 -> 88200 | I18: =ROUND($G18*H18,2) -> 176400 | J18: =MEM_LIMPEZA!I73 -> 630000 | K18: =ROUND($G18*J18,2) -> 1260000 | N18: =IF($M18=$J$5,$K$5,IF($M18=$J$6,$K$6,$K$4)) -> 0.21082837 | O18: =ROUND(INDEX('Preços Serviços'!$B$6:$H$49,MATCH($A18,'Preços Serviços'!$A$6:$A$49,0),MATCH("PREÇO UNITÁRIO CORRIGIDO",'Preços Serviços'!B$5:$H$5,0)),2) -> 1.65 | Q18: =IF(COUNTIF($A$11:A18,A18)=1,SUMIF($A:$A,A18,$J:$J),0) -> 1128000 | R18: =ROUND(Q18*G18,2) -> 2256000 | S18: =R18/$R$79 -> 0.073575516 | T18: =IFERROR(VLOOKUP(R18,$Q$3:$R$5,2,1),"-") -> B
A19: =CONCATENATE(C19,D19) -> SICRO1917656 | B19: 2.5 | C19: SICRO | D19: 1917656 | E19: =INDEX('Preços Serviços'!$D$6:$H$49,MATCH($A19,'Preços Serviços'!$A$6:$A$49,0),MATCH(E$7,'Preços Serviços'!$D$5:$H$5,0)) -> Dragagem de material de 1ª categoria com dragline - caçamba de 2,1 m³ - caminho de serviço em revestimento primário - DMT 400 a 600 m - com caminhão de 14 m³ e carregadeira | F19: =INDEX('Preços Serviços'!$D$6:$H$49,MATCH($A19,'Preços Serviços'!$A$6:$A$49,0),MATCH(F$7,'Preços Serviços'!$D$5:$H$5,0)) -> m3 | G19: =ROUND(O19*(1+N19),2) -> 14.82 | H19: =MEM_LIMPEZA!H83 -> 1260 | I19: =ROUND($G19*H19,2) -> 18673.2 | J19: =MEM_LIMPEZA!I83 -> 31500 | K19: =ROUND($G19*J19,2) -> 466830 | N19: =IF($M19=$J$5,$K$5,IF($M19=$J$6,$K$6,$K$4)) -> 0.21082837 | O19: =ROUND(INDEX('Preços Serviços'!$B$6:$H$49,MATCH($A19,'Preços Serviços'!$A$6:$A$49,0),MATCH("PREÇO UNITÁRIO CORRIGIDO",'Preços Serviços'!B$5:$H$5,0)),2) -> 12.24 | Q19: =IF(COUNTIF($A$11:A19,A19)=1,SUMIF($A:$A,A19,$J:$J),0) -> 81300 | R19: =ROUND(Q19*G19,2) -> 1204866 | S19: =R19/$R$79 -> 0.039294609 | T19: =IFERROR(VLOOKUP(R19,$Q$3:$R$5,2,1),"-") -> B
A20: =CONCATENATE(C20,D20) -> CPU1 | B20: 2.6 | C20: CPU | D20: 1 | E20: ='CPU01'!$B$3 -> Dragagem de material de 1ª categoria com equipamento anfíbio, com utilização do canal de escoamento do corpo hídrico como caminho de serviço, incluso transporte do material dragado até a margem disponível para deposição | F20: ='CPU01'!$H$3 -> m3 | G20: =ROUND(O20*(1+N20),2) -> 11.84 | H20: =MEM_LIMPEZA!H93 -> 1260 | I20: =ROUND($G20*H20,2) -> 14918.4 | J20: =MEM_LIMPEZA!I93 -> 157500 | K20: =ROUND($G20*J20,2) -> 1864800 | N20: =IF($M20=$J$5,$K$5,IF($M20=$J$6,$K$6,$K$4)) -> 0.21082837 | O20: ='CPU01'!$I$3 -> 9.78 | Q20: =IF(COUNTIF($A$11:A20,A20)=1,SUMIF($A:$A,A20,$J:$J),0) -> 207300 | R20: =ROUND(Q20*G20,2) -> 2454432 | S20: =R20/$R$79 -> 0.08004703 | T20: =IFERROR(VLOOKUP(R20,$Q$3:$R$5,2,1),"-") -> B
A21: =CONCATENATE(C21,D21) -> SICRO5914351 | B21: 2.7 | C21: SICRO | D21: 5914351 | E21: =INDEX('Preços Serviços'!$D$6:$H$49,MATCH($A21,'Preços Serviços'!$A$6:$A$49,0),MATCH(E$7,'Preços Serviços'!$D$5:$H$5,0)) -> Carga, manobra e descarga de agregados ou solos em caminhão basculante de 14 m³ - carga com carregadeira de 3,40 m³ e descarga livre | F21: =INDEX('Preços Serviços'!$D$6:$H$49,MATCH($A21,'Preços Serviços'!$A$6:$A$49,0),MATCH(F$7,'Preços Serviços'!$D$5:$H$5,0)) -> t | G21: =ROUND(O21*(1+N21),2) -> 1.68 | H21: =MEM_LIMPEZA!H103 -> 157866 | I21: =ROUND($G21*H21,2) -> 265214.88 | J21: =MEM_LIMPEZA!I103 -> 1433316 | K21: =ROUND($G21*J21,2) -> 2407970.9 | N21: =IF($M21=$J$5,$K$5,IF($M21=$J$6,$K$6,$K$4)) -> 0.21082837 | O21: =ROUND(INDEX('Preços Serviços'!$B$6:$H$49,MATCH($A21,'Preços Serviços'!$A$6:$A$49,0),MATCH("PREÇO UNITÁRIO CORRIGIDO",'Preços Serviços'!B$5:$H$5,0)),2) -> 1.39 | Q21: =IF(COUNTIF($A$11:A21,A21)=1,SUMIF($A:$A,A21,$J:$J),0) -> 2524275 | R21: =ROUND(Q21*G21,2) -> 4240782 | S21: =R21/$R$79 -> 0.13830573 | T21: =IFERROR(VLOOKUP(R21,$Q$3:$R$5,2,1),"-") -> A
A22: =CONCATENATE(C22,D22) -> SICRO5901640 | B22: 2.8 | C22: SICRO | D22: 5901640 | E22: =INDEX('Preços Serviços'!$D$6:$H$49,MATCH($A22,'Preços Serviços'!$A$6:$A$49,0),MATCH(E$7,'Preços Serviços'!$D$5:$H$5,0)) -> Transporte com caminhão basculante com caçamba estanque com capacidade de 14 m³ - rodovia pavimentada | F22: =INDEX('Preços Serviços'!$D$6:$H$49,MATCH($A22,'Preços Serviços'!$A$6:$A$49,0),MATCH(F$7,'Preços Serviços'!$D$5:$H$5,0)) -> tkm | G22: =ROUND(O22*(1+N22),2) -> 0.38 | H22: =MEM_LIMPEZA!H113 -> 2367990 | I22: =ROUND($G22*H22,2) -> 899836.2 | J22: =MEM_LIMPEZA!I113 -> 21499740 | K22: =ROUND($G22*J22,2) -> 8169901.2 | N22: =IF($M22=$J$5,$K$5,IF($M22=$J$6,$K$6,$K$4)) -> 0.21082837 | O22: =ROUND(INDEX('Preços Serviços'!$B$6:$H$49,MATCH($A22,'Preços Serviços'!$A$6:$A$49,0),MATCH("PREÇO UNITÁRIO CORRIGIDO",'Preços Serviços'!B$5:$H$5,0)),2) -> 0.31 | Q22: =IF(COUNTIF($A$11:A22,A22)=1,SUMIF($A:$A,A22,$J:$J),0) -> 48773715 | R22: =ROUND(Q22*G22,2) -> 18534012 | S22: =R22/$R$79 -> 0.60445455 | T22: =IFERROR(VLOOKUP(R22,$Q$3:$R$5,2,1),"-") -> A
A23: =CONCATENATE(C23,D23) | E23: LOTE 2 - REGIÃO NORTE | I23: =SUBTOTAL(9,I24:I36) -> 912837.64 | K23: =SUBTOTAL(9,K24:K36) -> 3080283.7
A24: =CONCATENATE(C24,D24) | B24: 1 | E24: CANTEIRO DE OBRAS | I24: =SUBTOTAL(9,I25:I27) -> 22895.61 | K24: =SUBTOTAL(9,K25:K27) -> 45791.22
A25: =CONCATENATE(C25,D25) -> CESAN7010100210 | B25: 1.1 | C25: CESAN | D25: 7010100210 | E25: =INDEX('Preços Serviços'!$D$6:$H$49,MATCH($A25,'Preços Serviços'!$A$6:$A$49,0),MATCH(E$7,'Preços Serviços'!$D$5:$H$5,0)) -> Banheiro Quimico | F25: =INDEX('Preços Serviços'!$D$6:$H$49,MATCH($A25,'Preços Serviços'!$A$6:$A$49,0),MATCH(F$7,'Preços Serviços'!$D$5:$H$5,0)) -> unm | G25: =ROUND(O25*(1+N25),2) -> 1792.4 | H25: =MEM_LIMPEZA!H18 -> 12 | I25: =ROUND($G25*H25,2) -> 21508.8 | J25: =MEM_LIMPEZA!I18 -> 24 | K25: =ROUND($G25*J25,2) -> 43017.6 | N25: =IF($M25=$J$5,$K$5,IF($M25=$J$6,$K$6,$K$4)) -> 0.21082837 | O25: =ROUND(INDEX('Preços Serviços'!$B$6:$H$49,MATCH($A25,'Preços Serviços'!$A$6:$A$49,0),MATCH("PREÇO UNITÁRIO CORRIGIDO",'Preços Serviços'!B$5:$H$5,0)),2) -> 1480.31 | Q25: =IF(COUNTIF($A$11:A25,A25)=1,SUMIF($A:$A,A25,$J:$J),0) -> 0 | R25: =ROUND(Q25*G25,2) -> 0 | S25: =R25/$R$79 -> 0 | T25: =IFERROR(VLOOKUP(R25,$Q$3:$R$5,2,1),"-") -> -
A26: =CONCATENATE(C26,D26) -> SICRO5212556 | B26: 1.2 | C26: SICRO | D26: 5212556 | E26: =INDEX('Preços Serviços'!$D$6:$H$49,MATCH($A26,'Preços Serviços'!$A$6:$A$49,0),MATCH(E$7,'Preços Serviços'!$D$5:$H$5,0)) -> Placa para sinalização de obras montada em cavalete metálico - 1,00 x 1,00 m | F26: =INDEX('Preços Serviços'!$D$6:$H$49,MATCH($A26,'Preços Serviços'!$A$6:$A$49,0),MATCH(F$7,'Preços Serviços'!$D$5:$H$5,0)) -> und | G26: =ROUND(O26*(1+N26),2) -> 53.57 | H26: =MEM_LIMPEZA!H27 -> 3 | I26: =ROUND($G26*H26,2) -> 160.71 | J26: =MEM_LIMPEZA!I27 -> 6 | K26: =ROUND($G26*J26,2) -> 321.42 | N26: =IF($M26=$J$5,$K$5,IF($M26=$J$6,$K$6,$K$4)) -> 0.21082837 | O26: =ROUND(INDEX('Preços Serviços'!$B$6:$H$49,MATCH($A26,'Preços Serviços'!$A$6:$A$49,0),MATCH("PREÇO UNITÁRIO CORRIGIDO",'Preços Serviços'!B$5:$H$5,0)),2) -> 44.24 | Q26: =IF(COUNTIF($A$11:A26,A26)=1,SUMIF($A:$A,A26,$J:$J),0) -> 0 | R26: =ROUND(Q26*G26,2) -> 0 | S26: =R26/$R$79 -> 0 | T26: =IFERROR(VLOOKUP(R26,$Q$3:$R$5,2,1),"-") -> -
A27: =CONCATENATE(C27,D27) -> DER-ROD42046 | B27: 1.3 | C27: DER-ROD | D27: 42046 | E27: =INDEX('Preços Serviços'!$D$6:$H$49,MATCH($A27,'Preços Serviços'!$A$6:$A$49,0),MATCH(E$7,'Preços Serviços'!$D$5:$H$5,0)) -> Cones para sinalização, fornecimento e colocação | F27: =INDEX('Preços Serviços'!$D$6:$H$49,MATCH($A27,'Preços Serviços'!$A$6:$A$49,0),MATCH(F$7,'Preços Serviços'!$D$5:$H$5,0)) -> und | G27: =ROUND(O27*(1+N27),2) -> 122.61 | H27: =MEM_LIMPEZA!H36 -> 10 | I27: =ROUND($G27*H27,2) -> 1226.1 | J27: =MEM_LIMPEZA!I36 -> 20 | K27: =ROUND($G27*J27,2) -> 2452.2 | N27: =IF($M27=$J$5,$K$5,IF($M27=$J$6,$K$6,$K$4)) -> 0.21082837 | O27: =ROUND(INDEX('Preços Serviços'!$B$6:$H$49,MATCH($A27,'Preços Serviços'!$A$6:$A$49,0),MATCH("PREÇO UNITÁRIO CORRIGIDO",'Preços Serviços'!B$5:$H$5,0)),2) -> 101.26 | Q27: =IF(COUNTIF($A$11:A27,A27)=1,SUMIF($A:$A,A27,$J:$J),0) -> 0 | R27: =ROUND(Q27*G27,2) -> 0 | S27: =R27/$R$79 -> 0 | T27: =IFERROR(VLOOKUP(R27,$Q$3:$R$5,2,1),"-") -> -
A28: =CONCATENATE(C28,D28) | B28: 2 | E28: LIMPEZA DE CORPOS HÍDRICOS | I28: =SUBTOTAL(9,I29:I36) -> 889942.03 | K28: =SUBTOTAL(9,K29:K36) -> 3034492.5
A29: =CONCATENATE(C29,D29) -> SICRO1619003 | B29: 2.1 | C29: SICRO | D29: 1619003 | E29: =INDEX('Preços Serviços'!$D$6:$H$49,MATCH($A29,'Preços Serviços'!$A$6:$A$49,0),MATCH(E$7,'Preços Serviços'!$D$5:$H$5,0)) -> Demolição mecânica de concreto armado, com escavadeira hidráulica com martelo hidráulico - sem reaproveitamento | F29: =INDEX('Preços Serviços'!$D$6:$H$49,MATCH($A29,'Preços Serviços'!$A$6:$A$49,0),MATCH(F$7,'Preços Serviços'!$D$5:$H$5,0)) -> m3 | G29: =ROUND(O29*(1+N29),2) -> 75.1 | H29: =MEM_LIMPEZA!H42 -> 196.88 | I29: =ROUND($G29*H29,2) -> 14785.69 | J29: =MEM_LIMPEZA!I42 -> 656.25 | K29: =ROUND($G29*J29,2) -> 49284.38 | N29: =IF($M29=$J$5,$K$5,IF($M29=$J$6,$K$6,$K$4)) -> 0.21082837 | O29: =ROUND(INDEX('Preços Serviços'!$B$6:$H$49,MATCH($A29,'Preços Serviços'!$A$6:$A$49,0),MATCH("PREÇO UNITÁRIO CORRIGIDO",'Preços Serviços'!B$5:$H$5,0)),2) -> 62.02 | Q29: =IF(COUNTIF($A$11:A29,A29)=1,SUMIF($A:$A,A29,$J:$J),0) -> 0 | R29: =ROUND(Q29*G29,2) -> 0 | S29: =R29/$R$79 -> 0 | T29: =IFERROR(VLOOKUP(R29,$Q$3:$R$5,2,1),"-") -> -
A30: =CONCATENATE(C30,D30) -> SICRO1716639 | B30: 2.2 | C30: SICRO | D30: 1716639 | E30: =INDEX('Preços Serviços'!$D$6:$H$49,MATCH($A30,'Preços Serviços'!$A$6:$A$49,0),MATCH(E$7,'Preços Serviços'!$D$5:$H$5,0)) -> Derrocagem subaquática de material de 3ª categoria - malha de 4,0 m² - perfuração e detonação - plataforma com duas torres de perfuração | F30: =INDEX('Preços Serviços'!$D$6:$H$49,MATCH($A30,'Preços Serviços'!$A$6:$A$49,0),MATCH(F$7,'Preços Serviços'!$D$5:$H$5,0)) -> m3 | G30: =ROUND(O30*(1+N30),2) -> 39.64 | H30: =MEM_LIMPEZA!H54 -> 0 | I30: =ROUND($G30*H30,2) -> 0 | J30: =MEM_LIMPEZA!I54 -> 480 | K30: =ROUND($G30*J30,2) -> 19027.2 | N30: =IF($M30=$J$5,$K$5,IF($M30=$J$6,$K$6,$K$4)) -> 0.21082837 | O30: =ROUND(INDEX('Preços Serviços'!$B$6:$H$49,MATCH($A30,'Preços Serviços'!$A$6:$A$49,0),MATCH("PREÇO UNITÁRIO CORRIGIDO",'Preços Serviços'!B$5:$H$5,0)),2) -> 32.74 | Q30: =IF(COUNTIF($A$11:A34,A30)=1,SUMIF($A:$A,A30,$J:$J),0) -> 0 | R30: =ROUND(Q30*G30,2) -> 0 | S30: =R30/$R$79 -> 0 | T30: =IFERROR(VLOOKUP(R30,$Q$3:$R$5,2,1),"-") -> -
A31: =CONCATENATE(C31,D31) -> SICRO5502663 | B31: 2.3 | C31: SICRO | D31: 5502663 | E31: =INDEX('Preços Serviços'!$D$6:$H$49,MATCH($A31,'Preços Serviços'!$A$6:$A$49,0),MATCH(E$7,'Preços Serviços'!$D$5:$H$5,0)) -> Escavação e transporte de material de 3ª categoria - DMT de 0 a 50 m | F31: =INDEX('Preços Serviços'!$D$6:$H$49,MATCH($A31,'Preços Serviços'!$A$6:$A$49,0),MATCH(F$7,'Preços Serviços'!$D$5:$H$5,0)) -> m3 | G31: =ROUND(O31*(1+N31),2) -> 27.43 | H31: =MEM_LIMPEZA!H64 -> 676.88 | I31: =ROUND($G31*H31,2) -> 18566.82 | J31: =MEM_LIMPEZA!I64 -> 5936.25 | K31: =ROUND($G31*J31,2) -> 162831.34 | N31: =IF($M31=$J$5,$K$5,IF($M31=$J$6,$K$6,$K$4)) -> 0.21082837 | O31: =ROUND(INDEX('Preços Serviços'!$B$6:$H$49,MATCH($A31,'Preços Serviços'!$A$6:$A$49,0),MATCH("PREÇO UNITÁRIO CORRIGIDO",'Preços Serviços'!B$5:$H$5,0)),2) -> 22.65 | Q31: =IF(COUNTIF($A$11:A34,A31)=1,SUMIF($A:$A,A31,$J:$J),0) -> 0 | R31: =ROUND(Q31*G31,2) -> 0 | S31: =R31/$R$79 -> 0 | T31: =IFERROR(VLOOKUP(R31,$Q$3:$R$5,2,1),"-") -> -
A32: =CONCATENATE(C32,D32) -> SICRO1917680 | B32: 2.4 | C32: SICRO | D32: 1917680 | E32: =INDEX('Preços Serviços'!$D$6:$H$49,MATCH($A32,'Preços Serviços'!$A$6:$A$49,0),MATCH(E$7,'Preços Serviços'!$D$5:$H$5,0)) -> Dragagem de material de 1ª categoria com escavadeira hidráulica - capacidade de caçamba de 1,56 m³ - DMT 0 a 50 m | F32: =INDEX('Preços Serviços'!$D$6:$H$49,MATCH($A32,'Preços Serviços'!$A$6:$A$49,0),MATCH(F$7,'Preços Serviços'!$D$5:$H$5,0)) -> m3 | G32: =ROUND(O32*(1+N32),2) -> 2 | H32: =MEM_LIMPEZA!H74 -> 38400 | I32: =ROUND($G32*H32,2) -> 76800 | J32: =MEM_LIMPEZA!I74 -> 96000 | K32: =ROUND($G32*J32,2) -> 192000 | N32: =IF($M32=$J$5,$K$5,IF($M32=$J$6,$K$6,$K$4)) -> 0.21082837 | O32: =ROUND(INDEX('Preços Serviços'!$B$6:$H$49,MATCH($A32,'Preços Serviços'!$A$6:$A$49,0),MATCH("PREÇO UNITÁRIO CORRIGIDO",'Preços Serviços'!B$5:$H$5,0)),2) -> 1.65 | Q32: =IF(COUNTIF($A$11:A32,A32)=1,SUMIF($A:$A,A32,$J:$J),0) -> 0 | R32: =ROUND(Q32*G32,2) -> 0 | S32: =R32/$R$79 -> 0 | T32: =IFERROR(VLOOKUP(R32,$Q$3:$R$5,2,1),"-") -> -
A33: =CONCATENATE(C33,D33) -> SICRO1917656 | B33: 2.5 | C33: SICRO | D33: 1917656 | E33: =INDEX('Preços Serviços'!$D$6:$H$49,MATCH($A33,'Preços Serviços'!$A$6:$A$49,0),MATCH(E$7,'Preços Serviços'!$D$5:$H$5,0)) -> Dragagem de material de 1ª categoria com dragline - caçamba de 2,1 m³ - caminho de serviço em revestimento primário - DMT 400 a 600 m - com caminhão de 14 m³ e carregadeira | F33: =INDEX('Preços Serviços'!$D$6:$H$49,MATCH($A33,'Preços Serviços'!$A$6:$A$49,0),MATCH(F$7,'Preços Serviços'!$D$5:$H$5,0)) -> m3 | G33: =ROUND(O33*(1+N33),2) -> 14.82 | H33: =MEM_LIMPEZA!H84 -> 480 | I33: =ROUND($G33*H33,2) -> 7113.6 | J33: =MEM_LIMPEZA!I84 -> 9600 | K33: =ROUND($G33*J33,2) -> 142272 | N33: =IF($M33=$J$5,$K$5,IF($M33=$J$6,$K$6,$K$4)) -> 0.21082837 | O33: =ROUND(INDEX('Preços Serviços'!$B$6:$H$49,MATCH($A33,'Preços Serviços'!$A$6:$A$49,0),MATCH("PREÇO UNITÁRIO CORRIGIDO",'Preços Serviços'!B$5:$H$5,0)),2) -> 12.24 | Q33: =IF(COUNTIF($A$11:A33,A33)=1,SUMIF($A:$A,A33,$J:$J),0) -> 0 | R33: =ROUND(Q33*G33,2) -> 0 | S33: =R33/$R$79 -> 0 | T33: =IFERROR(VLOOKUP(R33,$Q$3:$R$5,2,1),"-") -> -
A34: =CONCATENATE(C34,D34) -> CPU1 | B34: 2.6 | C34: CPU | D34: 1 | E34: ='CPU01'!$B$3 -> Dragagem de material de 1ª categoria com equipamento anfíbio, com utilização do canal de escoamento do corpo hídrico como caminho de serviço, incluso transporte do material dragado até a margem disponível para deposição | F34: ='CPU01'!$H$3 -> m3 | G34: =ROUND(O34*(1+N34),2) -> 11.84 | H34: =MEM_LIMPEZA!H94 -> 480 | I34: =ROUND($G34*H34,2) -> 5683.2 | J34: =MEM_LIMPEZA!I94 -> 9600 | K34: =ROUND($G34*J34,2) -> 113664 | N34: =IF($M34=$J$5,$K$5,IF($M34=$J$6,$K$6,$K$4)) -> 0.21082837 | O34: ='CPU01'!$I$3 -> 9.78 | Q34: =IF(COUNTIF($A$11:A34,A34)=1,SUMIF($A:$A,A34,$J:$J),0) -> 0 | R34: =ROUND(Q34*G34,2) -> 0 | S34: =R34/$R$79 -> 0 | T34: =IFERROR(VLOOKUP(R34,$Q$3:$R$5,2,1),"-") -> -
A35: =CONCATENATE(C35,D35) -> SICRO5914351 | B35: 2.7 | C35: SICRO | D35: 5914351 | E35: =INDEX('Preços Serviços'!$D$6:$H$49,MATCH($A35,'Preços Serviços'!$A$6:$A$49,0),MATCH(E$7,'Preços Serviços'!$D$5:$H$5,0)) -> Carga, manobra e descarga de agregados ou solos em caminhão basculante de 14 m³ - carga com carregadeira de 3,40 m³ e descarga livre | F35: =INDEX('Preços Serviços'!$D$6:$H$49,MATCH($A35,'Preços Serviços'!$A$6:$A$49,0),MATCH(F$7,'Preços Serviços'!$D$5:$H$5,0)) -> t | G35: =ROUND(O35*(1+N35),2) -> 1.68 | H35: =MEM_LIMPEZA!H104 -> 68604 | I35: =ROUND($G35*H35,2) -> 115254.72 | J35: =MEM_LIMPEZA!I104 -> 210681 | K35: =ROUND($G35*J35,2) -> 353944.08 | N35: =IF($M35=$J$5,$K$5,IF($M35=$J$6,$K$6,$K$4)) -> 0.21082837 | O35: =ROUND(INDEX('Preços Serviços'!$B$6:$H$49,MATCH($A35,'Preços Serviços'!$A$6:$A$49,0),MATCH("PREÇO UNITÁRIO CORRIGIDO",'Preços Serviços'!B$5:$H$5,0)),2) -> 1.39 | Q35: =IF(COUNTIF($A$11:A35,A35)=1,SUMIF($A:$A,A35,$J:$J),0) -> 0 | R35: =ROUND(Q35*G35,2) -> 0 | S35: =R35/$R$79 -> 0 | T35: =IFERROR(VLOOKUP(R35,$Q$3:$R$5,2,1),"-") -> -
A36: =CONCATENATE(C36,D36) -> SICRO5901640 | B36: 2.8 | C36: SICRO | D36: 5901640 | E36: =INDEX('Preços Serviços'!$D$6:$H$49,MATCH($A36,'Preços Serviços'!$A$6:$A$49,0),MATCH(E$7,'Preços Serviços'!$D$5:$H$5,0)) -> Transporte com caminhão basculante com caçamba estanque com capacidade de 14 m³ - rodovia pavimentada | F36: =INDEX('Preços Serviços'!$D$6:$H$49,MATCH($A36,'Preços Serviços'!$A$6:$A$49,0),MATCH(F$7,'Preços Serviços'!$D$5:$H$5,0)) -> tkm | G36: =ROUND(O36*(1+N36),2) -> 0.38 | H36: =MEM_LIMPEZA!H114 -> 1715100 | I36: =ROUND($G36*H36,2) -> 651738 | J36: =MEM_LIMPEZA!I114 -> 5267025 | K36: =ROUND($G36*J36,2) -> 2001469.5 | N36: =IF($M36=$J$5,$K$5,IF($M36=$J$6,$K$6,$K$4)) -> 0.21082837 | O36: =ROUND(INDEX('Preços Serviços'!$B$6:$H$49,MATCH($A36,'Preços Serviços'!$A$6:$A$49,0),MATCH("PREÇO UNITÁRIO CORRIGIDO",'Preços Serviços'!B$5:$H$5,0)),2) -> 0.31 | Q36: =IF(COUNTIF($A$11:A36,A36)=1,SUMIF($A:$A,A36,$J:$J),0) -> 0 | R36: =ROUND(Q36*G36,2) -> 0 | S36: =R36/$R$79 -> 0 | T36: =IFERROR(VLOOKUP(R36,$Q$3:$R$5,2,1),"-") -> -
A37: =CONCATENATE(C37,D37) | E37: LOTE 3 - REGIÃO CENTRAL | I37: =SUBTOTAL(9,I38:I50) -> 912837.64 | K37: =SUBTOTAL(9,K38:K50) -> 3080283.7
A38: =CONCATENATE(C38,D38) | B38: 1 | E38: CANTEIRO DE OBRAS | I38: =SUBTOTAL(9,I39:I41) -> 22895.61 | K38: =SUBTOTAL(9,K39:K41) -> 45791.22
A39: =CONCATENATE(C39,D39) -> CESAN7010100210 | B39: 1.1 | C39: CESAN | D39: 7010100210 | E39: =INDEX('Preços Serviços'!$D$6:$H$49,MATCH($A39,'Preços Serviços'!$A$6:$A$49,0),MATCH(E$7,'Preços Serviços'!$D$5:$H$5,0)) -> Banheiro Quimico | F39: =INDEX('Preços Serviços'!$D$6:$H$49,MATCH($A39,'Preços Serviços'!$A$6:$A$49,0),MATCH(F$7,'Preços Serviços'!$D$5:$H$5,0)) -> unm | G39: =ROUND(O39*(1+N39),2) -> 1792.4 | H39: =MEM_LIMPEZA!H19 -> 12 | I39: =ROUND($G39*H39,2) -> 21508.8 | J39: =MEM_LIMPEZA!I19 -> 24 | K39: =ROUND($G39*J39,2) -> 43017.6 | N39: =IF($M39=$J$5,$K$5,IF($M39=$J$6,$K$6,$K$4)) -> 0.21082837 | O39: =ROUND(INDEX('Preços Serviços'!$B$6:$H$49,MATCH($A39,'Preços Serviços'!$A$6:$A$49,0),MATCH("PREÇO UNITÁRIO CORRIGIDO",'Preços Serviços'!B$5:$H$5,0)),2) -> 1480.31 | Q39: =IF(COUNTIF($A$11:A39,A39)=1,SUMIF($A:$A,A39,$J:$J),0) -> 0 | R39: =ROUND(Q39*G39,2) -> 0 | S39: =R39/$R$79 -> 0 | T39: =IFERROR(VLOOKUP(R39,$Q$3:$R$5,2,1),"-") -> -
A40: =CONCATENATE(C40,D40) -> SICRO5212556 | B40: 1.2 | C40: SICRO | D40: 5212556 | E40: =INDEX('Preços Serviços'!$D$6:$H$49,MATCH($A40,'Preços Serviços'!$A$6:$A$49,0),MATCH(E$7,'Preços Serviços'!$D$5:$H$5,0)) -> Placa para sinalização de obras montada em cavalete metálico - 1,00 x 1,00 m | F40: =INDEX('Preços Serviços'!$D$6:$H$49,MATCH($A40,'Preços Serviços'!$A$6:$A$49,0),MATCH(F$7,'Preços Serviços'!$D$5:$H$5,0)) -> und | G40: =ROUND(O40*(1+N40),2) -> 53.57 | H40: =MEM_LIMPEZA!H28 -> 3 | I40: =ROUND($G40*H40,2) -> 160.71 | J40: =MEM_LIMPEZA!I28 -> 6 | K40: =ROUND($G40*J40,2) -> 321.42 | N40: =IF($M40=$J$5,$K$5,IF($M40=$J$6,$K$6,$K$4)) -> 0.21082837 | O40: =ROUND(INDEX('Preços Serviços'!$B$6:$H$49,MATCH($A40,'Preços Serviços'!$A$6:$A$49,0),MATCH("PREÇO UNITÁRIO CORRIGIDO",'Preços Serviços'!B$5:$H$5,0)),2) -> 44.24 | Q40: =IF(COUNTIF($A$11:A40,A40)=1,SUMIF($A:$A,A40,$J:$J),0) -> 0 | R40: =ROUND(Q40*G40,2) -> 0 | S40: =R40/$R$79 -> 0 | T40: =IFERROR(VLOOKUP(R40,$Q$3:$R$5,2,1),"-") -> -
...

Sheet MEM_LIMPEZA
A2: CONSIDERAÇÕES
A3: Para estimativa de quantidades foi tomado por base as extensões e larguras dos canais do município de Vila Velha, mapeados topograficamente no bojo do processo nº 67239870, relacionado a contratação dos projetos de macrodrenagem, tendo por contratada a empresa Quanta. Para a altura média de resíduos retirados dos canais e demais corpos hídricos, foi considerado aqueles acumulados no canal acima da sua cota de fundo, provenientes de assoreamentos diversos, inclusive deposição de lixo. Dessa forma, foi considerado que a retirada desses materiais acima da cota de fundo geraria uma altura média de resíduos distribuídos na área dragada: Lote 1: no mínimo 20cm e, no máximo, 100cm. Lotes 2 a 5: no mínimo 20cm e, no máximo, 40cm.
A4: LOTE | C4: LARGURA MÉDIA | D4: EXTENSÃO ESTIMADA | E4: DRAGAGEM | H4: PREVISÕES
C5: m | D5: m | E5: Escavadeira Hidráulica | F5: Dragline | G5: Anfíbio | H5: Material 3ª cat. | I5: Derrocagem
A6: 1 - Região Metropolitana | C6: 15 | D6: 42000 | E6: 0.7 | F6: 0.05 | G6: 0.25 | H6: 0.02 | I6: 0.005
A7: 2 - Região Norte | C7: 15 | D7: 16000 | E7: 0.8 | F7: 0.1 | G7: 0.1 | H7: 0.05 | I7: 0.005
A8: 3 - Região Central | C8: 15 | D8: 16000 | E8: 0.8 | F8: 0.1 | G8: 0.1 | H8: 0.05 | I8: 0.005
A9: 4 - Região Serrana | C9: 15 | D9: 24000 | E9: 0.8 | F9: 0.1 | G9: 0.1 | H9: 0.05 | I9: 0.005
A10: 5 - Região Sul | C10: 15 | D10: 27000 | E10: 0.8 | F10: 0.1 | G10: 0.1 | H10: 0.05 | I10: 0.005
A12: ITEM | B12: DESCRIÇÃO | G12: UND. | H12: QUANTMÍN | I12: QUANTMAX
A13: 1 | B13: =INDEX(ORÇAMENTO!$E$10:$F$22,MATCH($A13,ORÇAMENTO!$B$10:$B$22,0),MATCH(B$12,ORÇAMENTO!$E$7:$K$7,0)) -> CANTEIRO DE OBRAS
A14: 1.1 | B14: =INDEX(ORÇAMENTO!$E$10:$F$22,MATCH($A14,ORÇAMENTO!$B$10:$B$22,0),MATCH(B$12,ORÇAMENTO!$E$7:$K$7,0)) -> Banheiro Quimico | G14: =INDEX(ORÇAMENTO!$E$10:$F$22,MATCH($A14,ORÇAMENTO!$B$10:$B$22,0),MATCH(G$12,ORÇAMENTO!$E$7:$K$7,0)) -> unm | H14: =ROUND(SUM(H17:H21),2) -> 60 | I14: =ROUND(SUM(I17:I21),2) -> 120
A15: DESCRIÇÃO | C15: QUANTMÍN | D15: QUANTMAX | E15: CRONOGRAMA | H15: TOTALMÍN | I15: TOTALMAX
C16: und | D16: und | E16: mês | H16: unm | I16: unm
A17: LOTE 1 | C17: 1 | D17: 2 | E17: 12 | H17: =C17*E17 -> 12 | I17: =D17*E17 -> 24
A18: LOTE 2 | C18: 1 | D18: 2 | E18: 12 | H18: =C18*E18 -> 12 | I18: =D18*E18 -> 24
A19: LOTE 3 | C19: 1 | D19: 2 | E19: 12 | H19: =C19*E19 -> 12 | I19: =D19*E19 -> 24
A20: LOTE 4 | C20: 1 | D20: 2 | E20: 12 | H20: =C20*E20 -> 12 | I20: =D20*E20 -> 24
A21: LOTE 5 | C21: 1 | D21: 2 | E21: 12 | H21: =C21*E21 -> 12 | I21: =D21*E21 -> 24
A23: 1.2 | B23: =INDEX(ORÇAMENTO!$E$10:$F$22,MATCH($A23,ORÇAMENTO!$B$10:$B$22,0),MATCH(B$12,ORÇAMENTO!$E$7:$K$7,0)) -> Placa para sinalização de obras montada em cavalete metálico - 1,00 x 1,00 m | G23: =INDEX(ORÇAMENTO!$E$10:$F$22,MATCH($A23,ORÇAMENTO!$B$10:$B$22,0),MATCH(G$12,ORÇAMENTO!$E$7:$K$7,0)) -> und | H23: =ROUND(SUM(H26:H30),2) -> 15 | I23: =ROUND(SUM(I26:I30),2) -> 30
A24: DESCRIÇÃO | C24: QUANTMÍN | D24: QUANTMAX | H24: TOTALMÍN | I24: TOTALMAX
C25: und | D25: und | H25: unm | I25: unm
A26: LOTE 1 | C26: 3 | D26: 6 | H26: =C26 -> 3 | I26: =D26 -> 6
A27: LOTE 2 | C27: 3 | D27: 6 | H27: =C27 -> 3 | I27: =D27 -> 6
A28: LOTE 3 | C28: 3 | D28: 6 | H28: =C28 -> 3 | I28: =D28 -> 6
A29: LOTE 4 | C29: 3 | D29: 6 | H29: =C29 -> 3 | I29: =D29 -> 6
A30: LOTE 5 | C30: 3 | D30: 6 | H30: =C30 -> 3 | I30: =D30 -> 6
A32: 1.3 | B32: =INDEX(ORÇAMENTO!$E$10:$F$22,MATCH($A32,ORÇAMENTO!$B$10:$B$22,0),MATCH(B$12,ORÇAMENTO!$E$7:$K$7,0)) -> Cones para sinalização, fornecimento e colocação | G32: =INDEX(ORÇAMENTO!$E$10:$F$22,MATCH($A32,ORÇAMENTO!$B$10:$B$22,0),MATCH(G$12,ORÇAMENTO!$E$7:$K$7,0)) -> und | H32: =ROUND(SUM(H35:H39),2) -> 50 | I32: =ROUND(SUM(I35:I39),2) -> 100
A33: DESCRIÇÃO | C33: QUANTMÍN | D33: QUANTMAX | H33: TOTALMÍN | I33: TOTALMAX
C34: und | D34: und | H34: unm | I34: unm
A35: LOTE 1 | C35: 10 | D35: 20 | H35: =C35 -> 10 | I35: =D35 -> 20
A36: LOTE 2 | C36: 10 | D36: 20 | H36: =C36 -> 10 | I36: =D36 -> 20
A37: LOTE 3 | C37: 10 | D37: 20 | H37: =C37 -> 10 | I37: =D37 -> 20
A38: LOTE 4 | C38: 10 | D38: 20 | H38: =C38 -> 10 | I38: =D38 -> 20
A39: LOTE 5 | C39: 10 | D39: 20 | H39: =C39 -> 10 | I39: =D39 -> 20
A41: 2 | B41: =INDEX(ORÇAMENTO!$E$10:$F$22,MATCH($A41,ORÇAMENTO!$B$10:$B$22,0),MATCH(B$12,ORÇAMENTO!$E$7:$K$7,0)) -> LIMPEZA DE CORPOS HÍDRICOS
A42: 2.1 | B42: =INDEX(ORÇAMENTO!$E$10:$F$22,MATCH($A42,ORÇAMENTO!$B$10:$B$22,0),MATCH(B$12,ORÇAMENTO!$E$7:$K$7,0)) -> Demolição mecânica de concreto armado, com escavadeira hidráulica com martelo hidráulico - sem reaproveitamento | G42: =INDEX(ORÇAMENTO!$E$10:$F$22,MATCH($A42,ORÇAMENTO!$B$10:$B$22,0),MATCH(G$12,ORÇAMENTO!$E$7:$K$7,0)) -> m3 | H42: =ROUND(SUM(H46:H47),2) -> 196.88 | I42: =ROUND(SUM(I46:I47),2) -> 656.25
A43: Consideramos ser necessário realizar demolições de elementos de concreto nas margens dos canais. PARA TODOS OS LOTES.
A44: DESCRIÇÃO | C44: EXTENSÃO | D44: ESPESSURA | E44: LARGURA | H44: TOTALMÍN | I44: TOTALMAX
C45: m | D45: m | E45: m | F45: % | H45: m³ | I45: m³
...

Sheet MEMORIAL 
A2: SISTEMA DE MACRODRENAGEM VILA VELHA
A3: DRAGAGEM
A4: MEMORIAL DE CÁLCULO COMPLEMENTAR
A6: ITENS | B6: LOCAL | C6: ESTACAS | D6: EXTENSÃO (m) | E6: LAGURA MÉDIA (m) | F6: MARGENS DO CANAL (m) | G6: ALTURA DE DRAGAGEM (m) | H6: VOLUME DRAGADO CANAL (M3) | I6: VOLUME DRAGADO BUEIRO (M3) | J6: VOLUME DRAGADO TRANSPORTADO - CANAL (M3) | K6: VOLUME DRAGADO TRANSPORTADO - BUEIRO (M3) | L6: DESTINAÇÃO FINAL - CANAL (T) | M6: DESTINAÇÃO FINAL - BUEIRO (T) | N6: REMOÇÃO DE VEGETAÇÃO AQUÁTICA - LEITO DO CANAL (M2) | O6: REMOÇÃO DE CAMADA VEGETAL - MARGENS DO CANAL (M2) | P6: PROFUNDIDADE (M)
D7: A | E7: B | F7: C | G7: D | H7: E=AxBxD | I7: F=AxBxD | J7: G=E | K7: H=F | L7: I=G*1,60 | M7: J=H*1,60 | N7: K=A*B | O7: L=A*C*2 | P7: K
A8: 1 | B8: BACIA DO CANAL JARDIM DE ALAH | C8: Canal Jardim de Alah Ramo 1 - Trecho 1 | D8: 562.54 | E8: =(15.8+11)/2 -> 13.4 | F8: 10 | G8: 0.5 | H8: =D8*E8*G8 -> 3769.018 | J8: =H8 -> 3769.018 | K8: =I8 -> 0 | L8: =J8*1.6 -> 6030.4288 | M8: =K8*1.6 -> 0 | N8: =D8*E8 -> 7538.036 | O8: =D8*F8*2 -> 11250.8 | P8: 1.6
C9: Canal Jardim de Alah Ramo 1 - Trecho 2 | D9: 887.52 | E9: =(28.2+21.8)/2 -> 25 | F9: 10 | G9: 0.5 | H9: =D9*E9*G9 -> 11094 | J9: =H9 -> 11094 | K9: =I9 -> 0 | L9: =J9*1.6 -> 17750.4 | M9: =K9*1.6 -> 0 | N9: =D9*E9 -> 22188 | O9: =D9*F9*2 -> 17750.4 | P9: 1.6
C10: Canal Jardim de Alah Ramo 2 -Trecho 1 | D10: 1050 | E10: =(5.5+1)/2 -> 3.25 | F10: 10 | G10: 0.5 | H10: =D10*E10*G10 -> 1706.25 | J10: =H10 -> 1706.25 | K10: =I10 -> 0 | L10: =J10*1.6 -> 2730 | M10: =K10*1.6 -> 0 | N10: =D10*E10 -> 3412.5 | O10: =D10*F10*2 -> 21000 | P10: 3
C11: Galeria - BDTC - 2x2m - Ramo 2 - Trecho 2 | D11: 833 | E11: 2 | F11: 10 | G11: 0.5 | I11: =D11*E11*G11 -> 833 | J11: =H11 -> 0 | K11: =I11 -> 833 | L11: =J11*1.6 -> 0 | M11: =K11*1.6 -> 1332.8 | O11: =D11*F11*2 -> 16660 | P11: 1.23
C12: Galeria - BDTC - 2x2m - Ramo 3 | D12: 765 | E12: 2 | F12: 10 | G12: 0.5 | I12: =D12*E12*G12 -> 765 | J12: =H12 -> 0 | K12: =I12 -> 765 | L12: =J12*1.6 -> 0 | M12: =K12*1.6 -> 1224 | O12: =D12*F12*2 -> 15300 | P12: 1.23
B13: BACIA DO CANAL DA COSTA | C13: Canal da Costa | D13: =916+280+758+2618 -> 4572 | E13: 8 | F13: 10 | G13: 0.5 | H13: =D13*E13*G13 -> 18288 | J13: =H13 -> 18288 | K13: =I13 -> 0 | L13: =J13*1.6 -> 29260.8 | M13: =K13*1.6 -> 0 | N13: =D13*E13 -> 36576 | O13: =D13*F13*2 -> 91440 | P13: 3
C14: Galeria - BDCC - 4x3m | D14: =635+1186 -> 1821 | E14: 4 | F14: 10 | G14: 0.5 | I14: =D14*E14*G14 -> 3642 | J14: =H14 -> 0 | K14: =I14 -> 3642 | L14: =J14*1.6 -> 0 | M14: =K14*1.6 -> 5827.2 | O14: =D14*F14*2 -> 36420 | P14: 3
C15: Canal capixaba | D15: =352+205+354+1063 -> 1974 | E15: 8 | F15: 10 | G15: 0.5 | H15: =D15*E15*G15 -> 7896 | J15: =H15 -> 7896 | K15: =I15 -> 0 | L15: =J15*1.6 -> 12633.6 | M15: =K15*1.6 -> 0 | N15: =D15*E15 -> 15792 | O15: =D15*F15*2 -> 39480 | P15: 3
C16: Galeria Centro - BTCC - 3x3 m | D16: 945 | E16: 3 | F16: 10 | G16: 0.5 | I16: =D16*E16*G16 -> 1417.5 | J16: =H16 -> 0 | K16: =I16 -> 1417.5 | L16: =J16*1.6 -> 0 | M16: =K16*1.6 -> 2268 | O16: =D16*F16*2 -> 18900 | P16: 3
C17: Galeria - BDCC - 3x3m | D17: =669 -> 669 | E17: 3 | F17: 10 | G17: 0.5 | I17: =D17*E17*G17 -> 1003.5 | J17: =H17 -> 0 | K17: =I17 -> 1003.5 | L17: =J17*1.6 -> 0 | M17: =K17*1.6 -> 1605.6 | O17: =D17*F17*2 -> 13380 | P17: 3
C18: Galeria - BTCC - 3x3m | D18: =1081 -> 1081 | E18: 3 | F18: 10 | G18: 0.5 | I18: =D18*E18*G18 -> 1621.5 | J18: =H18 -> 0 | K18: =I18 -> 1621.5 | L18: =J18*1.6 -> 0 | M18: =K18*1.6 -> 2594.4 | O18: =D18*F18*2 -> 21620 | P18: 3
B19: BACIA DO GUARANHUNS | C19: Canal em paredes de concreto 8x2,3 | D19: 120 | E19: 8 | F19: 10 | G19: 0.5 | H19: =D19*E19*G19 -> 480 | J19: =H19 -> 480 | K19: =I19 -> 0 | L19: =J19*1.6 -> 768 | M19: =K19*1.6 -> 0 | N19: =D19*E19 -> 960 | O19: =D19*F19*2 -> 2400 | P19: 2.3
C20: Canal em paredes de concreto 12x2,3 | D20: 540 | E20: 12 | F20: 10 | G20: 0.5 | H20: =D20*E20*G20 -> 3240 | J20: =H20 -> 3240 | K20: =I20 -> 0 | L20: =J20*1.6 -> 5184 | M20: =K20*1.6 -> 0 | N20: =D20*E20 -> 6480 | O20: =D20*F20*2 -> 10800 | P20: 2.3
C21: Canal em paredes de concreto 18x2,3 | D21: 480 | E21: 18 | F21: 10 | G21: 0.5 | H21: =D21*E21*G21 -> 4320 | J21: =H21 -> 4320 | K21: =I21 -> 0 | L21: =J21*1.6 -> 6912 | M21: =K21*1.6 -> 0 | N21: =D21*E21 -> 8640 | O21: =D21*F21*2 -> 9600 | P21: 2.3
C22: Canal em terra | D22: =940+920 -> 1860 | E22: =(17.1+9)/2 -> 13.05 | F22: 10 | G22: 0.5 | H22: =D22*E22*G22 -> 12136.5 | J22: =H22 -> 12136.5 | K22: =I22 -> 0 | L22: =J22*1.6 -> 19418.4 | M22: =K22*1.6 -> 0 | N22: =D22*E22 -> 24273 | O22: =D22*F22*2 -> 37200 | P22: 2.7
C23: Canal do dique em terra | D23: =2080+820+257.68 -> 3157.68 | E23: =(2080*(20+14)/2+820*(86+80)/2+257.68*(27+21)/2)/3157.68 -> 34.710395 | F23: 10 | G23: 0.5 | H23: =D23*E23*G23 -> 54802.16 | J23: =H23 -> 54802.16 | K23: =I23 -> 0 | L23: =J23*1.6 -> 87683.456 | M23: =K23*1.6 -> 0 | N23: =D23*E23 -> 109604.32 | O23: =D23*F23*2 -> 63153.6 | P23: 2
C24: Canal diagonal - em terra | D24: 2345.06 | E24: =(37+32)/2 -> 34.5 | F24: 10 | G24: 0.5 | H24: =D24*E24*G24 -> 40452.285 | J24: =H24 -> 40452.285 | K24: =I24 -> 0 | L24: =J24*1.6 -> 64723.656 | M24: =K24*1.6 -> 0 | N24: =D24*E24 -> 80904.57 | O24: =D24*F24*2 -> 46901.2 | P24: 2
C25: Canal Araças - em terra - prof. 3m | D25: =600 -> 600 | E25: =(86+80)/2 -> 83 | F25: 10 | G25: 0.5 | H25: =D25*E25*G25 -> 24900 | J25: =H25 -> 24900 | K25: =I25 -> 0 | L25: =J25*1.6 -> 39840 | M25: =K25*1.6 -> 0 | N25: =D25*E25 -> 49800 | O25: =D25*F25*2 -> 12000 | P25: 3
C26: Canal Araças - em terra - prof. 4m | D26: =395+135 -> 530 | E26: =(395*(57.8+45.8)/2+135*(60.8+45.8)/2)/530 -> 52.182075 | F26: 10 | G26: 0.5 | H26: =D26*E26*G26 -> 13828.25 | J26: =H26 -> 13828.25 | K26: =I26 -> 0 | L26: =J26*1.6 -> 22125.2 | M26: =K26*1.6 -> 0 | N26: =D26*E26 -> 27656.5 | O26: =D26*F26*2 -> 10600 | P26: 4
B27: BACIA DO RIO MARINHO | C27: Canal de terra - trecho 01 | D27: 1553.79 | E27: =(36+30)/2 -> 33 | F27: 10 | G27: 0.5 | H27: =D27*E27*G27 -> 25637.535 | J27: =H27 -> 25637.535 | K27: =I27 -> 0 | L27: =J27*1.6 -> 41020.056 | M27: =K27*1.6 -> 0 | N27: =D27*E27 -> 51275.07 | O27: =D27*F27*2 -> 31075.8 | P27: 2
C28: Canal de terra - trecho 02 | D28: 606 | E28: =(47+41)/2 -> 44 | F28: 10 | G28: 0.5 | H28: =D28*E28*G28 -> 13332 | J28: =H28 -> 13332 | K28: =I28 -> 0 | L28: =J28*1.6 -> 21331.2 | M28: =K28*1.6 -> 0 | N28: =D28*E28 -> 26664 | O28: =D28*F28*2 -> 12120 | P28: 2
C29: Canal de paredes de gabião 20 x 2 m - trecho 03 | D29: 90 | E29: 20 | F29: 10 | G29: 0.5 | H29: =D29*E29*G29 -> 900 | J29: =H29 -> 900 | K29: =I29 -> 0 | L29: =J29*1.6 -> 1440 | M29: =K29*1.6 -> 0 | N29: =D29*E29 -> 1800 | O29: =D29*F29*2 -> 1800 | P29: 2
C30: Canal com paredes de concreto - trecho 04 | D30: =(690+485.92) -> 1175.92 | E30: 20 | F30: 10 | G30: 0.5 | H30: =D30*E30*G30 -> 11759.2 | J30: =H30 -> 11759.2 | K30: =I30 -> 0 | L30: =J30*1.6 -> 18814.72 | M30: =K30*1.6 -> 0 | N30: =D30*E30 -> 23518.4 | O30: =D30*F30*2 -> 23518.4 | P30: 2
C31: Canal de terra - trecho 05 | D31: 2440 | E31: =(21+15)/2 -> 18 | F31: 10 | G31: 0.5 | H31: =D31*E31*G31 -> 21960 | J31: =H31 -> 21960 | K31: =I31 -> 0 | L31: =J31*1.6 -> 35136 | M31: =K31*1.6 -> 0 | N31: =D31*E31 -> 43920 | O31: =D31*F31*2 -> 48800 | P31: 2
C32: Canal de terra - trecho 06 | D32: 500 | E32: =(17+11)/2 -> 14 | F32: 10 | G32: 0.5 | H32: =D32*E32*G32 -> 3500 | J32: =H32 -> 3500 | K32: =I32 -> 0 | L32: =J32*1.6 -> 5600 | M32: =K32*1.6 -> 0 | N32: =D32*E32 -> 7000 | O32: =D32*F32*2 -> 10000 | P32: 2
C33: Canal de terra - trecho 07 | D33: 1460 | E33: =(21+15)/2 -> 18 | F33: 10 | G33: 0.5 | H33: =D33*E33*G33 -> 13140 | J33: =H33 -> 13140 | K33: =I33 -> 0 | L33: =J33*1.6 -> 21024 | M33: =K33*1.6 -> 0 | N33: =D33*E33 -> 26280 | O33: =D33*F33*2 -> 29200 | P33: 2
C34: Canal de terra - trecho 08 | D34: 1240 | E34: =(26+20)/2 -> 23 | F34: 10 | G34: 0.5 | H34: =D34*E34*G34 -> 14260 | J34: =H34 -> 14260 | K34: =I34 -> 0 | L34: =J34*1.6 -> 22816 | M34: =K34*1.6 -> 0 | N34: =D34*E34 -> 28520 | O34: =D34*F34*2 -> 24800 | P34: 2
C35: Canal de terra - trecho 09 | D35: 1740 | E35: =(13+7)/2 -> 10 | F35: 10 | G35: 0.5 | H35: =D35*E35*G35 -> 8700 | J35: =H35 -> 8700 | K35: =I35 -> 0 | L35: =J35*1.6 -> 13920 | M35: =K35*1.6 -> 0 | N35: =D35*E35 -> 17400 | O35: =D35*F35*2 -> 34800 | P35: 2
C36: Canal de terra - trecho 10 | D36: 671.34 | E36: =(7+1)/2 -> 4 | F36: 10 | G36: 0.5 | H36: =D36*E36*G36 -> 1342.68 | J36: =H36 -> 1342.68 | K36: =I36 -> 0 | L36: =J36*1.6 -> 2148.288 | M36: =K36*1.6 -> 0 | N36: =D36*E36 -> 2685.36 | O36: =D36*F36*2 -> 13426.8 | P36: 2
B37: BACIA DO CANAL ARIBIRI | C37: Canal Aribiri | D37: =9167-D39 -> 7285.58 | E37: =(12+6)/2 -> 9 | F37: 10 | G37: 0.5 | H37: =D37*E37*G37 -> 32785.11 | J37: =H37 -> 32785.11 | K37: =I37 -> 0 | L37: =J37*1.6 -> 52456.176 | M37: =K37*1.6 -> 0 | N37: =D37*E37 -> 65570.22 | O37: =D37*F37*2 -> 145711.6 | P37: 3
C38: Galeria - BDCC -2x2 m | D38: 250 | E38: 2 | F38: 10 | G38: 0.5 | I38: =D38*E38*G38 -> 250 | J38: =H38 -> 0 | K38: =I38 -> 250 | L38: =J38*1.6 -> 0 | M38: =K38*1.6 -> 400 | O38: =D38*F38*2 -> 5000 | P38: 2
C39: Rio Aribiri | D39: 1881.42 | E39: 16 | F39: 10 | G39: 0.5 | H39: =D39*E39*G39 -> 15051.36 | J39: =H39 -> 15051.36 | K39: =I39 -> 0 | L39: =J39*1.6 -> 24082.176 | M39: =K39*1.6 -> 0 | N39: =D39*E39 -> 30102.72 | O39: =D39*F39*2 -> 37628.4 | P39: 3
C40: Trecho inundável | D40: 1335 | E40: 100 | F40: 10 | G40: 0.5 | H40: =D40*E40*G40 -> 66750 | J40: =H40 -> 66750 | K40: =I40 -> 0 | L40: =J40*1.6 -> 106800 | M40: =K40*1.6 -> 0 | N40: =D40*E40 -> 133500 | O40: =D40*F40*2 -> 26700 | P40: 5
C41: Galeria BDCC 2 x 2 m | D41: 1050 | E41: 2 | F41: 10 | G41: 0.5 | I41: =D41*E41*G41 -> 1050 | J41: =H41 -> 0 | K41: =I41 -> 1050 | L41: =J41*1.6 -> 0 | M41: =K41*1.6 -> 1680 | O41: =D41*F41*2 -> 21000 | P41: 2
B42: BACIA DO CANAL CAMPO GRANDE | C42: Ramo 1 | D42: 9560 | E42: 10 | F42: 10 | G42: 0.5 | H42: =D42*E42*G42 -> 47800 | J42: =H42 -> 47800 | K42: =I42 -> 0 | L42: =J42*1.6 -> 76480 | M42: =K42*1.6 -> 0 | N42: =D42*E42 -> 95600 | O42: =D42*F42*2 -> 191200 | P42: 1
...

Sheet Cronograma
A9: SISTEMA DE MACRODRENAGEM VILA VELHA, CARIACICA E VIANA
A10: CANAL MARINHO
F11: TOPOGRAFIA E BATIMETRIA
A12: CRONOGRAMA FÍSICO-FINANCEIRO
A14: ITENS | B14: DESCRIÇÃO DOS SERVIÇOS | C14: SUBTOTAIS | D14: % | E14: MÊS 01 | F14: MÊS 02 | G14: MÊS 03 | H14: MÊS 04 | I14: MÊS 05 | J14: MÊS 06 | K14: MÊS 07 | L14: MÊS 08
A15: 1 | B15: =#REF! -> #REF! | C15: =#REF! -> #REF! | D15: =C15/$C$29 -> #REF! | E15: =E17+E19+E21 -> #REF! | F15: =F17+F19+F21 -> #REF! | G15: =G17+G19+G21 -> #REF! | H15: =H17+H19+H21 -> #REF! | I15: =I17+I19+I21 -> #REF! | J15: =J17+J19+J21 -> #REF! | K15: =K17+K19+K21 -> #REF! | L15: =L17+L19+L21 -> #REF!
E16: =E15/$C$15 -> #REF! | F16: =F15/$C$15 -> #REF! | G16: =G15/$C$15 -> #REF! | H16: =H15/$C$15 -> #REF! | I16: =I15/$C$15 -> #REF! | J16: =J15/$C$15 -> #REF! | K16: =K15/$C$15 -> #REF! | L16: =L15/$C$15 -> #REF!
A17: =#REF! -> #REF! | B17: =#REF! -> #REF! | C17: =#REF! -> #REF! | D17: =C17/$C$29 -> #REF! | E17: =$C17*E18 -> #REF! | F17: =$C17*F18 -> #REF! | G17: =$C17*G18 -> #REF! | H17: =$C17*H18 -> #REF! | I17: =$C17*I18 -> #REF! | J17: =$C17*J18 -> #REF! | K17: =$C17*K18 -> #REF! | L17: =$C17*L18 -> #REF!
E18: 0.5 | F18: 0.5
A19: =#REF! -> #REF! | B19: =#REF! -> #REF! | C19: =#REF! -> #REF! | D19: =C19/$C$29 -> #REF! | E19: =$C19*E20 -> #REF! | F19: =$C19*F20 -> #REF! | H19: =$C19*H20 -> #REF! | I19: =$C19*I20 -> #REF! | J19: =$C19*J20 -> #REF! | K19: =$C19*K20 -> #REF! | L19: =$C19*L20 -> #REF!
E20: 0.5 | F20: 0.5
A21: =#REF! -> #REF! | B21: =#REF! -> #REF! | C21: =#REF! -> #REF! | D21: =C21/$C$29 -> #REF! | E21: =$C21*E22 -> #REF! | F21: =$C21*F22 -> #REF! | H21: =$C21*H22 -> #REF! | I21: =$C21*I22 -> #REF! | J21: =$C21*J22 -> #REF! | K21: =$C21*K22 -> #REF! | L21: =$C21*L22 -> #REF!
E22: 0.6 | F22: 0.4
A23: 2 | B23: =#REF! -> #REF! | C23: =#REF! -> #REF! | D23: =C23/$C$29 -> #REF! | F23: =SUM(F25,F27) -> #REF! | G23: =SUM(G25,G27) -> #REF! | H23: =SUM(H25,H27,) -> #REF! | I23: =SUM(I25,I27) -> 0 | J23: =SUM(J25,J27) -> 0 | K23: =SUM(K25,K27) -> 0 | L23: =SUM(L25,L27) -> #REF!
E24: =E23/$C$23 -> #REF! | F24: =F23/$C$23 -> #REF! | G24: =G23/$C$23 -> #REF! | H24: =H23/$C$23 -> #REF! | I24: =I23/$C$23 -> #REF! | J24: =J23/$C$23 -> #REF! | K24: =K23/$C$23 -> #REF! | L24: =L23/$C$23 -> #REF!
A25: =#REF! -> #REF! | B25: =#REF! -> #REF! | C25: =#REF! -> #REF! | D25: =C25/$C$29 -> #REF! | E25: =$C25*E26 -> #REF! | F25: =$C25*F26 -> #REF! | G25: =$C25*G26 -> #REF! | H25: =$C25*H26 -> #REF! | L25: =$C25*L26 -> #REF!
F26: 0.5 | G26: 0.25 | H26: 0.25
A27: =#REF! -> #REF! | B27: =#REF! -> #REF! | C27: =#REF! -> #REF! | D27: =C27/$C$29 -> #REF! | E27: =$C27*E28 -> #REF! | F27: =$C27*F28 -> #REF! | G27: =$C27*G28 -> #REF! | H27: =$C27*H28 -> #REF! | L27: =$C27*L28 -> #REF!
F28: 0.5 | G28: 0.25 | H28: 0.25
A29: VALOR TOTAL (R$) | C29: =C15+C23 -> #REF! | D29: =SUM(D17:D22,D25:D28,) -> #REF!
A30: TOTAL DO PERÍODO (R$) | E30: =E15+E23 -> #REF! | F30: =F15+F23 -> #REF! | G30: =G15+G23 -> #REF! | H30: =H15+H23 -> #REF! | I30: =I15+I23 -> #REF! | J30: =J15+J23 -> #REF! | K30: =K15+K23 -> #REF! | L30: =L15+L23 -> #REF!
A31: PORCENTAGEM DO PERÍODO (%) | E31: =E30/$C$29 -> #REF! | F31: =F30/$C$29 -> #REF! | G31: =G30/$C$29 -> #REF! | H31: =H30/$C$29 -> #REF! | I31: =I30/$C$29 -> #REF! | J31: =J30/$C$29 -> #REF! | K31: =K30/$C$29 -> #REF! | L31: =L30/$C$29 -> #REF!
A32: TOTAL ACUMULADO (R$) | E32: =E30 -> #REF! | F32: =E32+F30 -> #REF! | G32: =F32+G30 -> #REF! | H32: =G32+H30 -> #REF! | J32: =I32+J30 -> #REF! | K32: =J32+K30 -> #REF! | L32: =K32+L30 -> #REF!
A33: PORCENTAGEM ACUMULADO (%) | E33: =E32/$C$29 -> #REF! | F33: =E33+F31 -> #REF! | G33: =F33+G31 -> #REF! | H33: =G33+H31 -> #REF! | J33: =I33+J31 -> #REF! | K33: =J33+K31 -> #REF! | L33: =K33+L31 -> #REF!

Sheet Preços Serviços
C1: GOVERNO DO ESTADO DO ESPÍRITO SANTO
C2: SECRETARIA DE SANEAMENTO, HABITAÇÃO E DESENVOLVIMENTO URBANO
C3: CORREÇÃO DE VALORES
C4: OBJETO | D4: EXECUÇÃO DE LIMPEZA E DESASSOREAMENTO DE CANAIS EM VILA VELHA E CARIACICA
A5: BUSCA | B5: ORGÃO | C5: CÓDIGO | D5: DESCRIÇÃO | E5: UND. | F5: PREÇO REFERÊNCIA | G5: BDI APLICADO | H5: PREÇO UNITÁRIO CORRIGIDO | I5: CONTÉM?
A6: =CONCATENATE(B6,C6) -> CESAN7010100210 | B6: CESAN | C6: 7010100210 | D6: Banheiro Quimico | E6: unm | F6: 1480.31 | G6: 0 | H6: =($F6/(1+$G6)) -> 1480.31 | I6: =IFERROR(IF(INDEX(ORÇAMENTO!$A:$A,MATCH($A6,ORÇAMENTO!$A:$A,0),1)=A6,"SIM"),"NÃO") -> SIM
A7: =CONCATENATE(B7,C7) -> DER-ROD11509 | B7: DER-ROD | C7: 11509 | D7: Ensaio de Análise Física do material a ser dragado - CONAMA 454/12 | E7: und | F7: 1277.04 | G7: 0 | H7: =($F7/(1+$G7)) -> 1277.04 | I7: =IFERROR(IF(INDEX(ORÇAMENTO!$A:$A,MATCH($A7,ORÇAMENTO!$A:$A,0),1)=A7,"SIM"),"NÃO") -> NÃO
A8: =CONCATENATE(B8,C8) -> DER-ROD11506 | B8: DER-ROD | C8: 11506 | D8: Ensaio de caracterização Ecotoxicológico de material a ser dragado - CONAMA 454/12 | E8: und | F8: 2227.95 | G8: 0 | H8: =($F8/(1+$G8)) -> 2227.95 | I8: =IFERROR(IF(INDEX(ORÇAMENTO!$A:$A,MATCH($A8,ORÇAMENTO!$A:$A,0),1)=A8,"SIM"),"NÃO") -> NÃO
A9: =CONCATENATE(B9,C9) -> DER-ROD11508 | B9: DER-ROD | C9: 11508 | D9: Ensaio de Análise Química de material a ser dragado - CONAMA 454/12 | E9: und | F9: 1176.53 | G9: 0 | H9: =($F9/(1+$G9)) -> 1176.53 | I9: =IFERROR(IF(INDEX(ORÇAMENTO!$A:$A,MATCH($A9,ORÇAMENTO!$A:$A,0),1)=A9,"SIM"),"NÃO") -> NÃO
A10: =CONCATENATE(B10,C10) -> DER-ROD43005 | B10: DER-ROD | C10: 43005 | D10: Limpeza e desobstrução de BDTC e BDCC em Vias Urbanas | E10: m | F10: 32.32 | G10: 0 | H10: =($F10/(1+$G10)) -> 32.32 | I10: =IFERROR(IF(INDEX(ORÇAMENTO!$A:$A,MATCH($A10,ORÇAMENTO!$A:$A,0),1)=A10,"SIM"),"NÃO") -> NÃO
A11: =CONCATENATE(B11,C11) -> DER-ROD43008 | B11: DER-ROD | C11: 43008 | D11: Limpeza e desobstrução de BTTC e BTCC em Vias Urbanas | E11: m | F11: 47.63 | G11: 0 | H11: =($F11/(1+$G11)) -> 47.63 | I11: =IFERROR(IF(INDEX(ORÇAMENTO!$A:$A,MATCH($A11,ORÇAMENTO!$A:$A,0),1)=A11,"SIM"),"NÃO") -> NÃO
A12: =CONCATENATE(B12,C12) -> DER-ROD40086 | B12: DER-ROD | C12: 40086 | D12: Limpeza e desobstrução de bueiros | E12: m | F12: 25.19 | G12: 0 | H12: =($F12/(1+$G12)) -> 25.19 | I12: =IFERROR(IF(INDEX(ORÇAMENTO!$A:$A,MATCH($A12,ORÇAMENTO!$A:$A,0),1)=A12,"SIM"),"NÃO") -> NÃO
A13: =CONCATENATE(B13,C13) -> DER-ROD40983 | B13: DER-ROD | C13: 40983 | D13: Limpeza e desobstrução de rede de drenagem, utilizando caminhão equipado com conjunto de alta pressão e sucção | E13: m | F13: 7.68 | G13: 0 | H13: =($F13/(1+$G13)) -> 7.68 | I13: =IFERROR(IF(INDEX(ORÇAMENTO!$A:$A,MATCH($A13,ORÇAMENTO!$A:$A,0),1)=A13,"SIM"),"NÃO") -> NÃO
A14: =CONCATENATE(B14,C14) -> DER-ROD41500 | B14: DER-ROD | C14: 41500 | D14: Placa de obra nas dimensões de 3,0 x 6,0 m, padrão DER-ES | E14: m2 | F14: 189.61 | G14: 0 | H14: =($F14/(1+$G14)) -> 189.61 | I14: =IFERROR(IF(INDEX(ORÇAMENTO!$A:$A,MATCH($A14,ORÇAMENTO!$A:$A,0),1)=A14,"SIM"),"NÃO") -> NÃO
A15: =CONCATENATE(B15,C15) -> DER-ROD42046 | B15: DER-ROD | C15: 42046 | D15: Cones para sinalização, fornecimento e colocação | E15: und | F15: 101.26 | G15: 0 | H15: =($F15/(1+$G15)) -> 101.26 | I15: =IFERROR(IF(INDEX(ORÇAMENTO!$A:$A,MATCH($A15,ORÇAMENTO!$A:$A,0),1)=A15,"SIM"),"NÃO") -> SIM
A16: =CONCATENATE(B16,C16) -> DER-ROD41454 | B16: DER-ROD | C16: 41454 | D16: Aluguel de container tipo vestiário, 2 luminárias, piso especial e janela | E16: mês | F16: 576.52 | G16: 0.2332 | H16: =($F16/(1+$G16)) -> 467.49919 | I16: =IFERROR(IF(INDEX(ORÇAMENTO!$A:$A,MATCH($A16,ORÇAMENTO!$A:$A,0),1)=A16,"SIM"),"NÃO") -> NÃO
A17: =CONCATENATE(B17,C17) -> DER-ROD41678 | B17: DER-ROD | C17: 41678 | D17: Aluguel de container tipo refeitório simples, c/ 1 aparelho de ar condicionado, 2 luminárias e 2 janelas de vidro | E17: mês | F17: 842.68 | G17: 0.2332 | H17: =($F17/(1+$G17)) -> 683.32793 | I17: =IFERROR(IF(INDEX(ORÇAMENTO!$A:$A,MATCH($A17,ORÇAMENTO!$A:$A,0),1)=A17,"SIM"),"NÃO") -> NÃO
... A21: =CONCATENATE(B21,C21) -> MERCADO1 | B21: MERCADO | C21: 1 | D21: Remoção de vegetação aquática- leito do canal | E21: m2 | F21: 5.7 | G21: 0 | H21: =($F21/(1+$G21)) -> 5.7 | I21: =IFERROR(IF(INDEX(ORÇAMENTO!$A:$A,MATCH($A21,ORÇAMENTO!$A:$A,0),1)=A21,"SIM"),"NÃO") -> NÃO
A22: =CONCATENATE(B22,C22) -> MERCADO2 | B22: MERCADO | C22: 2 | D22: Transporte com caminhão basculante de 12 m³ - rodovia pavimentada - Usina de Compostagem (Vegetação) | E22: t | F22: =(1100/12)/1.6 -> 57.291667 | G22: 0 | H22: =($F22/(1+$G22)) -> 57.291667 | I22: =IFERROR(IF(INDEX(ORÇAMENTO!$A:$A,MATCH($A22,ORÇAMENTO!$A:$A,0),1)=A22,"SIM"),"NÃO") -> NÃO
A23: =CONCATENATE(B23,C23) -> MERCADO9 | B23: MERCADO | C23: 9 | D23: Recebimento e Destinação Final - Resíduo Classe II-A | E23: t | F23: 66.99 | G23: 0 | H23: =($F23/(1+$G23)) -> 66.99 | I23: =IFERROR(IF(INDEX(ORÇAMENTO!$A:$A,MATCH($A23,ORÇAMENTO!$A:$A,0),1)=A23,"SIM"),"NÃO") -> NÃO
A24: =CONCATENATE(B24,C24) -> MERCADO3 | B24: MERCADO | C24: 3 | D24: Recebimento e Destinação Final - Resíduo Classe II-B | E24: t | F24: 31.99 | G24: 0 | H24: =($F24/(1+$G24)) -> 31.99 | I24: =IFERROR(IF(INDEX(ORÇAMENTO!$A:$A,MATCH($A24,ORÇAMENTO!$A:$A,0),1)=A24,"SIM"),"NÃO") -> NÃO
A25: =CONCATENATE(B25,C25) -> MERCADO4 | B25: MERCADO | C25: 4 | D25: Dragagem de material de 1ª categoria com Máquina anfíbia inclusive implementos (Cortadores de vegetação aquática e terrestre, Ancinhos coletores, Unidade escavadora e Bomba de dragagem) e acessórios (Carreta de Transporte/Reboque) | E25: m3 | F25: =28 -> 28 | G25: 0 | H25: =($F25/(1+$G25)) -> 28 | I25: =IFERROR(IF(INDEX(ORÇAMENTO!$A:$A,MATCH($A25,ORÇAMENTO!$A:$A,0),1)=A25,"SIM"),"NÃO") -> NÃO
A26: =CONCATENATE(B26,C26) -> MERCADO5 | B26: MERCADO | C26: 5 | D26: Transporte com caminhão do tipo tanque cap. de 30 m³ - Aterro Licenciado (Lodo) | E26: t | F26: =(1500/30)/1.6 -> 31.25 | G26: 0 | H26: =($F26/(1+$G26)) -> 31.25 | I26: =IFERROR(IF(INDEX(ORÇAMENTO!$A:$A,MATCH($A26,ORÇAMENTO!$A:$A,0),1)=A26,"SIM"),"NÃO") -> NÃO
A27: =CONCATENATE(B27,C27) -> MERCADO6 | B27: MERCADO | C27: 6 | D27: Destinação Final material dragado | E27: t | F27: 113 | G27: 0 | H27: =($F27/(1+$G27)) -> 113 | I27: =IFERROR(IF(INDEX(ORÇAMENTO!$A:$A,MATCH($A27,ORÇAMENTO!$A:$A,0),1)=A27,"SIM"),"NÃO") -> NÃO
A28: =CONCATENATE(B28,C28) -> MERCADO7 | B28: MERCADO | C28: 7 | D28: Análise Teor de Sólidos | E28: und | F28: 32.5 | G28: 0 | H28: =($F28/(1+$G28)) -> 32.5 | I28: =IFERROR(IF(INDEX(ORÇAMENTO!$A:$A,MATCH($A28,ORÇAMENTO!$A:$A,0),1)=A28,"SIM"),"NÃO") -> NÃO
A29: =CONCATENATE(B29,C29) -> MERCADO8 | B29: MERCADO | C29: 8 | D29: Coleta para ensaio de Caracterização de material conf. Normativa da CONAMA 454/12 | E29: und | F29: 942 | G29: 0 | H29: =($F29/(1+$G29)) -> 942 | I29: =IFERROR(IF(INDEX(ORÇAMENTO!$A:$A,MATCH($A29,ORÇAMENTO!$A:$A,0),1)=A29,"SIM"),"NÃO") -> NÃO
A30: =CONCATENATE(B30,C30) -> SICRO1600412 | B30: SICRO | C30: 1600412 | D30: Raspagem e limpeza de terreno plano | E30: m2 | F30: 3.67 | G30: 0 | H30: =($F30/(1+$G30)) -> 3.67 | I30: =IFERROR(IF(INDEX(ORÇAMENTO!$A:$A,MATCH($A30,ORÇAMENTO!$A:$A,0),1)=A30,"SIM"),"NÃO") -> NÃO
A31: =CONCATENATE(B31,C31) -> SICRO1600989 | B31: SICRO | C31: 1600989 | D31: Demolição de concreto simples com martelete | E31: M3 | F31: 213.62 | G31: 0 | H31: =($F31/(1+$G31)) -> 213.62 | I31: =IFERROR(IF(INDEX(ORÇAMENTO!$A:$A,MATCH($A31,ORÇAMENTO!$A:$A,0),1)=A31,"SIM"),"NÃO") -> NÃO
A32: =CONCATENATE(B32,C32) -> SICRO1917656 | B32: SICRO | C32: 1917656 | D32: Dragagem de material de 1ª categoria com dragline - caçamba de 2,1 m³ - caminho de serviço em revestimento primário - DMT 400 a 600 m - com caminhão de 14 m³ e carregadeira | E32: m3 | F32: 12.24 | G32: 0 | H32: =($F32/(1+$G32)) -> 12.24 | I32: =IFERROR(IF(INDEX(ORÇAMENTO!$A:$A,MATCH($A32,ORÇAMENTO!$A:$A,0),1)=A32,"SIM"),"NÃO") -> SIM
A33: =CONCATENATE(B33,C33) -> SICRO5502663 | B33: SICRO | C33: 5502663 | D33: Escavação e transporte de material de 3ª categoria - DMT de 0 a 50 m | E33: m3 | F33: 22.65 | G33: 0 | H33: =($F33/(1+$G33)) -> 22.65 | I33: =IFERROR(IF(INDEX(ORÇAMENTO!$A:$A,MATCH($A33,ORÇAMENTO!$A:$A,0),1)=A33,"SIM"),"NÃO") -> SIM
A34: =CONCATENATE(B34,C34) -> SICRO1901607 | B34: SICRO | C34: 1901607 | D34: Dragagem de material de 1ª categoria com escavadeira hidráulica sobre pontão flutuante - capacidade da caçamba de 1,56 m³ - transporte com batelão sem propulsão com capacidade de 100 t - DMT 0 a 300 m | E34: m3 | F34: 9.78 | G34: 0 | H34: =($F34/(1+$G34)) -> 9.78 | I34: =IFERROR(IF(INDEX(ORÇAMENTO!$A:$A,MATCH($A34,ORÇAMENTO!$A:$A,0),1)=A34,"SIM"),"NÃO") -> NÃO
A35: =CONCATENATE(B35,C35) -> SICRO1716639 | B35: SICRO | C35: 1716639 | D35: Derrocagem subaquática de material de 3ª categoria - malha de 4,0 m² - perfuração e detonação - plataforma com duas torres de perfuração | E35: m3 | F35: 32.74 | G35: 0 | H35: =($F35/(1+$G35)) -> 32.74 | I35: =IFERROR(IF(INDEX(ORÇAMENTO!$A:$A,MATCH($A35,ORÇAMENTO!$A:$A,0),1)=A35,"SIM"),"NÃO") -> SIM
A36: =CONCATENATE(B36,C36) -> SICRO1619003 | B36: SICRO | C36: 1619003 | D36: Demolição mecânica de concreto armado, com escavadeira hidráulica com martelo hidráulico - sem reaproveitamento | E36: m3 | F36: 62.02 | G36: 0 | H36: =($F36/(1+$G36)) -> 62.02 | I36: =IFERROR(IF(INDEX(ORÇAMENTO!$A:$A,MATCH($A36,ORÇAMENTO!$A:$A,0),1)=A36,"SIM"),"NÃO") -> SIM
A37: =CONCATENATE(B37,C37) -> SICRO1917583 | B37: SICRO | C37: 1917583 | D37: Dragagem de areia grossa com draga de sucção e recalque - bomba de 1.350 kW e cortador de 170 kW - distância de recalque de 2.100 a 2.300 m | E37: m3 | F37: 7.2 | G37: 0 | H37: =($F37/(1+$G37)) -> 7.2 | I37: =IFERROR(IF(INDEX(ORÇAMENTO!$A:$A,MATCH($A37,ORÇAMENTO!$A:$A,0),1)=A37,"SIM"),"NÃO") -> NÃO
A38: =CONCATENATE(B38,C38) -> SICRO | B38: SICRO | D38: Remoção de entulho pesado com escavadeira hidráulica | E38: t | F38: 1.63 | G38: 0 | H38: =($F38/(1+$G38)) -> 1.63 | I38: =IFERROR(IF(INDEX(ORÇAMENTO!$A:$A,MATCH($A38,ORÇAMENTO!$A:$A,0),1)=A38,"SIM"),"NÃO") -> NÃO
A39: =CONCATENATE(B39,C39) -> SICRO4915712 | B39: SICRO | C39: 4915712 | D39: Limpeza de bueiro | E39: m3 | F39: 17.95 | G39: 0 | H39: =($F39/(1+$G39)) -> 17.95 | I39: =IFERROR(IF(INDEX(ORÇAMENTO!$A:$A,MATCH($A39,ORÇAMENTO!$A:$A,0),1)=A39,"SIM"),"NÃO") -> NÃO
A40: =CONCATENATE(B40,C40) -> SICRO4915713 | B40: SICRO | C40: 4915713 | D40: Desobstrução de bueiro | E40: m3 | F40: 53.84 | G40: 0 | H40: =($F40/(1+$G40)) -> 53.84 | I40: =IFERROR(IF(INDEX(ORÇAMENTO!$A:$A,MATCH($A40,ORÇAMENTO!$A:$A,0),1)=A40,"SIM"),"NÃO") -> NÃO
A41: =CONCATENATE(B41,C41) -> SICRO4915744 | B41: SICRO | C41: 4915744 | D41: Capina manual | E41: m2 | F41: 0.61 | G41: 0 | H41: =($F41/(1+$G41)) -> 0.61 | I41: =IFERROR(IF(INDEX(ORÇAMENTO!$A:$A,MATCH($A41,ORÇAMENTO!$A:$A,0),1)=A41,"SIM"),"NÃO") -> NÃO
A42: =CONCATENATE(B42,C42) -> SICRO5502985 | B42: SICRO | C42: 5502985 | D42: Limpeza mecanizada da camada vegetal - margem do canal | E42: m2 | F42: 0.32 | G42: 0 | H42: =($F42/(1+$G42)) -> 0.32 | I42: =IFERROR(IF(INDEX(ORÇAMENTO!$A:$A,MATCH($A42,ORÇAMENTO!$A:$A,0),1)=A42,"SIM"),"NÃO") -> NÃO
A43: =CONCATENATE(B43,C43) -> SICRO5901640 | B43: SICRO | C43: 5901640 | D43: Transporte com caminhão basculante com caçamba estanque com capacidade de 14 m³ - rodovia pavimentada | E43: tkm | F43: 0.31 | G43: 0 | H43: =($F43/(1+$G43)) -> 0.31 | I43: =IFERROR(IF(INDEX(ORÇAMENTO!$A:$A,MATCH($A43,ORÇAMENTO!$A:$A,0),1)=A43,"SIM"),"NÃO") -> SIM
...

Sheet FGV_TABELA
A1: FGV - Coluna 39 - Consultoria
