Workbook
Name \0: #REF!
Name \0: #REF!
Name \0: #REF!
Name \a: #REF!
Name \a: #REF!
Name \a: #REF!
Name \c: #REF!
Name \c: #REF!
Name \c: #REF!
Name \d: #REF!
Name \d: #REF!
Name \d: #REF!
Name \f: #N/A
Name \p: #N/A
Name \q: #REF!
Name \q: #REF!
Name \q: #REF!
Name \s: #REF!
Name \s: #REF!
Name \s: #REF!
Name \x: #REF!
Name \x: #REF!
Name \x: #REF!
Name \z: #REF!
Name \z: #REF!
Name \z: #REF!
Name _______________________pv3: #REF!
Name _______________________pv3: #REF!
Name _______________________pv3: #REF!
Name ______________________Ele200502: #REF!
Name ______________________Ele200502: #REF!
Name ______________________Ele200502: #REF!
Name ______________________pv3: #REF!
Name ______________________pv3: #REF!
Name ______________________pv3: #REF!
Name ______________________Ser200705: #REF!
Name ______________________Ser200705: #REF!
Name ______________________Ser200705: #REF!
Name ______________________Ser200712: #REF!
Name ______________________Ser200712: #REF!
Name ______________________Ser200712: #REF!
Name ______________________Ser201104: #REF!
Name ______________________Ser201104: #REF!
Name ______________________Ser201104: #REF!
Name ______________________TR2: #REF!
Name ______________________TR2: #REF!
Name ______________________TR2: #REF!
Name ______________________TR5: #REF!
Name ______________________TR5: #REF!
Name ______________________TR5: #REF!
Name _____________________Ele200502: #REF!
Name _____________________Ele200502: #REF!
Name _____________________Ele200502: #REF!
Name _____________________Ele200609: #REF!
Name _____________________Ele200609: #REF!
Name _____________________Ele200609: #REF!
Name _____________________pv2: #REF!
Name _____________________pv2: #REF!
Name _____________________pv2: #REF!
Name _____________________pv3: #REF!

Sheet Eventograma
B2: EVENTOGRAMA DE FRENTES DE SERVIÇO
B3: SECRETARIA DE ESTADO DE SANEAMENTO, HABITAÇÃO E PROGRAMAS URBANOS
B4: OBRA: Construção Redes Adutoras - SAAE Rio Bananal
B5: LOCAL: Rio Bananal - ES
B6: ITEM | C6: DESCRIÇÃO SERVIÇO | D6: UNIDADE | E6: QUANTIDADE | F6: VALOR
B8: 1 | C8: PROJETOS EXECUTIVOS | F8: 57635.26
B9: 1.1 | C9: Fornecimento de projetos executivos | D9: % | E9: 100 | F9: 57635.26
B10: 2 | C10: CANTEIROS DE OBRAS | F10: 216380.46
B11: 2.1 | C11: Mobilização e desmobilização de canteiro - SEDE | D11: % | E11: 100 | F11: 3591.08 | H11: =IF(#REF!="","",VLOOKUP(#REF!,'CURVA ABC OBSOLETO'!B:K,10,0)) -> #REF!
B12: 2.2 | C12: Mobilização e desmobilização de canteiro - LAGOA | D12: % | E12: 100 | F12: 12167.03 | H12: =IF(#REF!="","",VLOOKUP(#REF!,'CURVA ABC OBSOLETO'!B:K,10,0)) -> #REF!
B13: 2.3 | C13: Instalação completa de canteiro - SEDE | D13: und | E13: 1 | F13: 86891.98
B14: 2.4 | C14: Instalação completa de canteiro - LAGOA | D14: und | E14: 1 | F14: 113730.37
B15: 3 | C15: REDE ADUTORA DE ÁGUA TRATADA – SEDE | F15: 2481067.8
B16: 3.1 | C16: Redes de Distribuição | D16: % | E16: 100 | F16: 2481067.8 | H16: =IF(#REF!="","",VLOOKUP(#REF!,'CURVA ABC OBSOLETO'!B:K,10,0)) -> #REF!
B17: 4 | C17: REDE ADUTORA DE ÁGUA BRUTA DA LAGOA JUPARANÃ | F17: 18056805
B18: 4.1 | C18: Adutora | D18: % | E18: 100 | F18: 17492018 | H18: =IF(#REF!="","",VLOOKUP(#REF!,'CURVA ABC OBSOLETO'!B:K,10,0)) -> #REF!
B19: 4.2 | C19: Recuperação da proteção da rodovia ES-245 | D19: % | E19: 100 | F19: 564786.73
B20: 5 | C20: CONSTRUÇÃO DA CAPTAÇÃO DA LAGOA JUPARANÃ | F20: 3370981.1
B21: 5.1 | C21: Fornecimento Bombas e Tubulações | D21: % | E21: 100 | F21: 842114.75 | H21: =IF(#REF!="","",VLOOKUP(#REF!,'CURVA ABC OBSOLETO'!B:K,10,0)) -> #REF!
B22: 5.2 | C22: Assentamento Bombas e Tubulações | D22: % | E22: 100 | F22: 165283.5
B23: 5.3 | C23: Casa de Bombas | D23: % | E23: 100 | F23: 702982.36
B24: 5.4 | C24: Instalações eletricas e automação | D24: % | E24: 100 | F24: 1089001.2
B25: 5.5 | C25: Deck | D25: und | E25: 1 | F25: 508460.9
B26: 5.6 | C26: Rebaixamento de lençol freático | D26: % | E26: 100 | F26: 63138.35
B27: 6 | C27: OPERAÇÃO ASSISTIDA DURANTE 06 MESES | F27: 232889.49 | H27: =IF(#REF!="","",VLOOKUP(#REF!,'CURVA ABC OBSOLETO'!B:K,10,0)) -> #REF!
B28: 6.1 | C28: Operação Assistida | D28: und | E28: 6 | F28: 232889.49 | H28: =IF(#REF!="","",VLOOKUP(#REF!,'CURVA ABC OBSOLETO'!B:K,10,0)) -> #REF!
B30: TOTAL GERAL | F30: =F8+F10+F15+F17+F20+F27 -> 24415759

Sheet Cronograma
B2: CRONOGRAMA FÍSICO-FINANCEIRO DA CONTRATAÇÃO - BASEADO NO CRONOGRAMA DA OBRA, PRODUTO DE CONTRATAÇÃO
B3: SECRETARIA DE ESTADO DE SANEAMENTO, HABITAÇÃO E PROGRAMAS URBANOS
B4: OBRA: Construção Redes Adutoras - SAAE Rio Bananal
B5: LOCAL: Rio Bananal - ES
B6: DATA: | C6: =TODAY() -> 46286
B7: ITEM | C7: DESCRIÇÃO | E7: VALORES (R$) | F7: MESES
F8: 1 | G8: 2 | H8: 3 | I8: 4 | J8: 5 | K8: 6 | L8: 7 | M8: 8 | N8: 9 | O8: 10 | P8: 11 | Q8: 12 | R8: 13 | S8: 14 | T8: 15 | U8: 16 | V8: 17 | W8: 18 | X8: 19 | Y8: 20 | Z8: 21 | AA8: 22 | AB8: 23 | AC8: 24 | AD8: 25 | AE8: 26 | AF8: 27 | AH8: =1-AH11 -> 0 | AI8: CONFERÊNCIA
B9: 1 | C9: PROJETOS EXECUTIVOS | D9: Físico (%) | E9: 57635.26 | F9: =1/3 -> 0.33333333 | G9: =1/3 -> 0.33333333 | H9: =1/3 -> 0.33333333 | AH9: =SUM(F9:AF9) -> 1 | AI9: =IF(AH9=100%,"Ok!","Verificar!") -> Ok!
D10: Financeiro (R$) | F10: =$E$9*F9 -> 19211.753 | G10: =$E$9*G9 -> 19211.753 | H10: =$E$9*H9 -> 19211.753 | AH10: =SUM(F10:AF10) -> 57635.26 | AI10: =IF(AH10=100%,"Ok!","Verificar!") -> Verificar!
B11: 2 | C11: =Eventograma!C10 -> CANTEIROS DE OBRAS | D11: Físico (%) | E11: 216380.46 | I11: =I12/E11 -> 0.96358703 | Z11: 0.036412969 | AH11: =SUM(F11:AF11) -> 1 | AI11: =IF(AH11=100%,"Ok!","Verificar!") -> Ok!
D12: Financeiro (R$) | I12: 208501.4 | J12: =$E11*J11 -> 0 | K12: =$E11*K11 -> 0 | L12: =$E11*L11 -> 0 | M12: =$E11*M11 -> 0 | N12: =$E11*N11 -> 0 | O12: =$E11*O11 -> 0 | P12: =$E11*P11 -> 0 | Q12: =$E11*Q11 -> 0 | ... Y12: =$E11*Y11 -> 0 | Z12: 7879.055 | AA12: =$E11*AA11 -> 0 | AB12: =$E11*AB11 -> 0 | AC12: =$E11*AC11 -> 0 | AD12: =$E11*AD11 -> 0 | AE12: =$E11*AE11 -> 0 | AH12: =SUM(F12:AF12) -> 216380.46 | AI12: =IF(AH12=100%,"Ok!","Verificar!") -> Verificar!
B13: 3 | C13: =Eventograma!C15 -> REDE ADUTORA DE ÁGUA TRATADA – SEDE | D13: Físico (%) | E13: 2481067.8 | T13: =1/7 -> 0.14285714 | U13: =1/7 -> 0.14285714 | V13: =1/7 -> 0.14285714 | W13: =1/7 -> 0.14285714 | X13: =1/7 -> 0.14285714 | Y13: =1/7 -> 0.14285714 | Z13: =1/7 -> 0.14285714 | AH13: =SUM(F13:AF13) -> 1 | AI13: =IF(AH13=100%,"Ok!","Verificar!") -> Ok!
D14: Financeiro (R$) | T14: =T13*$E$13 -> 354438.26 | U14: =U13*$E$13 -> 354438.26 | V14: =V13*$E$13 -> 354438.26 | W14: =W13*$E$13 -> 354438.26 | X14: =X13*$E$13 -> 354438.26 | Y14: =Y13*$E$13 -> 354438.26 | Z14: =Z13*$E$13 -> 354438.26 | AH14: =SUM(F14:AF14) -> 2481067.8 | AI14: =IF(AH14=E13,"Ok!","Verificar!") -> Ok!
B15: 4 | C15: =Eventograma!C17 -> REDE ADUTORA DE ÁGUA BRUTA DA LAGOA JUPARANÃ | D15: Físico (%) | E15: 18056805 | J15: =1/17 -> 0.058823529 | K15: =1/17 -> 0.058823529 | L15: =1/17 -> 0.058823529 | M15: =1/17 -> 0.058823529 | N15: =1/17 -> 0.058823529 | O15: =1/17 -> 0.058823529 | P15: =1/17 -> 0.058823529 | Q15: =1/17 -> 0.058823529 | ... Z15: =1/17 -> 0.058823529 | AH15: =SUM(F15:AF15) -> 1 | AI15: =IF(AH15=100%,"Ok!","Verificar!") -> Ok!
D16: Financeiro (R$) | J16: =J15*$E$15 -> 1062165 | K16: =K15*$E$15 -> 1062165 | L16: =L15*$E$15 -> 1062165 | M16: =M15*$E$15 -> 1062165 | N16: =N15*$E$15 -> 1062165 | O16: =O15*$E$15 -> 1062165 | P16: =P15*$E$15 -> 1062165 | Q16: =Q15*$E$15 -> 1062165 | ... Z16: =Z15*$E$15 -> 1062165 | AH16: =SUM(F16:AF16) -> 18056805 | AI16: =IF(AH16=E15,"Ok!","Verificar!") -> Ok!
B17: 5 | C17: =Eventograma!C20 -> CONSTRUÇÃO DA CAPTAÇÃO DA LAGOA JUPARANÃ | D17: Físico (%) | E17: 3370981.1 | J17: 0.02 | K17: 0.02 | L17: 0.02 | M17: 0.02 | N17: 0.2 | O17: 0.1 | P17: 0.02 | Q17: 0.02 | R17: 0.03 | S17: 0.03 | T17: 0.03 | U17: 0.03 | V17: 0.06 | W17: 0.05 | X17: 0.05 | Y17: 0.15 | Z17: 0.15 | AH17: =SUM(F17:AF17) -> 1 | AI17: =IF(AH17=100%,"Ok!","Verificar!") -> Ok!
D18: Financeiro (R$) | H18: =$E17*H17 -> 0 | J18: =$E17*J17 -> 67419.622 | K18: =$E17*K17 -> 67419.622 | L18: =$E17*L17 -> 67419.622 | M18: =$E17*M17 -> 67419.622 | N18: =$E17*N17 -> 674196.22 | O18: =$E17*O17 -> 337098.11 | P18: =$E17*P17 -> 67419.622 | Q18: =$E17*Q17 -> 67419.622 | ... Z18: =$E17*Z17 -> 505647.16 | AH18: =SUM(F18:AF18) -> 3370981.1 | AI18: =IF(AH18=E17,"Ok!","Verificar!") -> Ok!
B19: 6 | C19: =Eventograma!C27 -> OPERAÇÃO ASSISTIDA DURANTE 06 MESES | D19: Físico (%) | E19: 232889.49 | AA19: =1/6 -> 0.16666667 | AB19: =1/6 -> 0.16666667 | AC19: =1/6 -> 0.16666667 | AD19: =1/6 -> 0.16666667 | AE19: =1/6 -> 0.16666667 | AF19: =1/6 -> 0.16666667 | AH19: =SUM(F19:AF19) -> 1 | AI19: =IF(AH19=100%,"Ok!","Verificar!") -> Ok!
D20: Financeiro (R$) | AA20: =$E$19*AA19 -> 38814.915 | AB20: =$E$19*AB19 -> 38814.915 | AC20: =$E$19*AC19 -> 38814.915 | AD20: =$E$19*AD19 -> 38814.915 | AE20: =$E$19*AE19 -> 38814.915 | AF20: =$E$19*AF19 -> 38814.915 | AH20: =SUM(F20:AF20) -> 232889.49 | AI20: =IF(AH20=E19,"Ok!","Verificar!") -> Ok!
B21: Total Parcial (%) | E21: 24415759 | F21: =+F23/(SUM($E$9:$E$20)) -> 0.00078685875 | G21: =+G23/(SUM($E$9:$E$20)) -> 0.00078685875 | H21: =+H23/(SUM($E$9:$E$20)) -> 0.00078685875 | I21: =+I23/(SUM($E$9:$E$20)) -> 0.0085396242 | J21: =+J23/(SUM($E$9:$E$20)) -> 0.046264571 | K21: =+K23/(SUM($E$9:$E$20)) -> 0.046264571 | L21: =+L23/(SUM($E$9:$E$20)) -> 0.046264571 | M21: =+M23/(SUM($E$9:$E$20)) -> 0.046264571 | ... AF21: =+AF23/(SUM($E$9:$E$20)) -> 0.0015897485 | AH21: =AH18+AH20+AH16+AH14+AH12+AH10 -> 24415759 | AI21: =IF(AH21=E21,"Ok!","Verificar!") -> Ok!
B22: Total Acumulado (%) | F22: =F21 -> 0.00078685875 | G22: =(F22+G21) -> 0.0015737175 | H22: =(G22+H21) -> 0.0023605762 | I22: =(H22+I21) -> 0.0109002 | J22: =(I22+J21) -> 0.057164771 | K22: =(J22+K21) -> 0.10342934 | L22: =(K22+L21) -> 0.14969391 | M22: =(L22+M21) -> 0.19595848 | N22: =(M22+N21) -> 0.2670749 | ... AF22: =(AE22+AF21) -> 1
B23: Total Financeiro (R$) | F23: =F14+F16+F18+F20+F12+F10 -> 19211.753 | G23: =G14+G16+G18+G20+G12+G10 -> 19211.753 | H23: =H14+H16+H18+H20+H12+H10 -> 19211.753 | I23: =I14+I16+I18+I20+I12+I10 -> 208501.4 | J23: =J14+J16+J18+J20+J12+J10 -> 1129584.6 | K23: =K14+K16+K18+K20+K12+K10 -> 1129584.6 | L23: =L14+L16+L18+L20+L12+L10 -> 1129584.6 | M23: =M14+M16+M18+M20+M12+M10 -> 1129584.6 | ... AF23: =AF14+AF16+AF18+AF20+AF12+AF10 -> 38814.915
B24: Total Acumulado (R$) | F24: =F23 -> 19211.753 | G24: =F24+G23 -> 38423.507 | H24: =G24+H23 -> 57635.26 | I24: =H24+I23 -> 266136.66 | J24: =I24+J23 -> 1395721.3 | K24: =J24+K23 -> 2525305.9 | L24: =K24+L23 -> 3654890.5 | M24: =L24+M23 -> 4784475.1 | N24: =M24+N23 -> 6520836.3 | ... AF24: =AE24+AF23 -> 24415759

Sheet CRONOG OBSOLETO
B2: CRONOGRAMA FÍSICO-FINANCEIRO DA CONTRATAÇÃO - BASEADO NO CRONOGRAMA DA OBRA, PRODUTO DE CONTRATAÇÃO
B3: SECRETARIA DE ESTADO DE SANEAMENTO, HABITAÇÃO E PROGRAMAS URBANOS
B4: =#REF! -> #REF!
B5: =#REF! -> #REF!
B6: DATA: | C6: =TODAY() -> 46286
B7: ITEM | C7: DESCRIÇÃO | E7: VALORES (R$) | F7: MESES | AL7: =AP10/E9 -> #REF! | AM7: =AL7/29 -> #REF!
F8: 1 | G8: 2 | H8: 3 | I8: 4 | K8: 6 | L8: 7 | M8: 8 | N8: 9 | O8: 10 | P8: 11 | Q8: 12 | R8: 13 | S8: 14 | T8: 15 | U8: 16 | V8: 17 | W8: 18 | X8: 19 | Y8: 20 | Z8: 21 | AA8: 22 | AB8: 23 | AC8: 24 | AD8: 25 | AE8: 26 | AF8: 27 | AG8: 28 | AH8: 29 | AI8: 30 | AJ8: 31 | AL8: =1-AL9 -> #REF! | AM8: CONFERÊNCIA
B9: 1 | C9: =#REF! -> #REF! | D9: Físico (%) | E9: =#REF! -> #REF! | F9: =1.5%+((F12+F14+F16+F18)/($E$19-$E$9)) -> #REF! | G9: =1.5%+((G12+G14+G16+G18)/($E$19-$E$9)) -> #REF! | H9: =((H12+H14+H16+H18)/($E$19-$E$9))-0.1% -> #REF! | I9: =((I12+I14+I16+I18)/($E$19-$E$9))-0.1% -> #REF! | J9: =((J12+J14+J16+J18)/($E$19-$E$9))-0.1% -> #REF! | K9: =((K12+K14+K16+K18)/($E$19-$E$9))-0.1% -> #REF! | L9: =((L12+L14+L16+L18)/($E$19-$E$9))-0.1% -> #REF! | M9: =((M12+M14+M16+M18)/($E$19-$E$9))-0.1% -> #REF! | N9: =((N12+N14+N16+N18)/($E$19-$E$9))-0.1% -> #REF! | O9: =((O12+O14+O16+O18)/($E$19-$E$9))-0.1% -> #REF! | ... AI9: =((AI12+AI14+AI16+AI18)/($E$19-$E$9))-0.1% -> #REF! | AJ9: =((AJ12+AJ14+AJ16+AJ18)/($E$19-$E$9))-0.2% -> #REF! | AL9: =SUM(F9:AJ9) -> #REF! | AM9: =IF(AL9=100%,"Ok!","Verificar!") -> #REF! | AO9: =AL9-1 -> #REF!
D10: Financeiro (R$) | F10: =$E9*F9 -> #REF! | G10: =$E9*G9 -> #REF! | H10: =$E9*H9 -> #REF! | I10: =$E9*I9 -> #REF! | J10: =$E9*J9 -> #REF! | K10: =$E9*K9 -> #REF! | L10: =$E9*L9 -> #REF! | M10: =$E9*M9 -> #REF! | ... AJ10: =$E9*AJ9 -> #REF! | AL10: =SUM(F10:AJ10) -> #REF! | AM10: =IF(AL10=100%,"Ok!","Verificar!") -> #REF! | AO10: 6766254.6 | AP10: 202987.64
B11: 2 | C11: =#REF! -> #REF! | D11: Físico (%) | E11: =#REF! -> #REF! | G11: 0.0833 | H11: 0.0833 | I11: 0.0833 | J11: 0.0833 | K11: 0.0833 | L11: 0.0833 | M11: 0.0833 | N11: 0.0833 | O11: 0.0833 | P11: 0.0833 | Q11: 0.0837 | R11: 0.0833 | AL11: =SUM(F11:AJ11) -> 1 | AM11: =IF(AL11=100%,"Ok!","Verificar!") -> Ok!
D12: Financeiro (R$) | G12: =G11*$E$11 -> #REF! | H12: =H11*$E$11 -> #REF! | I12: =I11*$E$11 -> #REF! | J12: =J11*$E$11 -> #REF! | K12: =K11*$E$11 -> #REF! | L12: =L11*$E$11 -> #REF! | M12: =M11*$E$11 -> #REF! | N12: =N11*$E$11 -> #REF! | ... R12: =R11*$E$11 -> #REF! | AL12: =SUM(F12:AJ12) -> #REF! | AM12: =IF(AL12=E11,"Ok!","Verificar!") -> #REF!
B13: 3 | C13: =#REF! -> #REF! | D13: Físico (%) | E13: =#REF! -> #REF! | K13: 0.05 | L13: 0.075 | M13: 0.075 | N13: 0.075 | O13: 0.075 | P13: 0.075 | Q13: 0.075 | R13: 0.075 | S13: 0.075 | T13: 0.075 | U13: 0.075 | V13: 0.075 | W13: 0.075 | X13: 0.05 | AL13: =SUM(F13:AJ13) -> 1 | AM13: =IF(AL13=100%,"Ok!","Verificar!") -> Ok!
D14: Financeiro (R$) | K14: =$E$13*K13 -> #REF! | L14: =$E$13*L13 -> #REF! | M14: =$E$13*M13 -> #REF! | N14: =$E$13*N13 -> #REF! | O14: =$E$13*O13 -> #REF! | P14: =$E$13*P13 -> #REF! | Q14: =$E$13*Q13 -> #REF! | R14: =$E$13*R13 -> #REF! | ... X14: =$E$13*X13 -> #REF! | AL14: =SUM(F14:AJ14) -> #REF! | AM14: =IF(AL14=E13,"Ok!","Verificar!") -> #REF!
B15: 4 | C15: =#REF! -> #REF! | D15: Físico (%) | E15: =#REF! -> #REF! | I15: =100%/15 -> 0.066666667 | J15: =100%/15 -> 0.066666667 | K15: =100%/15 -> 0.066666667 | L15: =100%/15 -> 0.066666667 | M15: =100%/15 -> 0.066666667 | N15: =100%/15 -> 0.066666667 | O15: =100%/15 -> 0.066666667 | P15: =100%/15 -> 0.066666667 | ... W15: =100%/15 -> 0.066666667 | AL15: =SUM(F15:AJ15) -> 1 | AM15: =IF(AL15=100%,"Ok!","Verificar!") -> Ok!
D16: Financeiro (R$) | H16: =$E15*H15 -> #REF! | I16: =$E15*I15 -> #REF! | J16: =$E15*J15 -> #REF! | K16: =$E15*K15 -> #REF! | L16: =$E15*L15 -> #REF! | M16: =$E15*M15 -> #REF! | N16: =$E15*N15 -> #REF! | O16: =$E15*O15 -> #REF! | ... X16: =$E15*X15 -> #REF! | AJ16: =$E15*AJ15 -> #REF! | AL16: =SUM(F16:AJ16) -> #REF! | AM16: =IF(AL16=E15,"Ok!","Verificar!") -> #REF!
B17: 5 | C17: =#REF! -> #REF! | D17: Físico (%) | E17: =#REF! -> #REF! | S17: =100%/24 -> 0.041666667 | T17: =100%/24 -> 0.041666667 | U17: =100%/24 -> 0.041666667 | V17: =100%/24 -> 0.041666667 | W17: =100%/24 -> 0.041666667 | X17: =100%/24 -> 0.041666667 | Y17: =100%/12 -> 0.083333333 | Z17: =100%/12 -> 0.083333333 | AA17: =100%/12 -> 0.083333333 | AB17: =100%/12 -> 0.083333333 | AC17: =100%/12 -> 0.083333333 | AD17: =100%/12 -> 0.083333333 | AE17: =100%/24 -> 0.041666667 | AF17: =100%/24 -> 0.041666667 | AG17: =100%/24 -> 0.041666667 | AH17: =100%/24 -> 0.041666667 | AI17: =100%/24 -> 0.041666667 | AJ17: =100%/24 -> 0.041666667 | AL17: =SUM(F17:AJ17) -> 1 | AM17: =IF(AL17=100%,"Ok!","Verificar!") -> Ok!
D18: Financeiro (R$) | S18: =$E$17*S17 -> #REF! | T18: =$E$17*T17 -> #REF! | U18: =$E$17*U17 -> #REF! | V18: =$E$17*V17 -> #REF! | W18: =$E$17*W17 -> #REF! | X18: =$E$17*X17 -> #REF! | Y18: =$E$17*Y17 -> #REF! | Z18: =$E$17*Z17 -> #REF! | ... AJ18: =$E$17*AJ17 -> #REF! | AL18: =SUM(F18:AJ18) -> #REF! | AM18: =IF(AL18=E17,"Ok!","Verificar!") -> #REF!
B19: Total Parcial (%) | E19: =SUM(E9:E18) -> #REF! | F19: =+F21/(SUM($E$9:$E$18)) -> #REF! | G19: =+G21/(SUM($E$9:$E$18)) -> #REF! | H19: =+H21/(SUM($E$9:$E$18)) -> #REF! | I19: =+I21/(SUM($E$9:$E$18)) -> #REF! | J19: =+J21/(SUM($E$9:$E$18)) -> #REF! | K19: =+K21/(SUM($E$9:$E$18)) -> #REF! | L19: =+L21/(SUM($E$9:$E$18)) -> #REF! | M19: =+M21/(SUM($E$9:$E$18)) -> #REF! | ... AJ19: =+AJ21/(SUM($E$9:$E$18)) -> #REF! | AL19: =AL16+AL18+AL14+AL12+AL10 -> #REF! | AM19: =IF(AL19=E19,"Ok!","Verificar!") -> #REF!
B20: Total Acumulado (%) | F20: =F19 -> #REF! | G20: =(F20+G19) -> #REF! | H20: =(G20+H19) -> #REF! | I20: =(H20+I19) -> #REF! | J20: =(I20+J19) -> #REF! | K20: =(J20+K19) -> #REF! | L20: =(K20+L19) -> #REF! | M20: =(L20+M19) -> #REF! | N20: =(M20+N19) -> #REF! | ... AJ20: =(AI20+AJ19) -> #REF!
B21: Total Financeiro (R$) | F21: =F12+F14+F16+F18+F10 -> #REF! | G21: =G12+G14+G16+G18+G10 -> #REF! | H21: =H12+H14+H16+H18+H10 -> #REF! | I21: =I12+I14+I16+I18+I10 -> #REF! | J21: =J12+J14+J16+J18+J10 -> #REF! | K21: =K12+K14+K16+K18+K10 -> #REF! | L21: =L12+L14+L16+L18+L10 -> #REF! | M21: =M12+M14+M16+M18+M10 -> #REF! | ... AJ21: =AJ12+AJ14+AJ16+AJ18+AJ10 -> #REF!
B22: Total Acumulado (R$) | F22: =F21 -> #REF! | G22: =F22+G21 -> #REF! | H22: =G22+H21 -> #REF! | I22: =H22+I21 -> #REF! | J22: =I22+J21 -> #REF! | K22: =J22+K21 -> #REF! | L22: =K22+L21 -> #REF! | M22: =L22+M21 -> #REF! | N22: =M22+N21 -> #REF! | ... AJ22: =AI22+AJ21 -> #REF!

Sheet CURVA ABC OBSOLETO
B2: CURVA ABC DE SERVIÇOS
B3: CURVA ABC DE SERVIÇOS | H3: DATA-BASE: JUN/2026
B4: =#REF! -> #REF!
B5: =#REF! -> #REF!
B6: =#REF! -> #REF!
B7: =#REF! -> #REF!
B8: =#REF! -> #REF! | C8: =TODAY() -> 46286 | H8: BDI SERVIÇOS (%) | I8: =#REF! -> #REF! | J8: CUSTOS ONERADOS
B9: CÓDIGO | C9: FONTE | D9: DESCRIÇÃO | E9: UNID. | F9: QUANTIDADE | G9: PREÇO UNITÁRIO C/ BDI | H9: PREÇO TOTAL | I9: % | J9: ACUMUL. % | K9: CL
B10: CP 001 | C10: =VLOOKUP(B10,#REF!,2,0) -> #REF! | D10: =VLOOKUP(B10,#REF!,3,0) -> #REF! | E10: =VLOOKUP(B10,#REF!,4,0) -> #REF! | F10: =SUMIF(#REF!,B10,#REF!) -> #REF! | G10: =VLOOKUP(B10,#REF!,7,0) -> #REF! | H10: =TRUNC(F10*G10,2) -> #REF! | I10: =H10/#REF! -> #REF! | J10: =SUM($I$10:I10) -> #REF! | K10: =IF(J10<80%,"A",IF(J10<95%,"B",IF(J10<150%,"C",0))) -> #REF!
B11: CP 007 | C11: =VLOOKUP(B11,#REF!,2,0) -> #REF! | D11: =VLOOKUP(B11,#REF!,3,0) -> #REF! | E11: =VLOOKUP(B11,#REF!,4,0) -> #REF! | F11: =SUMIF(#REF!,B11,#REF!) -> #REF! | G11: =VLOOKUP(B11,#REF!,7,0) -> #REF! | H11: =TRUNC(F11*G11,2) -> #REF! | I11: =H11/#REF! -> #REF! | J11: =SUM($I$10:I11) -> #REF! | K11: =IF(J11<80%,"A",IF(J11<95%,"B",IF(J11<150%,"C",0))) -> #REF!
B12: CP 005 | C12: =VLOOKUP(B12,#REF!,2,0) -> #REF! | D12: =VLOOKUP(B12,#REF!,3,0) -> #REF! | E12: =VLOOKUP(B12,#REF!,4,0) -> #REF! | F12: =SUMIF(#REF!,B12,#REF!) -> #REF! | G12: =VLOOKUP(B12,#REF!,7,0) -> #REF! | H12: =TRUNC(F12*G12,2) -> #REF! | I12: =H12/#REF! -> #REF! | J12: =SUM($I$10:I12) -> #REF! | K12: =IF(J12<80%,"A",IF(J12<95%,"B",IF(J12<150%,"C",0))) -> #REF!
B13: CP 003 | C13: =VLOOKUP(B13,#REF!,2,0) -> #REF! | D13: =VLOOKUP(B13,#REF!,3,0) -> #REF! | E13: =VLOOKUP(B13,#REF!,4,0) -> #REF! | F13: =SUMIF(#REF!,B13,#REF!) -> #REF! | G13: =VLOOKUP(B13,#REF!,7,0) -> #REF! | H13: =TRUNC(F13*G13,2) -> #REF! | I13: =H13/#REF! -> #REF! | J13: =SUM($I$10:I13) -> #REF! | K13: =IF(J13<80%,"A",IF(J13<95%,"B",IF(J13<150%,"C",0))) -> #REF!
B14: 7250200100 | C14: =VLOOKUP(B14,#REF!,2,0) -> #REF! | D14: =VLOOKUP(B14,#REF!,3,0) -> #REF! | E14: =VLOOKUP(B14,#REF!,4,0) -> #REF! | F14: =SUMIF(#REF!,B14,#REF!) -> #REF! | G14: =VLOOKUP(B14,#REF!,7,0) -> #REF! | H14: =TRUNC(F14*G14,2) -> #REF! | I14: =H14/#REF! -> #REF! | J14: =SUM($I$10:I14) -> #REF! | K14: =IF(J14<80%,"A",IF(J14<95%,"B",IF(J14<150%,"C",0))) -> #REF!
B15: CP 010 | C15: =VLOOKUP(B15,#REF!,2,0) -> #REF! | D15: =VLOOKUP(B15,#REF!,3,0) -> #REF! | E15: =VLOOKUP(B15,#REF!,4,0) -> #REF! | F15: =SUMIF(#REF!,B15,#REF!) -> #REF! | G15: =VLOOKUP(B15,#REF!,7,0) -> #REF! | H15: =TRUNC(F15*G15,2) -> #REF! | I15: =H15/#REF! -> #REF! | J15: =SUM($I$10:I15) -> #REF! | K15: =IF(J15<80%,"A",IF(J15<95%,"B",IF(J15<150%,"C",0))) -> #REF!
B16: 97883 | C16: =VLOOKUP(B16,#REF!,2,0) -> #REF! | D16: =VLOOKUP(B16,#REF!,3,0) -> #REF! | E16: =VLOOKUP(B16,#REF!,4,0) -> #REF! | F16: =SUMIF(#REF!,B16,#REF!) -> #REF! | G16: =VLOOKUP(B16,#REF!,7,0) -> #REF! | H16: =TRUNC(F16*G16,2) -> #REF! | I16: =H16/#REF! -> #REF! | J16: =SUM($I$10:I16) -> #REF! | K16: =IF(J16<80%,"A",IF(J16<95%,"B",IF(J16<150%,"C",0))) -> #REF!
B17: CP 008 | C17: =VLOOKUP(B17,#REF!,2,0) -> #REF! | D17: =VLOOKUP(B17,#REF!,3,0) -> #REF! | E17: =VLOOKUP(B17,#REF!,4,0) -> #REF! | F17: =SUMIF(#REF!,B17,#REF!) -> #REF! | G17: =VLOOKUP(B17,#REF!,7,0) -> #REF! | H17: =TRUNC(F17*G17,2) -> #REF! | I17: =H17/#REF! -> #REF! | J17: =SUM($I$10:I17) -> #REF! | K17: =IF(J17<80%,"A",IF(J17<95%,"B",IF(J17<150%,"C",0))) -> #REF!
B18: 7250300210 | C18: =VLOOKUP(B18,#REF!,2,0) -> #REF! | D18: =VLOOKUP(B18,#REF!,3,0) -> #REF! | E18: =VLOOKUP(B18,#REF!,4,0) -> #REF! | F18: =SUMIF(#REF!,B18,#REF!) -> #REF! | G18: =VLOOKUP(B18,#REF!,7,0) -> #REF! | H18: =TRUNC(F18*G18,2) -> #REF! | I18: =H18/#REF! -> #REF! | J18: =SUM($I$10:I18) -> #REF! | K18: =IF(J18<80%,"A",IF(J18<95%,"B",IF(J18<150%,"C",0))) -> #REF!
B19: 7210100400 | C19: =VLOOKUP(B19,#REF!,2,0) -> #REF! | D19: =VLOOKUP(B19,#REF!,3,0) -> #REF! | E19: =VLOOKUP(B19,#REF!,4,0) -> #REF! | F19: =SUMIF(#REF!,B19,#REF!) -> #REF! | G19: =VLOOKUP(B19,#REF!,7,0) -> #REF! | H19: =TRUNC(F19*G19,2) -> #REF! | I19: =H19/#REF! -> #REF! | J19: =SUM($I$10:I19) -> #REF! | K19: =IF(J19<80%,"A",IF(J19<95%,"B",IF(J19<150%,"C",0))) -> #REF!
B20: CP 009 | C20: =VLOOKUP(B20,#REF!,2,0) -> #REF! | D20: =VLOOKUP(B20,#REF!,3,0) -> #REF! | E20: =VLOOKUP(B20,#REF!,4,0) -> #REF! | F20: =SUMIF(#REF!,B20,#REF!) -> #REF! | G20: =VLOOKUP(B20,#REF!,7,0) -> #REF! | H20: =TRUNC(F20*G20,2) -> #REF! | I20: =H20/#REF! -> #REF! | J20: =SUM($I$10:I20) -> #REF! | K20: =IF(J20<80%,"A",IF(J20<95%,"B",IF(J20<150%,"C",0))) -> #REF!
B21: PM 013 | C21: =VLOOKUP(B21,#REF!,2,0) -> #REF! | D21: =VLOOKUP(B21,#REF!,3,0) -> #REF! | E21: =VLOOKUP(B21,#REF!,4,0) -> #REF! | F21: =SUMIF(#REF!,B21,#REF!) -> #REF! | G21: =VLOOKUP(B21,#REF!,7,0) -> #REF! | H21: =TRUNC(F21*G21,2) -> #REF! | I21: =H21/#REF! -> #REF! | J21: =SUM($I$10:I21) -> #REF! | K21: =IF(J21<80%,"A",IF(J21<95%,"B",IF(J21<150%,"C",0))) -> #REF!
B22: PM 005 | C22: =VLOOKUP(B22,#REF!,2,0) -> #REF! | D22: =VLOOKUP(B22,#REF!,3,0) -> #REF! | E22: =VLOOKUP(B22,#REF!,4,0) -> #REF! | F22: =SUMIF(#REF!,B22,#REF!) -> #REF! | G22: =VLOOKUP(B22,#REF!,7,0) -> #REF! | H22: =TRUNC(F22*G22,2) -> #REF! | I22: =H22/#REF! -> #REF! | J22: =SUM($I$10:I22) -> #REF! | K22: =IF(J22<80%,"A",IF(J22<95%,"B",IF(J22<150%,"C",0))) -> #REF!
B23: 97668 | C23: =VLOOKUP(B23,#REF!,2,0) -> #REF! | D23: =VLOOKUP(B23,#REF!,3,0) -> #REF! | E23: =VLOOKUP(B23,#REF!,4,0) -> #REF! | F23: =SUMIF(#REF!,B23,#REF!) -> #REF! | G23: =VLOOKUP(B23,#REF!,7,0) -> #REF! | H23: =TRUNC(F23*G23,2) -> #REF! | I23: =H23/#REF! -> #REF! | J23: =SUM($I$10:I23) -> #REF! | K23: =IF(J23<80%,"A",IF(J23<95%,"B",IF(J23<150%,"C",0))) -> #REF!
B24: CP 021 | C24: =VLOOKUP(B24,#REF!,2,0) -> #REF! | D24: =VLOOKUP(B24,#REF!,3,0) -> #REF! | E24: =VLOOKUP(B24,#REF!,4,0) -> #REF! | F24: =SUMIF(#REF!,B24,#REF!) -> #REF! | G24: =VLOOKUP(B24,#REF!,7,0) -> #REF! | H24: =TRUNC(F24*G24,2) -> #REF! | I24: =H24/#REF! -> #REF! | J24: =SUM($I$10:I24) -> #REF! | K24: =IF(J24<80%,"A",IF(J24<95%,"B",IF(J24<150%,"C",0))) -> #REF!
B25: 3R 27 21 00 00 00 00 36 24 | C25: =VLOOKUP(B25,#REF!,2,0) -> #REF! | D25: =VLOOKUP(B25,#REF!,3,0) -> #REF! | E25: =VLOOKUP(B25,#REF!,4,0) -> #REF! | F25: =SUMIF(#REF!,B25,#REF!) -> #REF! | G25: =VLOOKUP(B25,#REF!,7,0) -> #REF! | H25: =TRUNC(F25*G25,2) -> #REF! | I25: =H25/#REF! -> #REF! | J25: =SUM($I$10:I25) -> #REF! | K25: =IF(J25<80%,"A",IF(J25<95%,"B",IF(J25<150%,"C",0))) -> #REF!
B26: 103670 | C26: =VLOOKUP(B26,#REF!,2,0) -> #REF! | D26: =VLOOKUP(B26,#REF!,3,0) -> #REF! | E26: =VLOOKUP(B26,#REF!,4,0) -> #REF! | F26: =SUMIF(#REF!,B26,#REF!) -> #REF! | G26: =VLOOKUP(B26,#REF!,7,0) -> #REF! | H26: =TRUNC(F26*G26,2) -> #REF! | I26: =H26/#REF! -> #REF! | J26: =SUM($I$10:I26) -> #REF! | K26: =IF(J26<80%,"A",IF(J26<95%,"B",IF(J26<150%,"C",0))) -> #REF!
B27: CP 002 | C27: =VLOOKUP(B27,#REF!,2,0) -> #REF! | D27: =VLOOKUP(B27,#REF!,3,0) -> #REF! | E27: =VLOOKUP(B27,#REF!,4,0) -> #REF! | F27: =SUMIF(#REF!,B27,#REF!) -> #REF! | G27: =VLOOKUP(B27,#REF!,7,0) -> #REF! | H27: =TRUNC(F27*G27,2) -> #REF! | I27: =H27/#REF! -> #REF! | J27: =SUM($I$10:I27) -> #REF! | K27: =IF(J27<80%,"A",IF(J27<95%,"B",IF(J27<150%,"C",0))) -> #REF!
B28: CP 032 | C28: =VLOOKUP(B28,#REF!,2,0) -> #REF! | D28: =VLOOKUP(B28,#REF!,3,0) -> #REF! | E28: =VLOOKUP(B28,#REF!,4,0) -> #REF! | F28: =SUMIF(#REF!,B28,#REF!) -> #REF! | G28: =VLOOKUP(B28,#REF!,7,0) -> #REF! | H28: =TRUNC(F28*G28,2) -> #REF! | I28: =H28/#REF! -> #REF! | J28: =SUM($I$10:I28) -> #REF! | K28: =IF(J28<80%,"A",IF(J28<95%,"B",IF(J28<150%,"C",0))) -> #REF!
B29: 94972 | C29: =VLOOKUP(B29,#REF!,2,0) -> #REF! | D29: =VLOOKUP(B29,#REF!,3,0) -> #REF! | E29: =VLOOKUP(B29,#REF!,4,0) -> #REF! | F29: =SUMIF(#REF!,B29,#REF!) -> #REF! | G29: =VLOOKUP(B29,#REF!,7,0) -> #REF! | H29: =TRUNC(F29*G29,2) -> #REF! | I29: =H29/#REF! -> #REF! | J29: =SUM($I$10:I29) -> #REF! | K29: =IF(J29<80%,"A",IF(J29<95%,"B",IF(J29<150%,"C",0))) -> #REF!
B30: 7070100520 | C30: =VLOOKUP(B30,#REF!,2,0) -> #REF! | D30: =VLOOKUP(B30,#REF!,3,0) -> #REF! | E30: =VLOOKUP(B30,#REF!,4,0) -> #REF! | F30: =SUMIF(#REF!,B30,#REF!) -> #REF! | G30: =VLOOKUP(B30,#REF!,7,0) -> #REF! | H30: =TRUNC(F30*G30,2) -> #REF! | I30: =H30/#REF! -> #REF! | J30: =SUM($I$10:I30) -> #REF! | K30: =IF(J30<80%,"A",IF(J30<95%,"B",IF(J30<150%,"C",0))) -> #REF!
B31: 7250200060 | C31: =VLOOKUP(B31,#REF!,2,0) -> #REF! | D31: =VLOOKUP(B31,#REF!,3,0) -> #REF! | E31: =VLOOKUP(B31,#REF!,4,0) -> #REF! | F31: =SUMIF(#REF!,B31,#REF!) -> #REF! | G31: =VLOOKUP(B31,#REF!,7,0) -> #REF! | H31: =TRUNC(F31*G31,2) -> #REF! | I31: =H31/#REF! -> #REF! | J31: =SUM($I$10:I31) -> #REF! | K31: =IF(J31<80%,"A",IF(J31<95%,"B",IF(J31<150%,"C",0))) -> #REF!
B32: 7250200150 | C32: =VLOOKUP(B32,#REF!,2,0) -> #REF! | D32: =VLOOKUP(B32,#REF!,3,0) -> #REF! | E32: =VLOOKUP(B32,#REF!,4,0) -> #REF! | F32: =SUMIF(#REF!,B32,#REF!) -> #REF! | G32: =VLOOKUP(B32,#REF!,7,0) -> #REF! | H32: =TRUNC(F32*G32,2) -> #REF! | I32: =H32/#REF! -> #REF! | J32: =SUM($I$10:I32) -> #REF! | K32: =IF(J32<80%,"A",IF(J32<95%,"B",IF(J32<150%,"C",0))) -> #REF!
B33: CP 006 | C33: =VLOOKUP(B33,#REF!,2,0) -> #REF! | D33: =VLOOKUP(B33,#REF!,3,0) -> #REF! | E33: =VLOOKUP(B33,#REF!,4,0) -> #REF! | F33: =SUMIF(#REF!,B33,#REF!) -> #REF! | G33: =VLOOKUP(B33,#REF!,7,0) -> #REF! | H33: =TRUNC(F33*G33,2) -> #REF! | I33: =H33/#REF! -> #REF! | J33: =SUM($I$10:I33) -> #REF! | K33: =IF(J33<80%,"A",IF(J33<95%,"B",IF(J33<150%,"C",0))) -> #REF!
B34: AUT-11 | C34: =VLOOKUP(B34,#REF!,2,0) -> #REF! | D34: =VLOOKUP(B34,#REF!,3,0) -> #REF! | E34: =VLOOKUP(B34,#REF!,4,0) -> #REF! | F34: =SUMIF(#REF!,B34,#REF!) -> #REF! | G34: =VLOOKUP(B34,#REF!,7,0) -> #REF! | H34: =TRUNC(F34*G34,2) -> #REF! | I34: =H34/#REF! -> #REF! | J34: =SUM($I$10:I34) -> #REF! | K34: =IF(J34<80%,"A",IF(J34<95%,"B",IF(J34<150%,"C",0))) -> #REF!
B35: 7070100480 | C35: =VLOOKUP(B35,#REF!,2,0) -> #REF! | D35: =VLOOKUP(B35,#REF!,3,0) -> #REF! | E35: =VLOOKUP(B35,#REF!,4,0) -> #REF! | F35: =SUMIF(#REF!,B35,#REF!) -> #REF! | G35: =VLOOKUP(B35,#REF!,7,0) -> #REF! | H35: =TRUNC(F35*G35,2) -> #REF! | I35: =H35/#REF! -> #REF! | J35: =SUM($I$10:I35) -> #REF! | K35: =IF(J35<80%,"A",IF(J35<95%,"B",IF(J35<150%,"C",0))) -> #REF!
B36: 102482 | C36: =VLOOKUP(B36,#REF!,2,0) -> #REF! | D36: =VLOOKUP(B36,#REF!,3,0) -> #REF! | E36: =VLOOKUP(B36,#REF!,4,0) -> #REF! | F36: =SUMIF(#REF!,B36,#REF!) -> #REF! | G36: =VLOOKUP(B36,#REF!,7,0) -> #REF! | H36: =TRUNC(F36*G36,2) -> #REF! | I36: =H36/#REF! -> #REF! | J36: =SUM($I$10:I36) -> #REF! | K36: =IF(J36<80%,"A",IF(J36<95%,"B",IF(J36<150%,"C",0))) -> #REF!
B37: 99842 | C37: =VLOOKUP(B37,#REF!,2,0) -> #REF! | D37: =VLOOKUP(B37,#REF!,3,0) -> #REF! | E37: =VLOOKUP(B37,#REF!,4,0) -> #REF! | F37: =SUMIF(#REF!,B37,#REF!) -> #REF! | G37: =VLOOKUP(B37,#REF!,7,0) -> #REF! | H37: =TRUNC(F37*G37,2) -> #REF! | I37: =H37/#REF! -> #REF! | J37: =SUM($I$10:I37) -> #REF! | K37: =IF(J37<80%,"A",IF(J37<95%,"B",IF(J37<150%,"C",0))) -> #REF!
B38: 96535 | C38: =VLOOKUP(B38,#REF!,2,0) -> #REF! | D38: =VLOOKUP(B38,#REF!,3,0) -> #REF! | E38: =VLOOKUP(B38,#REF!,4,0) -> #REF! | F38: =SUMIF(#REF!,B38,#REF!) -> #REF! | G38: =VLOOKUP(B38,#REF!,7,0) -> #REF! | H38: =TRUNC(F38*G38,2) -> #REF! | I38: =H38/#REF! -> #REF! | J38: =SUM($I$10:I38) -> #REF! | K38: =IF(J38<80%,"A",IF(J38<95%,"B",IF(J38<150%,"C",0))) -> #REF!
B39: CP 025 | C39: =VLOOKUP(B39,#REF!,2,0) -> #REF! | D39: =VLOOKUP(B39,#REF!,3,0) -> #REF! | E39: =VLOOKUP(B39,#REF!,4,0) -> #REF! | F39: =SUMIF(#REF!,B39,#REF!) -> #REF! | G39: =VLOOKUP(B39,#REF!,7,0) -> #REF! | H39: =TRUNC(F39*G39,2) -> #REF! | I39: =H39/#REF! -> #REF! | J39: =SUM($I$10:I39) -> #REF! | K39: =IF(J39<80%,"A",IF(J39<95%,"B",IF(J39<150%,"C",0))) -> #REF!
B40: 151715 | C40: =VLOOKUP(B40,#REF!,2,0) -> #REF! | D40: =VLOOKUP(B40,#REF!,3,0) -> #REF! | E40: =VLOOKUP(B40,#REF!,4,0) -> #REF! | F40: =SUMIF(#REF!,B40,#REF!) -> #REF! | G40: =VLOOKUP(B40,#REF!,7,0) -> #REF! | H40: =TRUNC(F40*G40,2) -> #REF! | I40: =H40/#REF! -> #REF! | J40: =SUM($I$10:I40) -> #REF! | K40: =IF(J40<80%,"A",IF(J40<95%,"B",IF(J40<150%,"C",0))) -> #REF!
B41: CP 011 | C41: =VLOOKUP(B41,#REF!,2,0) -> #REF! | D41: =VLOOKUP(B41,#REF!,3,0) -> #REF! | E41: =VLOOKUP(B41,#REF!,4,0) -> #REF! | F41: =SUMIF(#REF!,B41,#REF!) -> #REF! | G41: =VLOOKUP(B41,#REF!,7,0) -> #REF! | H41: =TRUNC(F41*G41,2) -> #REF! | I41: =H41/#REF! -> #REF! | J41: =SUM($I$10:I41) -> #REF! | K41: =IF(J41<80%,"A",IF(J41<95%,"B",IF(J41<150%,"C",0))) -> #REF!
B42: CP 004 | C42: =VLOOKUP(B42,#REF!,2,0) -> #REF! | D42: =VLOOKUP(B42,#REF!,3,0) -> #REF! | E42: =VLOOKUP(B42,#REF!,4,0) -> #REF! | F42: =SUMIF(#REF!,B42,#REF!) -> #REF! | G42: =VLOOKUP(B42,#REF!,7,0) -> #REF! | H42: =TRUNC(F42*G42,2) -> #REF! | I42: =H42/#REF! -> #REF! | J42: =SUM($I$10:I42) -> #REF! | K42: =IF(J42<80%,"A",IF(J42<95%,"B",IF(J42<150%,"C",0))) -> #REF!
B43: CP 020 | C43: =VLOOKUP(B43,#REF!,2,0) -> #REF! | D43: =VLOOKUP(B43,#REF!,3,0) -> #REF! | E43: =VLOOKUP(B43,#REF!,4,0) -> #REF! | F43: =SUMIF(#REF!,B43,#REF!) -> #REF! | G43: =VLOOKUP(B43,#REF!,7,0) -> #REF! | H43: =TRUNC(F43*G43,2) -> #REF! | I43: =H43/#REF! -> #REF! | J43: =SUM($I$10:I43) -> #REF! | K43: =IF(J43<80%,"A",IF(J43<95%,"B",IF(J43<150%,"C",0))) -> #REF!
B44: 7180100010 | C44: =VLOOKUP(B44,#REF!,2,0) -> #REF! | D44: =VLOOKUP(B44,#REF!,3,0) -> #REF! | E44: =VLOOKUP(B44,#REF!,4,0) -> #REF! | F44: =SUMIF(#REF!,B44,#REF!) -> #REF! | G44: =VLOOKUP(B44,#REF!,7,0) -> #REF! | H44: =TRUNC(F44*G44,2) -> #REF! | I44: =H44/#REF! -> #REF! | J44: =SUM($I$10:I44) -> #REF! | K44: =IF(J44<80%,"A",IF(J44<95%,"B",IF(J44<150%,"C",0))) -> #REF!
B45: 93358 | C45: =VLOOKUP(B45,#REF!,2,0) -> #REF! | D45: =VLOOKUP(B45,#REF!,3,0) -> #REF! | E45: =VLOOKUP(B45,#REF!,4,0) -> #REF! | F45: =SUMIF(#REF!,B45,#REF!) -> #REF! | G45: =VLOOKUP(B45,#REF!,7,0) -> #REF! | H45: =TRUNC(F45*G45,2) -> #REF! | I45: =H45/#REF! -> #REF! | J45: =SUM($I$10:I45) -> #REF! | K45: =IF(J45<80%,"A",IF(J45<95%,"B",IF(J45<150%,"C",0))) -> #REF!
B46: 103340 | C46: =VLOOKUP(B46,#REF!,2,0) -> #REF! | D46: =VLOOKUP(B46,#REF!,3,0) -> #REF! | E46: =VLOOKUP(B46,#REF!,4,0) -> #REF! | F46: =SUMIF(#REF!,B46,#REF!) -> #REF! | G46: =VLOOKUP(B46,#REF!,7,0) -> #REF! | H46: =TRUNC(F46*G46,2) -> #REF! | I46: =H46/#REF! -> #REF! | J46: =SUM($I$10:I46) -> #REF! | K46: =IF(J46<80%,"A",IF(J46<95%,"B",IF(J46<150%,"C",0))) -> #REF!
B47: COP 002 | C47: =VLOOKUP(B47,#REF!,2,0) -> #REF! | D47: =VLOOKUP(B47,#REF!,3,0) -> #REF! | E47: =VLOOKUP(B47,#REF!,4,0) -> #REF! | F47: =SUMIF(#REF!,B47,#REF!) -> #REF! | G47: =VLOOKUP(B47,#REF!,7,0) -> #REF! | H47: =TRUNC(F47*G47,2) -> #REF! | I47: =H47/#REF! -> #REF! | J47: =SUM($I$10:I47) -> #REF! | K47: =IF(J47<80%,"A",IF(J47<95%,"B",IF(J47<150%,"C",0))) -> #REF!
B48: E020000201 | C48: =VLOOKUP(B48,#REF!,2,0) -> #REF! | D48: =VLOOKUP(B48,#REF!,3,0) -> #REF! | E48: =VLOOKUP(B48,#REF!,4,0) -> #REF! | F48: =SUMIF(#REF!,B48,#REF!) -> #REF! | G48: =VLOOKUP(B48,#REF!,7,0) -> #REF! | H48: =TRUNC(F48*G48,2) -> #REF! | I48: =H48/#REF! -> #REF! | J48: =SUM($I$10:I48) -> #REF! | K48: =IF(J48<80%,"A",IF(J48<95%,"B",IF(J48<150%,"C",0))) -> #REF!
B49: PEÇA-109 | C49: =VLOOKUP(B49,#REF!,2,0) -> #REF! | D49: =VLOOKUP(B49,#REF!,3,0) -> #REF! | E49: =VLOOKUP(B49,#REF!,4,0) -> #REF! | F49: =SUMIF(#REF!,B49,#REF!) -> #REF! | G49: =VLOOKUP(B49,#REF!,7,0) -> #REF! | H49: =TRUNC(F49*G49,2) -> #REF! | I49: =H49/#REF! -> #REF! | J49: =SUM($I$10:I49) -> #REF! | K49: =IF(J49<80%,"A",IF(J49<95%,"B",IF(J49<150%,"C",0))) -> #REF!
B50: 7080100010 | C50: =VLOOKUP(B50,#REF!,2,0) -> #REF! | D50: =VLOOKUP(B50,#REF!,3,0) -> #REF! | E50: =VLOOKUP(B50,#REF!,4,0) -> #REF! | F50: =SUMIF(#REF!,B50,#REF!) -> #REF! | G50: =VLOOKUP(B50,#REF!,7,0) -> #REF! | H50: =TRUNC(F50*G50,2) -> #REF! | I50: =H50/#REF! -> #REF! | J50: =SUM($I$10:I50) -> #REF! | K50: =IF(J50<80%,"A",IF(J50<95%,"B",IF(J50<150%,"C",0))) -> #REF!
B51: COP 001 | C51: =VLOOKUP(B51,#REF!,2,0) -> #REF! | D51: =VLOOKUP(B51,#REF!,3,0) -> #REF! | E51: =VLOOKUP(B51,#REF!,4,0) -> #REF! | F51: =SUMIF(#REF!,B51,#REF!) -> #REF! | G51: =VLOOKUP(B51,#REF!,7,0) -> #REF! | H51: =TRUNC(F51*G51,2) -> #REF! | I51: =H51/#REF! -> #REF! | J51: =SUM($I$10:I51) -> #REF! | K51: =IF(J51<80%,"A",IF(J51<95%,"B",IF(J51<150%,"C",0))) -> #REF!
B52: 98562 | C52: =VLOOKUP(B52,#REF!,2,0) -> #REF! | D52: =VLOOKUP(B52,#REF!,3,0) -> #REF! | E52: =VLOOKUP(B52,#REF!,4,0) -> #REF! | F52: =SUMIF(#REF!,B52,#REF!) -> #REF! | G52: =VLOOKUP(B52,#REF!,7,0) -> #REF! | H52: =TRUNC(F52*G52,2) -> #REF! | I52: =H52/#REF! -> #REF! | J52: =SUM($I$10:I52) -> #REF! | K52: =IF(J52<80%,"A",IF(J52<95%,"B",IF(J52<150%,"C",0))) -> #REF!
B53: PEÇA-108 | C53: =VLOOKUP(B53,#REF!,2,0) -> #REF! | D53: =VLOOKUP(B53,#REF!,3,0) -> #REF! | E53: =VLOOKUP(B53,#REF!,4,0) -> #REF! | F53: =SUMIF(#REF!,B53,#REF!) -> #REF! | G53: =VLOOKUP(B53,#REF!,7,0) -> #REF! | H53: =TRUNC(F53*G53,2) -> #REF! | I53: =H53/#REF! -> #REF! | J53: =SUM($I$10:I53) -> #REF! | K53: =IF(J53<80%,"A",IF(J53<95%,"B",IF(J53<150%,"C",0))) -> #REF!
B54: 7010100060 | C54: =VLOOKUP(B54,#REF!,2,0) -> #REF! | D54: =VLOOKUP(B54,#REF!,3,0) -> #REF! | E54: =VLOOKUP(B54,#REF!,4,0) -> #REF! | F54: =SUMIF(#REF!,B54,#REF!) -> #REF! | G54: =VLOOKUP(B54,#REF!,7,0) -> #REF! | H54: =TRUNC(F54*G54,2) -> #REF! | I54: =H54/#REF! -> #REF! | J54: =SUM($I$10:I54) -> #REF! | K54: =IF(J54<80%,"A",IF(J54<95%,"B",IF(J54<150%,"C",0))) -> #REF!
B55: AC-13 | C55: =VLOOKUP(B55,#REF!,2,0) -> #REF! | D55: =VLOOKUP(B55,#REF!,3,0) -> #REF! | E55: =VLOOKUP(B55,#REF!,4,0) -> #REF! | F55: =SUMIF(#REF!,B55,#REF!) -> #REF! | G55: =VLOOKUP(B55,#REF!,7,0) -> #REF! | H55: =TRUNC(F55*G55,2) -> #REF! | I55: =H55/#REF! -> #REF! | J55: =SUM($I$10:I55) -> #REF! | K55: =IF(J55<80%,"A",IF(J55<95%,"B",IF(J55<150%,"C",0))) -> #REF!
B56: 94969 | C56: =VLOOKUP(B56,#REF!,2,0) -> #REF! | D56: =VLOOKUP(B56,#REF!,3,0) -> #REF! | E56: =VLOOKUP(B56,#REF!,4,0) -> #REF! | F56: =SUMIF(#REF!,B56,#REF!) -> #REF! | G56: =VLOOKUP(B56,#REF!,7,0) -> #REF! | H56: =TRUNC(F56*G56,2) -> #REF! | I56: =H56/#REF! -> #REF! | J56: =SUM($I$10:I56) -> #REF! | K56: =IF(J56<80%,"A",IF(J56<95%,"B",IF(J56<150%,"C",0))) -> #REF!
B57: PM-040 | C57: =VLOOKUP(B57,#REF!,2,0) -> #REF! | D57: =VLOOKUP(B57,#REF!,3,0) -> #REF! | E57: =VLOOKUP(B57,#REF!,4,0) -> #REF! | F57: =SUMIF(#REF!,B57,#REF!) -> #REF! | G57: =VLOOKUP(B57,#REF!,7,0) -> #REF! | H57: =TRUNC(F57*G57,2) -> #REF! | I57: =H57/#REF! -> #REF! | J57: =SUM($I$10:I57) -> #REF! | K57: =IF(J57<80%,"A",IF(J57<95%,"B",IF(J57<150%,"C",0))) -> #REF!
B58: CP 022 | C58: =VLOOKUP(B58,#REF!,2,0) -> #REF! | D58: =VLOOKUP(B58,#REF!,3,0) -> #REF! | E58: =VLOOKUP(B58,#REF!,4,0) -> #REF! | F58: =SUMIF(#REF!,B58,#REF!) -> #REF! | G58: =VLOOKUP(B58,#REF!,7,0) -> #REF! | H58: =TRUNC(F58*G58,2) -> #REF! | I58: =H58/#REF! -> #REF! | J58: =SUM($I$10:I58) -> #REF! | K58: =IF(J58<80%,"A",IF(J58<95%,"B",IF(J58<150%,"C",0))) -> #REF!
B59: 7250100100 | C59: =VLOOKUP(B59,#REF!,2,0) -> #REF! | D59: =VLOOKUP(B59,#REF!,3,0) -> #REF! | E59: =VLOOKUP(B59,#REF!,4,0) -> #REF! | F59: =SUMIF(#REF!,B59,#REF!) -> #REF! | G59: =VLOOKUP(B59,#REF!,7,0) -> #REF! | H59: =TRUNC(F59*G59,2) -> #REF! | I59: =H59/#REF! -> #REF! | J59: =SUM($I$10:I59) -> #REF! | K59: =IF(J59<80%,"A",IF(J59<95%,"B",IF(J59<150%,"C",0))) -> #REF!
B60: 92455 | C60: =VLOOKUP(B60,#REF!,2,0) -> #REF! | D60: =VLOOKUP(B60,#REF!,3,0) -> #REF! | E60: =VLOOKUP(B60,#REF!,4,0) -> #REF! | F60: =SUMIF(#REF!,B60,#REF!) -> #REF! | G60: =VLOOKUP(B60,#REF!,7,0) -> #REF! | H60: =TRUNC(F60*G60,2) -> #REF! | I60: =H60/#REF! -> #REF! | J60: =SUM($I$10:I60) -> #REF! | K60: =IF(J60<80%,"A",IF(J60<95%,"B",IF(J60<150%,"C",0))) -> #REF!
B61: PEÇA-22 | C61: =VLOOKUP(B61,#REF!,2,0) -> #REF! | D61: =VLOOKUP(B61,#REF!,3,0) -> #REF! | E61: =VLOOKUP(B61,#REF!,4,0) -> #REF! | F61: =SUMIF(#REF!,B61,#REF!) -> #REF! | G61: =VLOOKUP(B61,#REF!,7,0) -> #REF! | H61: =TRUNC(F61*G61,2) -> #REF! | I61: =H61/#REF! -> #REF! | J61: =SUM($I$10:I61) -> #REF! | K61: =IF(J61<80%,"A",IF(J61<95%,"B",IF(J61<150%,"C",0))) -> #REF!
B62: PEÇA-25 | C62: =VLOOKUP(B62,#REF!,2,0) -> #REF! | D62: =VLOOKUP(B62,#REF!,3,0) -> #REF! | E62: =VLOOKUP(B62,#REF!,4,0) -> #REF! | F62: =SUMIF(#REF!,B62,#REF!) -> #REF! | G62: =VLOOKUP(B62,#REF!,7,0) -> #REF! | H62: =TRUNC(F62*G62,2) -> #REF! | I62: =H62/#REF! -> #REF! | J62: =SUM($I$10:I62) -> #REF! | K62: =IF(J62<80%,"A",IF(J62<95%,"B",IF(J62<150%,"C",0))) -> #REF!
B63: PEÇA-107 | C63: =VLOOKUP(B63,#REF!,2,0) -> #REF! | D63: =VLOOKUP(B63,#REF!,3,0) -> #REF! | E63: =VLOOKUP(B63,#REF!,4,0) -> #REF! | F63: =SUMIF(#REF!,B63,#REF!) -> #REF! | G63: =VLOOKUP(B63,#REF!,7,0) -> #REF! | H63: =TRUNC(F63*G63,2) -> #REF! | I63: =H63/#REF! -> #REF! | J63: =SUM($I$10:I63) -> #REF! | K63: =IF(J63<80%,"A",IF(J63<95%,"B",IF(J63<150%,"C",0))) -> #REF!
B64: PEÇA-111 | C64: =VLOOKUP(B64,#REF!,2,0) -> #REF! | D64: =VLOOKUP(B64,#REF!,3,0) -> #REF! | E64: =VLOOKUP(B64,#REF!,4,0) -> #REF! | F64: =SUMIF(#REF!,B64,#REF!) -> #REF! | G64: =VLOOKUP(B64,#REF!,7,0) -> #REF! | H64: =TRUNC(F64*G64,2) -> #REF! | I64: =H64/#REF! -> #REF! | J64: =SUM($I$10:I64) -> #REF! | K64: =IF(J64<80%,"A",IF(J64<95%,"B",IF(J64<150%,"C",0))) -> #REF!
B65: CP 017 | C65: =VLOOKUP(B65,#REF!,2,0) -> #REF! | D65: =VLOOKUP(B65,#REF!,3,0) -> #REF! | E65: =VLOOKUP(B65,#REF!,4,0) -> #REF! | F65: =SUMIF(#REF!,B65,#REF!) -> #REF! | G65: =VLOOKUP(B65,#REF!,7,0) -> #REF! | H65: =TRUNC(F65*G65,2) -> #REF! | I65: =H65/#REF! -> #REF! | J65: =SUM($I$10:I65) -> #REF! | K65: =IF(J65<80%,"A",IF(J65<95%,"B",IF(J65<150%,"C",0))) -> #REF!
B66: 7250200110 | C66: =VLOOKUP(B66,#REF!,2,0) -> #REF! | D66: =VLOOKUP(B66,#REF!,3,0) -> #REF! | E66: =VLOOKUP(B66,#REF!,4,0) -> #REF! | F66: =SUMIF(#REF!,B66,#REF!) -> #REF! | G66: =VLOOKUP(B66,#REF!,7,0) -> #REF! | H66: =TRUNC(F66*G66,2) -> #REF! | I66: =H66/#REF! -> #REF! | J66: =SUM($I$10:I66) -> #REF! | K66: =IF(J66<80%,"A",IF(J66<95%,"B",IF(J66<150%,"C",0))) -> #REF!
B67: PM-015 | C67: =VLOOKUP(B67,#REF!,2,0) -> #REF! | D67: =VLOOKUP(B67,#REF!,3,0) -> #REF! | E67: =VLOOKUP(B67,#REF!,4,0) -> #REF! | F67: =SUMIF(#REF!,B67,#REF!) -> #REF! | G67: =VLOOKUP(B67,#REF!,7,0) -> #REF! | H67: =TRUNC(F67*G67,2) -> #REF! | I67: =H67/#REF! -> #REF! | J67: =SUM($I$10:I67) -> #REF! | K67: =IF(J67<80%,"A",IF(J67<95%,"B",IF(J67<150%,"C",0))) -> #REF!
B68: PM-010 | C68: =VLOOKUP(B68,#REF!,2,0) -> #REF! | D68: =VLOOKUP(B68,#REF!,3,0) -> #REF! | E68: =VLOOKUP(B68,#REF!,4,0) -> #REF! | F68: =SUMIF(#REF!,B68,#REF!) -> #REF! | G68: =VLOOKUP(B68,#REF!,7,0) -> #REF! | H68: =TRUNC(F68*G68,2) -> #REF! | I68: =H68/#REF! -> #REF! | J68: =SUM($I$10:I68) -> #REF! | K68: =IF(J68<80%,"A",IF(J68<95%,"B",IF(J68<150%,"C",0))) -> #REF!
B69: 7010100040 | C69: =VLOOKUP(B69,#REF!,2,0) -> #REF! | D69: =VLOOKUP(B69,#REF!,3,0) -> #REF! | E69: =VLOOKUP(B69,#REF!,4,0) -> #REF! | F69: =SUMIF(#REF!,B69,#REF!) -> #REF! | G69: =VLOOKUP(B69,#REF!,7,0) -> #REF! | H69: =TRUNC(F69*G69,2) -> #REF! | I69: =H69/#REF! -> #REF! | J69: =SUM($I$10:I69) -> #REF! | K69: =IF(J69<80%,"A",IF(J69<95%,"B",IF(J69<150%,"C",0))) -> #REF!
B70: 7010100100 | C70: =VLOOKUP(B70,#REF!,2,0) -> #REF! | D70: =VLOOKUP(B70,#REF!,3,0) -> #REF! | E70: =VLOOKUP(B70,#REF!,4,0) -> #REF! | F70: =SUMIF(#REF!,B70,#REF!) -> #REF! | G70: =VLOOKUP(B70,#REF!,7,0) -> #REF! | H70: =TRUNC(F70*G70,2) -> #REF! | I70: =H70/#REF! -> #REF! | J70: =SUM($I$10:I70) -> #REF! | K70: =IF(J70<80%,"A",IF(J70<95%,"B",IF(J70<150%,"C",0))) -> #REF!
B71: PEÇA-1 | C71: =VLOOKUP(B71,#REF!,2,0) -> #REF! | D71: =VLOOKUP(B71,#REF!,3,0) -> #REF! | E71: =VLOOKUP(B71,#REF!,4,0) -> #REF! | F71: =SUMIF(#REF!,B71,#REF!) -> #REF! | G71: =VLOOKUP(B71,#REF!,7,0) -> #REF! | H71: =TRUNC(F71*G71,2) -> #REF! | I71: =H71/#REF! -> #REF! | J71: =SUM($I$10:I71) -> #REF! | K71: =IF(J71<80%,"A",IF(J71<95%,"B",IF(J71<150%,"C",0))) -> #REF!
B72: CP 016 | C72: =VLOOKUP(B72,#REF!,2,0) -> #REF! | D72: =VLOOKUP(B72,#REF!,3,0) -> #REF! | E72: =VLOOKUP(B72,#REF!,4,0) -> #REF! | F72: =SUMIF(#REF!,B72,#REF!) -> #REF! | G72: =VLOOKUP(B72,#REF!,7,0) -> #REF! | H72: =TRUNC(F72*G72,2) -> #REF! | I72: =H72/#REF! -> #REF! | J72: =SUM($I$10:I72) -> #REF! | K72: =IF(J72<80%,"A",IF(J72<95%,"B",IF(J72<150%,"C",0))) -> #REF!
B73: PEÇA-21 | C73: =VLOOKUP(B73,#REF!,2,0) -> #REF! | D73: =VLOOKUP(B73,#REF!,3,0) -> #REF! | E73: =VLOOKUP(B73,#REF!,4,0) -> #REF! | F73: =SUMIF(#REF!,B73,#REF!) -> #REF! | G73: =VLOOKUP(B73,#REF!,7,0) -> #REF! | H73: =TRUNC(F73*G73,2) -> #REF! | I73: =H73/#REF! -> #REF! | J73: =SUM($I$10:I73) -> #REF! | K73: =IF(J73<80%,"A",IF(J73<95%,"B",IF(J73<150%,"C",0))) -> #REF!
B74: 7030100680 | C74: =VLOOKUP(B74,#REF!,2,0) -> #REF! | D74: =VLOOKUP(B74,#REF!,3,0) -> #REF! | E74: =VLOOKUP(B74,#REF!,4,0) -> #REF! | F74: =SUMIF(#REF!,B74,#REF!) -> #REF! | G74: =VLOOKUP(B74,#REF!,7,0) -> #REF! | H74: =TRUNC(F74*G74,2) -> #REF! | I74: =H74/#REF! -> #REF! | J74: =SUM($I$10:I74) -> #REF! | K74: =IF(J74<80%,"A",IF(J74<95%,"B",IF(J74<150%,"C",0))) -> #REF!
B75: PM-038 | C75: =VLOOKUP(B75,#REF!,2,0) -> #REF! | D75: =VLOOKUP(B75,#REF!,3,0) -> #REF! | E75: =VLOOKUP(B75,#REF!,4,0) -> #REF! | F75: =SUMIF(#REF!,B75,#REF!) -> #REF! | G75: =VLOOKUP(B75,#REF!,7,0) -> #REF! | H75: =TRUNC(F75*G75,2) -> #REF! | I75: =H75/#REF! -> #REF! | J75: =SUM($I$10:I75) -> #REF! | K75: =IF(J75<80%,"A",IF(J75<95%,"B",IF(J75<150%,"C",0))) -> #REF!
B76: CP 030 | C76: =VLOOKUP(B76,#REF!,2,0) -> #REF! | D76: =VLOOKUP(B76,#REF!,3,0) -> #REF! | E76: =VLOOKUP(B76,#REF!,4,0) -> #REF! | F76: =SUMIF(#REF!,B76,#REF!) -> #REF! | G76: =VLOOKUP(B76,#REF!,7,0) -> #REF! | H76: =TRUNC(F76*G76,2) -> #REF! | I76: =H76/#REF! -> #REF! | J76: =SUM($I$10:I76) -> #REF! | K76: =IF(J76<80%,"A",IF(J76<95%,"B",IF(J76<150%,"C",0))) -> #REF!
B77: PEÇA-19 | C77: =VLOOKUP(B77,#REF!,2,0) -> #REF! | D77: =VLOOKUP(B77,#REF!,3,0) -> #REF! | E77: =VLOOKUP(B77,#REF!,4,0) -> #REF! | F77: =SUMIF(#REF!,B77,#REF!) -> #REF! | G77: =VLOOKUP(B77,#REF!,7,0) -> #REF! | H77: =TRUNC(F77*G77,2) -> #REF! | I77: =H77/#REF! -> #REF! | J77: =SUM($I$10:I77) -> #REF! | K77: =IF(J77<80%,"A",IF(J77<95%,"B",IF(J77<150%,"C",0))) -> #REF!
B78: 200141 | C78: =VLOOKUP(B78,#REF!,2,0) -> #REF! | D78: =VLOOKUP(B78,#REF!,3,0) -> #REF! | E78: =VLOOKUP(B78,#REF!,4,0) -> #REF! | F78: =SUMIF(#REF!,B78,#REF!) -> #REF! | G78: =VLOOKUP(B78,#REF!,7,0) -> #REF! | H78: =TRUNC(F78*G78,2) -> #REF! | I78: =H78/#REF! -> #REF! | J78: =SUM($I$10:I78) -> #REF! | K78: =IF(J78<80%,"A",IF(J78<95%,"B",IF(J78<150%,"C",0))) -> #REF!
B79: 90228 | C79: =VLOOKUP(B79,#REF!,2,0) -> #REF! | D79: =VLOOKUP(B79,#REF!,3,0) -> #REF! | E79: =VLOOKUP(B79,#REF!,4,0) -> #REF! | F79: =SUMIF(#REF!,B79,#REF!) -> #REF! | G79: =VLOOKUP(B79,#REF!,7,0) -> #REF! | H79: =TRUNC(F79*G79,2) -> #REF! | I79: =H79/#REF! -> #REF! | J79: =SUM($I$10:I79) -> #REF! | K79: =IF(J79<80%,"A",IF(J79<95%,"B",IF(J79<150%,"C",0))) -> #REF!
B80: PEÇA-62 | C80: =VLOOKUP(B80,#REF!,2,0) -> #REF! | D80: =VLOOKUP(B80,#REF!,3,0) -> #REF! | E80: =VLOOKUP(B80,#REF!,4,0) -> #REF! | F80: =SUMIF(#REF!,B80,#REF!) -> #REF! | G80: =VLOOKUP(B80,#REF!,7,0) -> #REF! | H80: =TRUNC(F80*G80,2) -> #REF! | I80: =H80/#REF! -> #REF! | J80: =SUM($I$10:I80) -> #REF! | K80: =IF(J80<80%,"A",IF(J80<95%,"B",IF(J80<150%,"C",0))) -> #REF!
B81: PEÇA-61 | C81: =VLOOKUP(B81,#REF!,2,0) -> #REF! | D81: =VLOOKUP(B81,#REF!,3,0) -> #REF! | E81: =VLOOKUP(B81,#REF!,4,0) -> #REF! | F81: =SUMIF(#REF!,B81,#REF!) -> #REF! | G81: =VLOOKUP(B81,#REF!,7,0) -> #REF! | H81: =TRUNC(F81*G81,2) -> #REF! | I81: =H81/#REF! -> #REF! | J81: =SUM($I$10:I81) -> #REF! | K81: =IF(J81<80%,"A",IF(J81<95%,"B",IF(J81<150%,"C",0))) -> #REF!
B82: PEÇA-24 | C82: =VLOOKUP(B82,#REF!,2,0) -> #REF! | D82: =VLOOKUP(B82,#REF!,3,0) -> #REF! | E82: =VLOOKUP(B82,#REF!,4,0) -> #REF! | F82: =SUMIF(#REF!,B82,#REF!) -> #REF! | G82: =VLOOKUP(B82,#REF!,7,0) -> #REF! | H82: =TRUNC(F82*G82,2) -> #REF! | I82: =H82/#REF! -> #REF! | J82: =SUM($I$10:I82) -> #REF! | K82: =IF(J82<80%,"A",IF(J82<95%,"B",IF(J82<150%,"C",0))) -> #REF!
B83: 7010100010 | C83: =VLOOKUP(B83,#REF!,2,0) -> #REF! | D83: =VLOOKUP(B83,#REF!,3,0) -> #REF! | E83: =VLOOKUP(B83,#REF!,4,0) -> #REF! | F83: =SUMIF(#REF!,B83,#REF!) -> #REF! | G83: =VLOOKUP(B83,#REF!,7,0) -> #REF! | H83: =TRUNC(F83*G83,2) -> #REF! | I83: =H83/#REF! -> #REF! | J83: =SUM($I$10:I83) -> #REF! | K83: =IF(J83<80%,"A",IF(J83<95%,"B",IF(J83<150%,"C",0))) -> #REF!
B84: CP 028 | C84: =VLOOKUP(B84,#REF!,2,0) -> #REF! | D84: =VLOOKUP(B84,#REF!,3,0) -> #REF! | E84: =VLOOKUP(B84,#REF!,4,0) -> #REF! | F84: =SUMIF(#REF!,B84,#REF!) -> #REF! | G84: =VLOOKUP(B84,#REF!,7,0) -> #REF! | H84: =TRUNC(F84*G84,2) -> #REF! | I84: =H84/#REF! -> #REF! | J84: =SUM($I$10:I84) -> #REF! | K84: =IF(J84<80%,"A",IF(J84<95%,"B",IF(J84<150%,"C",0))) -> #REF!
B85: PEÇA-112 | C85: =VLOOKUP(B85,#REF!,2,0) -> #REF! | D85: =VLOOKUP(B85,#REF!,3,0) -> #REF! | E85: =VLOOKUP(B85,#REF!,4,0) -> #REF! | F85: =SUMIF(#REF!,B85,#REF!) -> #REF! | G85: =VLOOKUP(B85,#REF!,7,0) -> #REF! | H85: =TRUNC(F85*G85,2) -> #REF! | I85: =H85/#REF! -> #REF! | J85: =SUM($I$10:I85) -> #REF! | K85: =IF(J85<80%,"A",IF(J85<95%,"B",IF(J85<150%,"C",0))) -> #REF!
B86: PEÇA-18 | C86: =VLOOKUP(B86,#REF!,2,0) -> #REF! | D86: =VLOOKUP(B86,#REF!,3,0) -> #REF! | E86: =VLOOKUP(B86,#REF!,4,0) -> #REF! | F86: =SUMIF(#REF!,B86,#REF!) -> #REF! | G86: =VLOOKUP(B86,#REF!,7,0) -> #REF! | H86: =TRUNC(F86*G86,2) -> #REF! | I86: =H86/#REF! -> #REF! | J86: =SUM($I$10:I86) -> #REF! | K86: =IF(J86<80%,"A",IF(J86<95%,"B",IF(J86<150%,"C",0))) -> #REF!
B87: PEÇA-2 | C87: =VLOOKUP(B87,#REF!,2,0) -> #REF! | D87: =VLOOKUP(B87,#REF!,3,0) -> #REF! | E87: =VLOOKUP(B87,#REF!,4,0) -> #REF! | F87: =SUMIF(#REF!,B87,#REF!) -> #REF! | G87: =VLOOKUP(B87,#REF!,7,0) -> #REF! | H87: =TRUNC(F87*G87,2) -> #REF! | I87: =H87/#REF! -> #REF! | J87: =SUM($I$10:I87) -> #REF! | K87: =IF(J87<80%,"A",IF(J87<95%,"B",IF(J87<150%,"C",0))) -> #REF!
B88: 92419 | C88: =VLOOKUP(B88,#REF!,2,0) -> #REF! | D88: =VLOOKUP(B88,#REF!,3,0) -> #REF! | E88: =VLOOKUP(B88,#REF!,4,0) -> #REF! | F88: =SUMIF(#REF!,B88,#REF!) -> #REF! | G88: =VLOOKUP(B88,#REF!,7,0) -> #REF! | H88: =TRUNC(F88*G88,2) -> #REF! | I88: =H88/#REF! -> #REF! | J88: =SUM($I$10:I88) -> #REF! | K88: =IF(J88<80%,"A",IF(J88<95%,"B",IF(J88<150%,"C",0))) -> #REF!
B89: PM-001 | C89: =VLOOKUP(B89,#REF!,2,0) -> #REF! | D89: =VLOOKUP(B89,#REF!,3,0) -> #REF! | E89: =VLOOKUP(B89,#REF!,4,0) -> #REF! | F89: =SUMIF(#REF!,B89,#REF!) -> #REF! | G89: =VLOOKUP(B89,#REF!,7,0) -> #REF! | H89: =TRUNC(F89*G89,2) -> #REF! | I89: =H89/#REF! -> #REF! | J89: =SUM($I$10:I89) -> #REF! | K89: =IF(J89<80%,"A",IF(J89<95%,"B",IF(J89<150%,"C",0))) -> #REF!
B90: 101480 | C90: =VLOOKUP(B90,#REF!,2,0) -> #REF! | D90: =VLOOKUP(B90,#REF!,3,0) -> #REF! | E90: =VLOOKUP(B90,#REF!,4,0) -> #REF! | F90: =SUMIF(#REF!,B90,#REF!) -> #REF! | G90: =VLOOKUP(B90,#REF!,7,0) -> #REF! | H90: =TRUNC(F90*G90,2) -> #REF! | I90: =H90/#REF! -> #REF! | J90: =SUM($I$10:I90) -> #REF! | K90: =IF(J90<80%,"A",IF(J90<95%,"B",IF(J90<150%,"C",0))) -> #REF!
B91: 7010100050 | C91: =VLOOKUP(B91,#REF!,2,0) -> #REF! | D91: =VLOOKUP(B91,#REF!,3,0) -> #REF! | E91: =VLOOKUP(B91,#REF!,4,0) -> #REF! | F91: =SUMIF(#REF!,B91,#REF!) -> #REF! | G91: =VLOOKUP(B91,#REF!,7,0) -> #REF! | H91: =TRUNC(F91*G91,2) -> #REF! | I91: =H91/#REF! -> #REF! | J91: =SUM($I$10:I91) -> #REF! | K91: =IF(J91<80%,"A",IF(J91<95%,"B",IF(J91<150%,"C",0))) -> #REF!
B92: PM-045 | C92: =VLOOKUP(B92,#REF!,2,0) -> #REF! | D92: =VLOOKUP(B92,#REF!,3,0) -> #REF! | E92: =VLOOKUP(B92,#REF!,4,0) -> #REF! | F92: =SUMIF(#REF!,B92,#REF!) -> #REF! | G92: =VLOOKUP(B92,#REF!,7,0) -> #REF! | H92: =TRUNC(F92*G92,2) -> #REF! | I92: =H92/#REF! -> #REF! | J92: =SUM($I$10:I92) -> #REF! | K92: =IF(J92<80%,"A",IF(J92<95%,"B",IF(J92<150%,"C",0))) -> #REF!
B93: 100952 | C93: =VLOOKUP(B93,#REF!,2,0) -> #REF! | D93: =VLOOKUP(B93,#REF!,3,0) -> #REF! | E93: =VLOOKUP(B93,#REF!,4,0) -> #REF! | F93: =SUMIF(#REF!,B93,#REF!) -> #REF! | G93: =VLOOKUP(B93,#REF!,7,0) -> #REF! | H93: =TRUNC(F93*G93,2) -> #REF! | I93: =H93/#REF! -> #REF! | J93: =SUM($I$10:I93) -> #REF! | K93: =IF(J93<80%,"A",IF(J93<95%,"B",IF(J93<150%,"C",0))) -> #REF!
B94: CP 026 | C94: =VLOOKUP(B94,#REF!,2,0) -> #REF! | D94: =VLOOKUP(B94,#REF!,3,0) -> #REF! | E94: =VLOOKUP(B94,#REF!,4,0) -> #REF! | F94: =SUMIF(#REF!,B94,#REF!) -> #REF! | G94: =VLOOKUP(B94,#REF!,7,0) -> #REF! | H94: =TRUNC(F94*G94,2) -> #REF! | I94: =H94/#REF! -> #REF! | J94: =SUM($I$10:I94) -> #REF! | K94: =IF(J94<80%,"A",IF(J94<95%,"B",IF(J94<150%,"C",0))) -> #REF!
B95: 103689 | C95: =VLOOKUP(B95,#REF!,2,0) -> #REF! | D95: =VLOOKUP(B95,#REF!,3,0) -> #REF! | E95: =VLOOKUP(B95,#REF!,4,0) -> #REF! | F95: =SUMIF(#REF!,B95,#REF!) -> #REF! | G95: =VLOOKUP(B95,#REF!,7,0) -> #REF! | H95: =TRUNC(F95*G95,2) -> #REF! | I95: =H95/#REF! -> #REF! | J95: =SUM($I$10:I95) -> #REF! | K95: =IF(J95<80%,"A",IF(J95<95%,"B",IF(J95<150%,"C",0))) -> #REF!
B96: PEÇA-70 | C96: =VLOOKUP(B96,#REF!,2,0) -> #REF! | D96: =VLOOKUP(B96,#REF!,3,0) -> #REF! | E96: =VLOOKUP(B96,#REF!,4,0) -> #REF! | F96: =SUMIF(#REF!,B96,#REF!) -> #REF! | G96: =VLOOKUP(B96,#REF!,7,0) -> #REF! | H96: =TRUNC(F96*G96,2) -> #REF! | I96: =H96/#REF! -> #REF! | J96: =SUM($I$10:I96) -> #REF! | K96: =IF(J96<80%,"A",IF(J96<95%,"B",IF(J96<150%,"C",0))) -> #REF!
B97: CP 012 | C97: =VLOOKUP(B97,#REF!,2,0) -> #REF! | D97: =VLOOKUP(B97,#REF!,3,0) -> #REF! | E97: =VLOOKUP(B97,#REF!,4,0) -> #REF! | F97: =SUMIF(#REF!,B97,#REF!) -> #REF! | G97: =VLOOKUP(B97,#REF!,7,0) -> #REF! | H97: =TRUNC(F97*G97,2) -> #REF! | I97: =H97/#REF! -> #REF! | J97: =SUM($I$10:I97) -> #REF! | K97: =IF(J97<80%,"A",IF(J97<95%,"B",IF(J97<150%,"C",0))) -> #REF!
B98: PEÇA-38 | C98: =VLOOKUP(B98,#REF!,2,0) -> #REF! | D98: =VLOOKUP(B98,#REF!,3,0) -> #REF! | E98: =VLOOKUP(B98,#REF!,4,0) -> #REF! | F98: =SUMIF(#REF!,B98,#REF!) -> #REF! | G98: =VLOOKUP(B98,#REF!,7,0) -> #REF! | H98: =TRUNC(F98*G98,2) -> #REF! | I98: =H98/#REF! -> #REF! | J98: =SUM($I$10:I98) -> #REF! | K98: =IF(J98<80%,"A",IF(J98<95%,"B",IF(J98<150%,"C",0))) -> #REF!
B99: 103350 | C99: =VLOOKUP(B99,#REF!,2,0) -> #REF! | D99: =VLOOKUP(B99,#REF!,3,0) -> #REF! | E99: =VLOOKUP(B99,#REF!,4,0) -> #REF! | F99: =SUMIF(#REF!,B99,#REF!) -> #REF! | G99: =VLOOKUP(B99,#REF!,7,0) -> #REF! | H99: =TRUNC(F99*G99,2) -> #REF! | I99: =H99/#REF! -> #REF! | J99: =SUM($I$10:I99) -> #REF! | K99: =IF(J99<80%,"A",IF(J99<95%,"B",IF(J99<150%,"C",0))) -> #REF!
B100: 92762 | C100: =VLOOKUP(B100,#REF!,2,0) -> #REF! | D100: =VLOOKUP(B100,#REF!,3,0) -> #REF! | E100: =VLOOKUP(B100,#REF!,4,0) -> #REF! | F100: =SUMIF(#REF!,B100,#REF!) -> #REF! | G100: =VLOOKUP(B100,#REF!,7,0) -> #REF! | H100: =TRUNC(F100*G100,2) -> #REF! | I100: =H100/#REF! -> #REF! | J100: =SUM($I$10:I100) -> #REF! | K100: =IF(J100<80%,"A",IF(J100<95%,"B",IF(J100<150%,"C",0))) -> #REF!
B101: 93382 | C101: =VLOOKUP(B101,#REF!,2,0) -> #REF! | D101: =VLOOKUP(B101,#REF!,3,0) -> #REF! | E101: =VLOOKUP(B101,#REF!,4,0) -> #REF! | F101: =SUMIF(#REF!,B101,#REF!) -> #REF! | G101: =VLOOKUP(B101,#REF!,7,0) -> #REF! | H101: =TRUNC(F101*G101,2) -> #REF! | I101: =H101/#REF! -> #REF! | J101: =SUM($I$10:I101) -> #REF! | K101: =IF(J101<80%,"A",IF(J101<95%,"B",IF(J101<150%,"C",0))) -> #REF!
...

Sheet ADM LOCAL
E2: ADMINISTRAÇÃO LOCAL | J2: BDI | K2: =#REF! -> #REF!
B3: MÃO DE OBRA DE ADMINISTRAÇÃO DA OBRA
C4: CODIGO | D4: FONTE | E4: DESCRIÇÃO | F4: UNID. | G4: QTD. | H4: MÊS | I4: QTD. TOTAL | J4: PREÇO UNIT. | K4: TOTAL S/BDI | L4: TOTAL C/BDI
C5: 93568 | D5: =VLOOKUP(C5,#REF!,2,0) -> #REF! | E5: =VLOOKUP(C5,#REF!,3,0) -> #REF! | F5: =VLOOKUP(C5,#REF!,4,0) -> #REF! | G5: 1 | H5: 31 | I5: =G5*H5 -> 31 | J5: =VLOOKUP(C5,#REF!,5,0) -> #REF! | K5: =+TRUNC(I5*J5,2) -> #REF! | L5: =+TRUNC(I5*J5*(1+$K$2),2) -> #REF!
C6: 93565 | D6: =VLOOKUP(C6,#REF!,2,0) -> #REF! | E6: =VLOOKUP(C6,#REF!,3,0) -> #REF! | F6: =VLOOKUP(C6,#REF!,4,0) -> #REF! | G6: 1 | H6: 31 | I6: =G6*H6 -> 31 | J6: =VLOOKUP(C6,#REF!,5,0) -> #REF! | K6: =+TRUNC(I6*J6,2) -> #REF! | L6: =+TRUNC(I6*J6*(1+$K$2),2) -> #REF!
C7: 100534 | D7: =VLOOKUP(C7,#REF!,2,0) -> #REF! | E7: =VLOOKUP(C7,#REF!,3,0) -> #REF! | F7: =VLOOKUP(C7,#REF!,4,0) -> #REF! | G7: 1 | H7: 31 | I7: =G7*H7 -> 31 | J7: =VLOOKUP(C7,#REF!,5,0) -> #REF! | K7: =+TRUNC(I7*J7,2) -> #REF! | L7: =+TRUNC(I7*J7*(1+$K$2),2) -> #REF!
C8: 100321 | D8: =VLOOKUP(C8,#REF!,2,0) -> #REF! | E8: =VLOOKUP(C8,#REF!,3,0) -> #REF! | F8: =VLOOKUP(C8,#REF!,4,0) -> #REF! | G8: 2 | H8: 30 | I8: =G8*H8 -> 60 | J8: =VLOOKUP(C8,#REF!,5,0) -> #REF! | K8: =+TRUNC(I8*J8,2) -> #REF! | L8: =+TRUNC(I8*J8*(1+$K$2),2) -> #REF!
C9: 101401 | D9: =VLOOKUP(C9,#REF!,2,0) -> #REF! | E9: =VLOOKUP(C9,#REF!,3,0) -> #REF! | F9: =VLOOKUP(C9,#REF!,4,0) -> #REF! | G9: 2 | H9: 30 | I9: =G9*H9 -> 60 | J9: =VLOOKUP(C9,#REF!,5,0) -> #REF! | K9: =+TRUNC(I9*J9,2) -> #REF! | L9: =+TRUNC(I9*J9*(1+$K$2),2) -> #REF!
C10: 93563 | D10: =VLOOKUP(C10,#REF!,2,0) -> #REF! | E10: =VLOOKUP(C10,#REF!,3,0) -> #REF! | F10: =VLOOKUP(C10,#REF!,4,0) -> #REF! | G10: 2 | H10: 30 | I10: =G10*H10 -> 60 | J10: =VLOOKUP(C10,#REF!,5,0) -> #REF! | K10: =+TRUNC(I10*J10,2) -> #REF! | L10: =+TRUNC(I10*J10*(1+$K$2),2) -> #REF!
C11: 101388 | D11: =VLOOKUP(C11,#REF!,2,0) -> #REF! | E11: =VLOOKUP(C11,#REF!,3,0) -> #REF! | F11: =VLOOKUP(C11,#REF!,4,0) -> #REF! | G11: 2 | H11: 30 | I11: =G11*H11 -> 60 | J11: =VLOOKUP(C11,#REF!,5,0) -> #REF! | K11: =+TRUNC(I11*J11,2) -> #REF! | L11: =+TRUNC(I11*J11*(1+$K$2),2) -> #REF!
J14: SUB-TOTAL | K14: =SUM(K5:K13) -> #REF! | L14: =SUM(L5:L13) -> #REF!
B16: LOCAÇÃO DE VEÍCULOS E EQUIPAMENTOS
F17: UN | G17: QTD. | H17: MÊS | I17: QTD. TOTAL | J17: CUSTO UNIT. | K17: TOTAL S/BDI | L17: TOTAL C/BDI
C18: F030000207 | D18: =VLOOKUP(C18,#REF!,2,0) -> #REF! | E18: =VLOOKUP(C18,#REF!,3,0) -> #REF! | F18: =VLOOKUP(C18,#REF!,4,0) -> #REF! | G18: =G7+G8+G6+G5 -> 5 | H18: 30 | I18: =G18*H18 -> 150 | J18: =VLOOKUP(C18,#REF!,5,0) -> #REF! | K18: =+TRUNC(I18*J18,2) -> #REF! | L18: =+TRUNC(I18*J18*(1+$K$2),2) -> #REF!
C19: H029000070 | D19: =VLOOKUP(C19,#REF!,2,0) -> #REF! | E19: =VLOOKUP(C19,#REF!,3,0) -> #REF! | F19: =VLOOKUP(C19,#REF!,4,0) -> #REF! | G19: =G18/30 -> 0.16666667 | H19: 30 | I19: =G19*H19 -> 5 | J19: =VLOOKUP(C19,#REF!,5,0) -> #REF! | K19: =+TRUNC(I19*J19,2) -> #REF! | L19: =+TRUNC(I19*J19*(1+$K$2),2) -> #REF!
C20: H029000073 | D20: =VLOOKUP(C20,#REF!,2,0) -> #REF! | E20: =VLOOKUP(C20,#REF!,3,0) -> #REF! | F20: =VLOOKUP(C20,#REF!,4,0) -> #REF! | G20: =G18 -> 5 | H20: =H18 -> 30 | I20: =G20*H20 -> 150 | J20: =VLOOKUP(C20,#REF!,5,0) -> #REF! | K20: =+TRUNC(I20*J20,2) -> #REF! | L20: =+TRUNC(I20*J20*(1+$K$2),2) -> #REF!
C21: J040001331 | D21: =VLOOKUP(C21,#REF!,2,0) -> #REF! | E21: =VLOOKUP(C21,#REF!,3,0) -> #REF! | F21: =VLOOKUP(C21,#REF!,4,0) -> #REF! | G21: =G20/30 -> 0.16666667 | H21: 30 | I21: =G21*H21 -> 5 | J21: =VLOOKUP(C21,#REF!,5,0) -> #REF! | K21: =+TRUNC(I21*J21,2) -> #REF! | L21: =+TRUNC(I21*J21*(1+$K$2),2) -> #REF!
J23: SUB-TOTAL | K23: =SUM(K18:K22) -> #REF! | L23: =SUM(L18:L22) -> #REF!
B25: DESPESAS DIVERSAS
F26: UN | G26: QTD. | H26: MÊS | I26: QTD. TOTAL | J26: CUSTO UNIT. | K26: TOTAL S/BDI | L26: TOTAL C/BDI
C27: 4222 | D27: =VLOOKUP(C27,#REF!,2,0) -> #REF! | E27: =VLOOKUP(C27,#REF!,3,0) -> #REF! | F27: =VLOOKUP(C27,#REF!,4,0) -> #REF! | G27: =G18*1000/8 -> 625 | H27: =H18 -> 30 | I27: =G27*H27 -> 18750 | J27: =VLOOKUP(C27,#REF!,5,0) -> #REF! | K27: =+TRUNC(I27*J27,2) -> #REF! | L27: =+TRUNC(I27*J27*(1+$K$2),2) -> #REF!
C28: F020000109 | D28: =VLOOKUP(C28,#REF!,2,0) -> #REF! | E28: =VLOOKUP(C28,#REF!,3,0) -> #REF! | F28: =VLOOKUP(C28,#REF!,4,0) -> #REF! | G28: 1 | H28: 28 | I28: =G28*H28 -> 28 | J28: =VLOOKUP(C28,#REF!,5,0) -> #REF! | K28: =+TRUNC(I28*J28,2) -> #REF! | L28: =+TRUNC(I28*J28*(1+$K$2),2) -> #REF!
C29: F020000325 | D29: =VLOOKUP(C29,#REF!,2,0) -> #REF! | E29: =VLOOKUP(C29,#REF!,3,0) -> #REF! | F29: =VLOOKUP(C29,#REF!,4,0) -> #REF! | G29: 1 | H29: 28 | I29: =G29*H29 -> 28 | J29: =VLOOKUP(C29,#REF!,5,0) -> #REF! | K29: =+TRUNC(I29*J29,2) -> #REF! | L29: =+TRUNC(I29*J29*(1+$K$2),2) -> #REF!
C30: F020000326 | D30: =VLOOKUP(C30,#REF!,2,0) -> #REF! | E30: =VLOOKUP(C30,#REF!,3,0) -> #REF! | F30: =VLOOKUP(C30,#REF!,4,0) -> #REF! | G30: 1 | H30: 28 | I30: =G30*H30 -> 28 | J30: =VLOOKUP(C30,#REF!,5,0) -> #REF! | K30: =+TRUNC(I30*J30,2) -> #REF! | L30: =+TRUNC(I30*J30*(1+$K$2),2) -> #REF!
C31: F020000329 | D31: =VLOOKUP(C31,#REF!,2,0) -> #REF! | E31: =VLOOKUP(C31,#REF!,3,0) -> #REF! | F31: =VLOOKUP(C31,#REF!,4,0) -> #REF! | G31: 1 | H31: 28 | I31: =G31*H31 -> 28 | J31: =VLOOKUP(C31,#REF!,5,0) -> #REF! | K31: =+TRUNC(I31*J31,2) -> #REF! | L31: =+TRUNC(I31*J31*(1+$K$2),2) -> #REF!
J33: SUB-TOTAL | K33: =SUM(K32:K32) -> 0 | L33: =SUM(L27:L32) -> #REF!
J35: ADMINISTRAÇÃO LOCAL | L35: =SUM($L$33,$L$23,$L$14) -> #REF!
J36: % | L36: =L35/#REF! -> #REF!
