Workbook
Name \0: #REF!
Name \1: #REF!
Name \1: [1]PLANILHA!#REF!
Name \11: #REF!
Name \11: [2]PLANILHA!#REF!
Name \a: #REF!
Name \ates\z: #REF!
Name \ates\z: #REF!
Name \C: #REF!
Name \D: #REF!
Name \f: #N/A
Name \G: #REF!
Name \I: #REF!
Name \M: #REF!
Name \P: #REF!
Name \q: #REF!
Name \q: '[3]Bm 8'!#REF!
Name \R: #REF!
Name \s: '[3]Bm 8'!#REF!
Name \s: #REF!
Name \t: #REF!
Name \w: #REF!
Name \w: [4]PLANILHA!#REF!
Name \x: #REF!
Name \x: '[3]Bm 8'!#REF!
Name \Y: #REF!
Name _: #REF!
Name __\w: #REF!
Name ____\s: #REF!
Name ____\t: #REF!
Name ____\w: #REF!
Name _____\ates\z: #REF!
Name _____\w: #REF!
Name _____________________\s: #REF!
Name _____________________\t: #REF!
Name _____________________\w: #REF!
Name ________________________________________________Excel_BuiltIn_Print_Area_5_1: #REF!
Name _______________________________________________Excel_BuiltIn_Print_Area_5_1: #REF!
Name _____________________________________________Excel_BuiltIn_Print_Area_5_1: #REF!
Name ____________________________________________Excel_BuiltIn_Print_Area_5_1: #REF!
Name ___________________________________________Excel_BuiltIn_Print_Area_5_1: #REF!
Name __________________________________________Excel_BuiltIn_Print_Area_5_1: #REF!
Name _________________________________________Excel_BuiltIn_Print_Area_5_1: #REF!
Name ________________________________________Excel_BuiltIn_Print_Area_5_1: #REF!
Name _______________________________________Excel_BuiltIn_Print_Area_5_1: #REF!
Name ______________________________________Excel_BuiltIn_Print_Area_5_1: #REF!
Name _____________________________________Excel_BuiltIn_Print_Area_5_1: #REF!
Name ____________________________________Excel_BuiltIn_Print_Area_5_1: #REF!
Name ___________________________________Excel_BuiltIn_Print_Area_5_1: #REF!
Name __________________________________Excel_BuiltIn_Print_Area_5_1: #REF!
Name _________________________________Excel_BuiltIn_Print_Area_5_1: #REF!
Name ________________________________Excel_BuiltIn_Print_Area_5_1: #REF!
Name _______________________________Excel_BuiltIn_Print_Area_5_1: #REF!
Name ______________________________Excel_BuiltIn_Print_Area_5_1: #REF!
Name _____________________________Excel_BuiltIn_Print_Area_5_1: #REF!
Name ____________________________Excel_BuiltIn_Print_Area_5_1: #REF!
Name ___________________________Excel_BuiltIn_Print_Area_5_1: #REF!
Name __________________________Excel_BuiltIn_Print_Area_5_1: #REF!
Name _________________________Excel_BuiltIn_Print_Area_5_1: #REF!
Name ________________________Excel_BuiltIn_Print_Area_5_1: #REF!

Sheet 10 - RESUMO
C2: GOVERNO DO ESTADO DO ESPÍRITO SANTO Secretaria de Estado de Saneamento, Habitação e Desenvolvimento Urbano - SEDURB
B7: EMPREITEIRA: | C7: ='[50]11 - FINANCEIRO'!F6 -> Consórcio Exata-Monjardim
B8: TRECHO: | C8: ='[50]11 - FINANCEIRO'!C6 -> Rod. Gether Lopes de Farias
B9: DESCRIÇÃO: | C9: ='[50]11 - FINANCEIRO'!C7 -> CONTRATAÇÃO DE EMPRESA PARA EXECUÇÃO DE RECAPEAMENTO ASFÁLTICO E REMANESCENTE DAS OBRAS DE MACRODRENAGEM DO CÓRREGO SÃO SILVANO, MUNICÍPIO DE COLATINA/ES
B10: CONTR. N°.: | C10: 2026.000023.36101.01
B11: ASSINATURA: | C11: 46169
B12: PERÍODO DE EXECUÇÃO: | C12: ='11 - FINANCEIRO'!C9 -> 17/08/2026 a 31/08/2026
B14: ='11 - FINANCEIRO'!C8 -> 2
A15: 1.0 | B15: 1.0 | C15: ='[50]11 - FINANCEIRO'!B14 -> Serviços Preliminares | D15: 1 | F15: =A15 -> 1.0 | G15: =IF(D15>0,"POSITIVO",IF(D15=0,"NULO",IF(D15<0,"NEGATIVO"))) -> POSITIVO | H15: =SUM(H16:H31) -> 9
A16: 1.1 | B16: =VLOOKUP(A16,'11 - FINANCEIRO'!A:M,2,FALSE) -> 20305 | C16: =VLOOKUP(A16,'11 - FINANCEIRO'!A:M,3,FALSE) -> Placa de obra nas dimensões de 2.0 x 4.0 m, padrão DER | D16: =VLOOKUP(A16,'11 - FINANCEIRO'!A:M,10,FALSE) -> 0 | E16: =VLOOKUP(A16,'11 - FINANCEIRO'!A:M,4,FALSE) -> m2 | F16: =A16 -> 1.1 | G16: =IF(D16>0,"POSITIVO",IF(D16=0,"NULO",IF(D16<0,"NEGATIVO"))) -> NULO | H16: =IF(G16="NULO",0,1) -> 0
A17: 1.2 | B17: =VLOOKUP(A17,'11 - FINANCEIRO'!A:M,2,FALSE) -> CPU-4 | C17: =VLOOKUP(A17,'11 - FINANCEIRO'!A:M,3,FALSE) -> Limpeza manual e com jato de alta pressão, inclusive remoção, carga, transporte e descarga dos resíduos em área licenciada | D17: =VLOOKUP(A17,'11 - FINANCEIRO'!A:M,10,FALSE) -> 11519.32 | E17: =VLOOKUP(A17,'11 - FINANCEIRO'!A:M,4,FALSE) -> m2 | F17: =A17 -> 1.2 | G17: =IF(D17>0,"POSITIVO",IF(D17=0,"NULO",IF(D17<0,"NEGATIVO"))) -> POSITIVO | H17: =IF(G17="NULO",0,1) -> 1
A18: 1.3 | B18: =VLOOKUP(A18,'11 - FINANCEIRO'!A:M,2,FALSE) -> CPU-5 | C18: =VLOOKUP(A18,'11 - FINANCEIRO'!A:M,3,FALSE) -> Nivelamento de poço de visita, inclusive retirada, reassentamento do tampão, fôrma e materiais | D18: =VLOOKUP(A18,'11 - FINANCEIRO'!A:M,10,FALSE) -> 0 | E18: =VLOOKUP(A18,'11 - FINANCEIRO'!A:M,4,FALSE) -> und | F18: =A18 -> 1.3 | G18: =IF(D18>0,"POSITIVO",IF(D18=0,"NULO",IF(D18<0,"NEGATIVO"))) -> NULO | H18: =IF(G18="NULO",0,1) -> 0
A19: 1.4 | B19: =VLOOKUP(A19,'11 - FINANCEIRO'!A:M,2,FALSE) -> CPU-6 | C19: =VLOOKUP(A19,'11 - FINANCEIRO'!A:M,3,FALSE) -> Nivelamento de bocas de lobo, inclusive retirada, reassentamento e materiais | D19: =VLOOKUP(A19,'11 - FINANCEIRO'!A:M,10,FALSE) -> 0 | E19: =VLOOKUP(A19,'11 - FINANCEIRO'!A:M,4,FALSE) -> und | F19: =A19 -> 1.4 | G19: =IF(D19>0,"POSITIVO",IF(D19=0,"NULO",IF(D19<0,"NEGATIVO"))) -> NULO | H19: =IF(G19="NULO",0,1) -> 0
A20: 1.5 | B20: =VLOOKUP(A20,'11 - FINANCEIRO'!A:M,2,FALSE) -> CPU-7 | C20: =VLOOKUP(A20,'11 - FINANCEIRO'!A:M,3,FALSE) -> Nivelamento de grelhas, inclusive retirada, reassentamento e materiais | D20: =VLOOKUP(A20,'11 - FINANCEIRO'!A:M,10,FALSE) -> 0 | E20: =VLOOKUP(A20,'11 - FINANCEIRO'!A:M,4,FALSE) -> und | F20: =A20 -> 1.5 | G20: =IF(D20>0,"POSITIVO",IF(D20=0,"NULO",IF(D20<0,"NEGATIVO"))) -> NULO | H20: =IF(G20="NULO",0,1) -> 0
A21: 2 | B21: 2.0 | C21: ='[50]11 - FINANCEIRO'!B20 -> Instalação de Canteiro | F21: =A21 -> 2 | G21: =IF(D21>0,"POSITIVO",IF(D21=0,"NULO",IF(D21<0,"NEGATIVO"))) -> NULO | H21: =SUM(H22:H31) -> 4
A22: 2.1 | B22: =VLOOKUP(A22,'11 - FINANCEIRO'!A:M,2,FALSE) -> 20355 | C22: =VLOOKUP(A22,'11 - FINANCEIRO'!A:M,3,FALSE) -> Aluguel mensal container sanitário, incl porta, básc, 2 ptos luz, 1 pto aterram., 3vasos, 3lavatórios, calha mictório, 6 chuveiros (1 eletrico), torn.,registros, piso comp. Naval pintado, cert NR18 e laudo descontaminação | D22: =VLOOKUP(A22,'11 - FINANCEIRO'!A:M,10,FALSE) -> 1 | E22: =VLOOKUP(A22,'11 - FINANCEIRO'!A:M,4,FALSE) -> ms | F22: =A22 -> 2.1 | G22: =IF(D22>0,"POSITIVO",IF(D22=0,"NULO",IF(D22<0,"NEGATIVO"))) -> POSITIVO | H22: =IF(G22="NULO",0,1) -> 1
A23: 2.2 | B23: =VLOOKUP(A23,'11 - FINANCEIRO'!A:M,2,FALSE) -> 20356 | C23: =VLOOKUP(A23,'11 - FINANCEIRO'!A:M,3,FALSE) -> Aluguel mensal container para almoxarifado, incl. porta, 2 janelas, 1 pt iluminação, Isolamento térmico (teto), piso em comp. Naval pintado, cert. NR18, incl. laudo descontaminação. | D23: =VLOOKUP(A23,'11 - FINANCEIRO'!A:M,10,FALSE) -> 1 | E23: =VLOOKUP(A23,'11 - FINANCEIRO'!A:M,4,FALSE) -> ms | F23: =A23 -> 2.2 | G23: =IF(D23>0,"POSITIVO",IF(D23=0,"NULO",IF(D23<0,"NEGATIVO"))) -> POSITIVO | H23: =IF(G23="NULO",0,1) -> 1
A24: 2.3 | B24: =VLOOKUP(A24,'11 - FINANCEIRO'!A:M,2,FALSE) -> 20352 | C24: =VLOOKUP(A24,'11 - FINANCEIRO'!A:M,3,FALSE) -> Aluguel mensal container para escritório, dim. 6.00x2.40m, c/ banheiro (vaso+lavat+chuveiro e básc), incl. porta, 2 janelas, abert p/ ar cond., 2 pt iluminação, 2 tom. elét. e 1 tom.telef. Isolam.térmico(teto e paredes), piso em comp. Naval, cert. NR18, incl. laudo descontaminação. | D24: =VLOOKUP(A24,'11 - FINANCEIRO'!A:M,10,FALSE) -> 1 | E24: =VLOOKUP(A24,'11 - FINANCEIRO'!A:M,4,FALSE) -> ms | F24: =A24 -> 2.3 | G24: =IF(D24>0,"POSITIVO",IF(D24=0,"NULO",IF(D24<0,"NEGATIVO"))) -> POSITIVO | H24: =IF(G24="NULO",0,1) -> 1
A25: 2.4 | B25: =VLOOKUP(A25,'11 - FINANCEIRO'!A:M,2,FALSE) -> 20354 | C25: =VLOOKUP(A25,'11 - FINANCEIRO'!A:M,3,FALSE) -> Aluguel mensal container para vestiário, incl. porta, venezianas de circulação, 1 pt iluminação, Isolamento térmico (teto), piso em comp. Naval pintado, cert. NR18, incl. laudo descontaminação. | D25: =VLOOKUP(A25,'11 - FINANCEIRO'!A:M,10,FALSE) -> 0 | E25: =VLOOKUP(A25,'11 - FINANCEIRO'!A:M,4,FALSE) -> ms | F25: =A25 -> 2.4 | G25: =IF(D25>0,"POSITIVO",IF(D25=0,"NULO",IF(D25<0,"NEGATIVO"))) -> NULO | H25: =IF(G25="NULO",0,1) -> 0
A26: 2.5 | B26: =VLOOKUP(A26,'11 - FINANCEIRO'!A:M,2,FALSE) -> 7010100210 | C26: =VLOOKUP(A26,'11 - FINANCEIRO'!A:M,3,FALSE) -> BANHEIRO QUIMICO | D26: =VLOOKUP(A26,'11 - FINANCEIRO'!A:M,10,FALSE) -> 1 | E26: =VLOOKUP(A26,'11 - FINANCEIRO'!A:M,4,FALSE) -> UNM | F26: =A26 -> 2.5 | G26: =IF(D26>0,"POSITIVO",IF(D26=0,"NULO",IF(D26<0,"NEGATIVO"))) -> POSITIVO | H26: =IF(G26="NULO",0,1) -> 1
A27: 2.6 | B27: =VLOOKUP(A27,'11 - FINANCEIRO'!A:M,2,FALSE) -> 20711 | C27: =VLOOKUP(A27,'11 - FINANCEIRO'!A:M,3,FALSE) -> Reservatório de poliestileno de 1000 L, incl. suporte em madeira de 7x12cm e 8x7cm, elevado de 4m, conf. projeto (1 utilização) | D27: =VLOOKUP(A27,'11 - FINANCEIRO'!A:M,10,FALSE) -> 0 | E27: =VLOOKUP(A27,'11 - FINANCEIRO'!A:M,4,FALSE) -> und | G27: =IF(D27>0,"POSITIVO",IF(D27=0,"NULO",IF(D27<0,"NEGATIVO"))) -> NULO | H27: =IF(G27="NULO",0,1) -> 0
A28: 2.7 | B28: =VLOOKUP(A28,'11 - FINANCEIRO'!A:M,2,FALSE) -> 20712 | C28: =VLOOKUP(A28,'11 - FINANCEIRO'!A:M,3,FALSE) -> Rede de água com padrão de entrada dágua diâm. 3/4", conf. espec. CESAN, incl. tubos e conexões para alimentação, distribuição, extravasor e limpeza, cons. o padrão a 25m, conf. projeto (1 utilização) | D28: =VLOOKUP(A28,'11 - FINANCEIRO'!A:M,10,FALSE) -> 0 | E28: =VLOOKUP(A28,'11 - FINANCEIRO'!A:M,4,FALSE) -> m | G28: =IF(D28>0,"POSITIVO",IF(D28=0,"NULO",IF(D28<0,"NEGATIVO"))) -> NULO | H28: =IF(G28="NULO",0,1) -> 0
A29: 2.8 | B29: =VLOOKUP(A29,'11 - FINANCEIRO'!A:M,2,FALSE) -> 20713 | C29: =VLOOKUP(A29,'11 - FINANCEIRO'!A:M,3,FALSE) -> Rede de luz, incl. padrão entrada de energia trifás., cabo de ligação até barracões, quadro de distrib., disj. e chave de força (quando necessário), cons. 20m entre padrão entrada e QDG, conf. projeto (1 utilização) | D29: =VLOOKUP(A29,'11 - FINANCEIRO'!A:M,10,FALSE) -> 0 | E29: =VLOOKUP(A29,'11 - FINANCEIRO'!A:M,4,FALSE) -> m | G29: =IF(D29>0,"POSITIVO",IF(D29=0,"NULO",IF(D29<0,"NEGATIVO"))) -> NULO | H29: =IF(G29="NULO",0,1) -> 0
A30: 2.9 | B30: =VLOOKUP(A30,'11 - FINANCEIRO'!A:M,2,FALSE) -> 20714 | C30: =VLOOKUP(A30,'11 - FINANCEIRO'!A:M,3,FALSE) -> Rede de esgoto, contendo fossa e filtro, inclusive tubos e conexões de ligação entre caixas, considerando distância de 25m, conforme projeto (1 utilização) | D30: =VLOOKUP(A30,'11 - FINANCEIRO'!A:M,10,FALSE) -> 0 | E30: =VLOOKUP(A30,'11 - FINANCEIRO'!A:M,4,FALSE) -> m | F30: =A30 -> 2.9 | G30: =IF(D30>0,"POSITIVO",IF(D30=0,"NULO",IF(D30<0,"NEGATIVO"))) -> NULO | H30: =IF(G30="NULO",0,1) -> 0
A31: 2.10 | B31: =VLOOKUP(A31,'11 - FINANCEIRO'!A:M,2,FALSE) -> 20344 | C31: =VLOOKUP(A31,'11 - FINANCEIRO'!A:M,3,FALSE) -> Mobilização e desmobilização de conteiner locado para barracão de obra | D31: =VLOOKUP(A31,'11 - FINANCEIRO'!A:M,10,FALSE) -> 0 | E31: =VLOOKUP(A31,'11 - FINANCEIRO'!A:M,4,FALSE) -> und | F31: =A31 -> 2.10 | G31: =IF(D31>0,"POSITIVO",IF(D31=0,"NULO",IF(D31<0,"NEGATIVO"))) -> NULO | H31: =IF(G31="NULO",0,1) -> 0
A32: 3.0 | B32: =VLOOKUP(A32,'[51]11 - FINANCEIRO'!A:M,1,0) -> 3.0 | C32: ='[50]11 - FINANCEIRO'!B31 -> Sinalização de Obra | F32: =A32 -> 3.0 | G32: =IF(D32>0,"POSITIVO",IF(D32=0,"NULO",IF(D32<0,"NEGATIVO"))) -> NULO | H32: =SUBTOTAL(9,H36:H70) -> 74
A33: 3.1 | B33: =VLOOKUP(A33,'11 - FINANCEIRO'!A:M,2,FALSE) -> 5213850 | C33: =VLOOKUP(A33,'11 - FINANCEIRO'!A:M,3,FALSE) -> Operação de sinalização por bandeirola de tecido ou com placa metálica | D33: =VLOOKUP(A33,'11 - FINANCEIRO'!A:M,10,FALSE) -> 240 | E33: =VLOOKUP(A33,'11 - FINANCEIRO'!A:M,4,FALSE) -> h | F33: =A33 -> 3.1 | G33: =IF(D33>0,"POSITIVO",IF(D33=0,"NULO",IF(D33<0,"NEGATIVO"))) -> POSITIVO | H33: =IF(G33="NULO",0,1) -> 1
A34: 3.2 | B34: =VLOOKUP(A34,'11 - FINANCEIRO'!A:M,2,FALSE) -> 5213835 | C34: =VLOOKUP(A34,'11 - FINANCEIRO'!A:M,3,FALSE) -> Cone plástico para canalização de trânsito - utilização de 150 ciclos - fornecimento, 01 implantação e 01 retirada diária | D34: =VLOOKUP(A34,'11 - FINANCEIRO'!A:M,10,FALSE) -> 1020 | E34: =VLOOKUP(A34,'11 - FINANCEIRO'!A:M,4,FALSE) -> un.dia | F34: =A34 -> 3.2 | G34: =IF(D34>0,"POSITIVO",IF(D34=0,"NULO",IF(D34<0,"NEGATIVO"))) -> POSITIVO | H34: =IF(G34="NULO",0,1) -> 1
A35: 3.3 | B35: =VLOOKUP(A35,'11 - FINANCEIRO'!A:M,2,FALSE) -> 5212556 | C35: =VLOOKUP(A35,'11 - FINANCEIRO'!A:M,3,FALSE) -> Placa para sinalização de obras montada em cavalete metálico - 1,00 x 1,00 m - utilização de 600 ciclos - fornecimento, 01 implantação e 01 retirada diária | D35: =VLOOKUP(A35,'11 - FINANCEIRO'!A:M,10,FALSE) -> 180 | E35: =VLOOKUP(A35,'11 - FINANCEIRO'!A:M,4,FALSE) -> un.dia | F35: =A35 -> 3.3 | G35: =IF(D35>0,"POSITIVO",IF(D35=0,"NULO",IF(D35<0,"NEGATIVO"))) -> POSITIVO | H35: =IF(G35="NULO",0,1) -> 1
A36: 3.4 | B36: =VLOOKUP(A36,'11 - FINANCEIRO'!A:M,2,FALSE) -> 41202 | C36: =VLOOKUP(A36,'11 - FINANCEIRO'!A:M,3,FALSE) -> Sinalização noturna ( fio com lâmpada e balde ), fornecimento e instalação | D36: =VLOOKUP(A36,'11 - FINANCEIRO'!A:M,10,FALSE) -> 0 | E36: =VLOOKUP(A36,'11 - FINANCEIRO'!A:M,4,FALSE) -> M | F36: =A36 -> 3.4 | G36: =IF(D36>0,"POSITIVO",IF(D36=0,"NULO",IF(D36<0,"NEGATIVO"))) -> NULO | H36: =IF(G36="NULO",0,1) -> 0
A37: 3.5 | B37: =VLOOKUP(A37,'11 - FINANCEIRO'!A:M,2,FALSE) -> 5213387 | C37: =VLOOKUP(A37,'11 - FINANCEIRO'!A:M,3,FALSE) -> Barreira de sinalização tipo III de direcionamento ou bloqueio - confecção | D37: =VLOOKUP(A37,'11 - FINANCEIRO'!A:M,10,FALSE) -> 0 | E37: =VLOOKUP(A37,'11 - FINANCEIRO'!A:M,4,FALSE) -> un | F37: =A37 -> 3.5 | G37: =IF(D37>0,"POSITIVO",IF(D37=0,"NULO",IF(D37<0,"NEGATIVO"))) -> NULO | H37: =IF(G37="NULO",0,1) -> 0
A38: 4.0 | B38: 4.0 | C38: ='[50]11 - FINANCEIRO'!B37 -> Transporte, Movimento de Terra e Destinação | F38: =A38 -> 4.0 | G38: =IF(D38>0,"POSITIVO",IF(D38=0,"NULO",IF(D38<0,"NEGATIVO"))) -> NULO | H38: =SUM(H39:H43) -> 5
A39: 4.1 | B39: =VLOOKUP(A39,'11 - FINANCEIRO'!A:M,2,FALSE) -> 5915321 | C39: =VLOOKUP(A39,'11 - FINANCEIRO'!A:M,3,FALSE) -> Transporte com caminhão basculante de 14 m³ - rodovia pavimentada | D39: =VLOOKUP(A39,'11 - FINANCEIRO'!A:M,10,FALSE) -> 46899.652 | E39: =VLOOKUP(A39,'11 - FINANCEIRO'!A:M,4,FALSE) -> tkm | F39: =A39 -> 4.1 | G39: =IF(D39>0,"POSITIVO",IF(D39=0,"NULO",IF(D39<0,"NEGATIVO"))) -> POSITIVO | H39: =IF(G39="NULO",0,1) -> 1
A40: 4.2 | B40: =VLOOKUP(A40,'11 - FINANCEIRO'!A:M,2,FALSE) -> 40230 | C40: =VLOOKUP(A40,'11 - FINANCEIRO'!A:M,3,FALSE) -> Escavação e carga de material de 1ª categoria com escavadeira | D40: =VLOOKUP(A40,'11 - FINANCEIRO'!A:M,10,FALSE) -> 600 | E40: =VLOOKUP(A40,'11 - FINANCEIRO'!A:M,4,FALSE) -> m³ | F40: =A40 -> 4.2 | G40: =IF(D40>0,"POSITIVO",IF(D40=0,"NULO",IF(D40<0,"NEGATIVO"))) -> POSITIVO | H40: =IF(G40="NULO",0,1) -> 1
A41: 4.3 | B41: =VLOOKUP(A41,'11 - FINANCEIRO'!A:M,2,FALSE) -> 4413942 | C41: =VLOOKUP(A41,'11 - FINANCEIRO'!A:M,3,FALSE) -> Espalhamento de material em bota-fora | D41: =VLOOKUP(A41,'11 - FINANCEIRO'!A:M,10,FALSE) -> 2500 | E41: =VLOOKUP(A41,'11 - FINANCEIRO'!A:M,4,FALSE) -> m³ | F41: =A41 -> 4.3 | G41: =IF(D41>0,"POSITIVO",IF(D41=0,"NULO",IF(D41<0,"NEGATIVO"))) -> POSITIVO | H41: =IF(G41="NULO",0,1) -> 1
A42: 4.4 | B42: =VLOOKUP(A42,'11 - FINANCEIRO'!A:M,2,FALSE) -> 5914622 | C42: =VLOOKUP(A42,'11 - FINANCEIRO'!A:M,3,FALSE) -> Transporte de material betuminoso com caminhão tanque distribuidor - rodovia pavimentada | D42: =VLOOKUP(A42,'11 - FINANCEIRO'!A:M,10,FALSE) -> 20400.723 | E42: =VLOOKUP(A42,'11 - FINANCEIRO'!A:M,4,FALSE) -> tkm | F42: =A42 -> 4.4 | G42: =IF(D42>0,"POSITIVO",IF(D42=0,"NULO",IF(D42<0,"NEGATIVO"))) -> POSITIVO | H42: =IF(G42="NULO",0,1) -> 1
A43: 4.5 | B43: =VLOOKUP(A43,'11 - FINANCEIRO'!A:M,2,FALSE) -> 30304 | C43: =VLOOKUP(A43,'11 - FINANCEIRO'!A:M,3,FALSE) -> Índice de preço para remoção de entulho decorrente da execução de obras (Classe A CONAMA - NBR 10.004 - Classe II-B), incluindo aluguel da caçamba, carga, transporte e descarga em área licenciada | D43: =VLOOKUP(A43,'11 - FINANCEIRO'!A:M,10,FALSE) -> 2500 | E43: =VLOOKUP(A43,'11 - FINANCEIRO'!A:M,4,FALSE) -> m3 | F43: =A43 -> 4.5 | G43: =IF(D43>0,"POSITIVO",IF(D43=0,"NULO",IF(D43<0,"NEGATIVO"))) -> POSITIVO | H43: =IF(G43="NULO",0,1) -> 1
A44: 5.0 | B44: 5.0 | C44: ='[50]11 - FINANCEIRO'!B43 -> Recomposição da Rede de Drenagem | F44: =A44 -> 5.0 | G44: =IF(D44>0,"POSITIVO",IF(D44=0,"NULO",IF(D44<0,"NEGATIVO"))) -> NULO | H44: =SUM(H45:H55) -> 2
A45: 5.1 | B45: =VLOOKUP(A45,'11 - FINANCEIRO'!A:M,2,FALSE) -> CPU-1 | C45: =VLOOKUP(A45,'11 - FINANCEIRO'!A:M,3,FALSE) -> SERVIÇO DE REPARO E REJUNTE EM INTERIOR DE GALERIA DE DRENAGEM 3,00 X 2,00 M CONFINADA - CONFECÇÃO EM MISTURADOR E LANÇAMENTO PROJETADO DE ARGAMASSA POLIMÉRICA, INCLUSIVE LIMPEZA POR JATEAMENTO | D45: =VLOOKUP(A45,'11 - FINANCEIRO'!A:M,10,FALSE) -> 270 | E45: =VLOOKUP(A45,'11 - FINANCEIRO'!A:M,4,FALSE) -> M | F45: =A45 -> 5.1 | G45: =IF(D45>0,"POSITIVO",IF(D45=0,"NULO",IF(D45<0,"NEGATIVO"))) -> POSITIVO | H45: =IF(G45="NULO",0,1) -> 1
A46: 5.2 | B46: =VLOOKUP(A46,'11 - FINANCEIRO'!A:M,2,FALSE) -> 5501706 | C46: =VLOOKUP(A46,'11 - FINANCEIRO'!A:M,3,FALSE) -> Escavação mecânica com retroescavadeira em material de 1ª categoria | D46: =VLOOKUP(A46,'11 - FINANCEIRO'!A:M,10,FALSE) -> 0 | E46: =VLOOKUP(A46,'11 - FINANCEIRO'!A:M,4,FALSE) -> m³ | F46: =A46 -> 5.2 | G46: =IF(D46>0,"POSITIVO",IF(D46=0,"NULO",IF(D46<0,"NEGATIVO"))) -> NULO | H46: =IF(G46="NULO",0,1) -> 0
A47: 5.3 | B47: =VLOOKUP(A47,'11 - FINANCEIRO'!A:M,2,FALSE) -> CPU-2 | C47: =VLOOKUP(A47,'11 - FINANCEIRO'!A:M,3,FALSE) -> Limpeza manual de galeria, inclusos transportes horizontal e vertical no interior da mesma | D47: =VLOOKUP(A47,'11 - FINANCEIRO'!A:M,10,FALSE) -> 600 | E47: =VLOOKUP(A47,'11 - FINANCEIRO'!A:M,4,FALSE) -> m³ | F47: =A47 -> 5.3 | G47: =IF(D47>0,"POSITIVO",IF(D47=0,"NULO",IF(D47<0,"NEGATIVO"))) -> POSITIVO | H47: =IF(G47="NULO",0,1) -> 1
A48: 5.4 | B48: =VLOOKUP(A48,'11 - FINANCEIRO'!A:M,2,FALSE) -> 2003866 | C48: =VLOOKUP(A48,'11 - FINANCEIRO'!A:M,3,FALSE) -> Aplicação de geotêxtil não-tecido agulhado com resistência à tração longitudinal de 14 kN/m | D48: =VLOOKUP(A48,'11 - FINANCEIRO'!A:M,10,FALSE) -> 0 | E48: =VLOOKUP(A48,'11 - FINANCEIRO'!A:M,4,FALSE) -> m² | F48: =A48 -> 5.4 | G48: =IF(D48>0,"POSITIVO",IF(D48=0,"NULO",IF(D48<0,"NEGATIVO"))) -> NULO | H48: =IF(G48="NULO",0,1) -> 0
A49: 5.5 | B49: =VLOOKUP(A49,'11 - FINANCEIRO'!A:M,2,FALSE) -> 40810 | C49: =VLOOKUP(A49,'11 - FINANCEIRO'!A:M,3,FALSE) -> Recomposição de concreto estrutural, com utilização de argamassa de uso geral Graute cimentício | D49: =VLOOKUP(A49,'11 - FINANCEIRO'!A:M,10,FALSE) -> 0 | E49: =VLOOKUP(A49,'11 - FINANCEIRO'!A:M,4,FALSE) -> m3 | F49: =A49 -> 5.5 | G49: =IF(D49>0,"POSITIVO",IF(D49=0,"NULO",IF(D49<0,"NEGATIVO"))) -> NULO | H49: =IF(G49="NULO",0,1) -> 0
A50: 5.6 | B50: =VLOOKUP(A50,'11 - FINANCEIRO'!A:M,2,FALSE) -> 93379 | C50: =VLOOKUP(A50,'11 - FINANCEIRO'!A:M,3,FALSE) -> REATERRO MECANIZADO DE VALA COM RETROESCAVADEIRA (CAPACIDADE DA CAÇAMBA DA RETRO: 0,26 M³/POTÊNCIA: 88 HP), LARGURA 0,8 A 1,5 M, PROFUNDIDADE ATÉ 1,5 M, COM SOLO (SEM SUBSTITUIÇÃO) DE 1ª CATEGORIA, COM COMPACTADOR DE SOLOS DE PERCUSSÃO AF_08/2023 | D50: =VLOOKUP(A50,'11 - FINANCEIRO'!A:M,10,FALSE) -> 0 | E50: =VLOOKUP(A50,'11 - FINANCEIRO'!A:M,4,FALSE) -> M3 | F50: =A50 -> 5.6 | G50: =IF(D50>0,"POSITIVO",IF(D50=0,"NULO",IF(D50<0,"NEGATIVO"))) -> NULO | H50: =IF(G50="NULO",0,1) -> 0
A51: 5.7 | B51: =VLOOKUP(A51,'11 - FINANCEIRO'!A:M,2,FALSE) -> 4011320 | C51: =VLOOKUP(A51,'11 - FINANCEIRO'!A:M,3,FALSE) -> Base ou sub-base estabilizada granulometricamente com mistura solo brita (70% - 30%) na pista com material de jazida e brita comercial - 100% Proctor modificado | D51: =VLOOKUP(A51,'11 - FINANCEIRO'!A:M,10,FALSE) -> 0 | E51: =VLOOKUP(A51,'11 - FINANCEIRO'!A:M,4,FALSE) -> m³ | F51: =A51 -> 5.7 | G51: =IF(D51>0,"POSITIVO",IF(D51=0,"NULO",IF(D51<0,"NEGATIVO"))) -> NULO | H51: =IF(G51="NULO",0,1) -> 0
A52: 5.8 | B52: =VLOOKUP(A52,'11 - FINANCEIRO'!A:M,2,FALSE) -> CPU-3 | C52: =VLOOKUP(A52,'11 - FINANCEIRO'!A:M,3,FALSE) -> Trincheira drenante em concreto armado, incluindo grelhas, escavação e reaterro (exceto grelha). (7,00m) | D52: =VLOOKUP(A52,'11 - FINANCEIRO'!A:M,10,FALSE) -> 0 | E52: =VLOOKUP(A52,'11 - FINANCEIRO'!A:M,4,FALSE) -> und | F52: =A52 -> 5.8 | G52: =IF(D52>0,"POSITIVO",IF(D52=0,"NULO",IF(D52<0,"NEGATIVO"))) -> NULO | H52: =IF(G52="NULO",0,1) -> 0
A53: 5.9 | B53: =VLOOKUP(A53,'11 - FINANCEIRO'!A:M,2,FALSE) -> 2003864 | C53: =VLOOKUP(A53,'11 - FINANCEIRO'!A:M,3,FALSE) -> Esgotamento de água com bomba submersa | D53: =VLOOKUP(A53,'11 - FINANCEIRO'!A:M,10,FALSE) -> 0 | E53: =VLOOKUP(A53,'11 - FINANCEIRO'!A:M,4,FALSE) -> h | F53: =A53 -> 5.9 | G53: =IF(D53>0,"POSITIVO",IF(D53=0,"NULO",IF(D53<0,"NEGATIVO"))) -> NULO | H53: =IF(G53="NULO",0,1) -> 0
A54: 5.10 | B54: =VLOOKUP(A54,'11 - FINANCEIRO'!A:M,2,FALSE) -> 7050100050 | C54: =VLOOKUP(A54,'11 - FINANCEIRO'!A:M,3,FALSE) -> ENSECADEIRA COM SACOS DE AREIA | D54: =VLOOKUP(A54,'11 - FINANCEIRO'!A:M,10,FALSE) -> 0 | E54: =VLOOKUP(A54,'11 - FINANCEIRO'!A:M,4,FALSE) -> M3 | F54: =A54 -> 5.10 | G54: =IF(D54>0,"POSITIVO",IF(D54=0,"NULO",IF(D54<0,"NEGATIVO"))) -> NULO | H54: =IF(G54="NULO",0,1) -> 0
A55: 5.11 | B55: =VLOOKUP(A55,'11 - FINANCEIRO'!A:M,2,FALSE) -> 407820 | C55: =VLOOKUP(A55,'11 - FINANCEIRO'!A:M,3,FALSE) -> Armação em aço CA-60 - fornecimento, preparo e colocação | D55: =VLOOKUP(A55,'11 - FINANCEIRO'!A:M,10,FALSE) -> 0 | E55: =VLOOKUP(A55,'11 - FINANCEIRO'!A:M,4,FALSE) -> kg | F55: =A55 -> 5.11 | G55: =IF(D55>0,"POSITIVO",IF(D55=0,"NULO",IF(D55<0,"NEGATIVO"))) -> NULO | H55: =IF(G55="NULO",0,1) -> 0
A56: 6.0 | B56: 6.0 | C56: ='[50]11 - FINANCEIRO'!B55 -> Calçadas e Parque Linear | F56: =A56 -> 6.0 | G56: =IF(D56>0,"POSITIVO",IF(D56=0,"NULO",IF(D56<0,"NEGATIVO"))) -> NULO | H56: =SUM(H57:H70) -> 30
A57: 6.1 | B57: 6.1 | C57: ='[50]11 - FINANCEIRO'!B56 -> Recomposição de Calçadas | F57: =A57 -> 6.1 | G57: =IF(D57>0,"POSITIVO",IF(D57=0,"NULO",IF(D57<0,"NEGATIVO"))) -> NULO | H57: =SUM(H58:H70) -> 15
A58: 6.1.1 | B58: =VLOOKUP(A58,'11 - FINANCEIRO'!A:M,2,FALSE) -> 40911 | C58: =VLOOKUP(A58,'11 - FINANCEIRO'!A:M,3,FALSE) -> Calçada de concreto | D58: =VLOOKUP(A58,'11 - FINANCEIRO'!A:M,10,FALSE) -> 235.68 | E58: =VLOOKUP(A58,'11 - FINANCEIRO'!A:M,4,FALSE) -> M2 | F58: =A58 -> 6.1.1 | G58: =IF(D58>0,"POSITIVO",IF(D58=0,"NULO",IF(D58<0,"NEGATIVO"))) -> POSITIVO | H58: =IF(G58="NULO",0,1) -> 1
A59: 6.1.2 | B59: =VLOOKUP(A59,'11 - FINANCEIRO'!A:M,2,FALSE) -> 40912 | C59: =VLOOKUP(A59,'11 - FINANCEIRO'!A:M,3,FALSE) -> Ladrilho hidráulico (argamassa cimento e areia 1:4), fornecimento e assentamento | D59: =VLOOKUP(A59,'11 - FINANCEIRO'!A:M,10,FALSE) -> 47.42 | E59: =VLOOKUP(A59,'11 - FINANCEIRO'!A:M,4,FALSE) -> M2 | F59: =A59 -> 6.1.2 | G59: =IF(D59>0,"POSITIVO",IF(D59=0,"NULO",IF(D59<0,"NEGATIVO"))) -> POSITIVO | H59: =IF(G59="NULO",0,1) -> 1
A60: 6.2 | B60: 6.2 | C60: ='[50]11 - FINANCEIRO'!B59 -> Parque Linear | F60: =A60 -> 6.2 | G60: =IF(D60>0,"POSITIVO",IF(D60=0,"NULO",IF(D60<0,"NEGATIVO"))) -> NULO | H60: =SUM(H61:H74) -> 13
A61: 6.2.1 | B61: =VLOOKUP(A61,'11 - FINANCEIRO'!A:M,2,FALSE) -> 210301 | C61: =VLOOKUP(A61,'11 - FINANCEIRO'!A:M,3,FALSE) -> Guarda corpo de tubo de ferro galvanizado, diâm. 3" e 2", h=0.8 m inclusive pintura a óleo ou esmalte | D61: =VLOOKUP(A61,'11 - FINANCEIRO'!A:M,10,FALSE) -> 0 | E61: =VLOOKUP(A61,'11 - FINANCEIRO'!A:M,4,FALSE) -> M | F61: =A61 -> 6.2.1 | G61: =IF(D61>0,"POSITIVO",IF(D61=0,"NULO",IF(D61<0,"NEGATIVO"))) -> NULO | H61: =IF(G61="NULO",0,1) -> 0
A62: 6.2.2 | B62: =VLOOKUP(A62,'11 - FINANCEIRO'!A:M,2,FALSE) -> 200563 | C62: =VLOOKUP(A62,'11 - FINANCEIRO'!A:M,3,FALSE) -> Banco de concreto armado aparente com apoios de alvenaria assentada com argamassa de cimento, cal e areia, largura de 0,50m e espessura de 0,05m | D62: =VLOOKUP(A62,'11 - FINANCEIRO'!A:M,10,FALSE) -> 0 | E62: =VLOOKUP(A62,'11 - FINANCEIRO'!A:M,4,FALSE) -> m | F62: =A62 -> 6.2.2 | G62: =IF(D62>0,"POSITIVO",IF(D62=0,"NULO",IF(D62<0,"NEGATIVO"))) -> NULO | H62: =IF(G62="NULO",0,1) -> 0
A63: 6.2.3 | B63: =VLOOKUP(A63,'11 - FINANCEIRO'!A:M,2,FALSE) -> 103307 | C63: =VLOOKUP(A63,'11 - FINANCEIRO'!A:M,3,FALSE) -> INSTALAÇÃO DE LIXEIRA METÁLICA DUPLA, CAPACIDADE DE 60 L, EM TUBO DE AÇO CARBONO E CESTOS EM CHAPA DE AÇO COM PINTURA ELETROSTÁTICA, SOBRE PISO DE CONCRETO EXISTENTE. AF_11/2021 | D63: =VLOOKUP(A63,'11 - FINANCEIRO'!A:M,10,FALSE) -> 0 | E63: =VLOOKUP(A63,'11 - FINANCEIRO'!A:M,4,FALSE) -> UN | F63: =A63 -> 6.2.3 | G63: =IF(D63>0,"POSITIVO",IF(D63=0,"NULO",IF(D63<0,"NEGATIVO"))) -> NULO | H63: =IF(G63="NULO",0,1) -> 0
A64: 6.2.4 | B64: =VLOOKUP(A64,'11 - FINANCEIRO'!A:M,2,FALSE) -> COMP. ELETRICO | C64: =VLOOKUP(A64,'11 - FINANCEIRO'!A:M,3,FALSE) -> Padrão de entrada de energia elétrica, trifásico, entrada aérea, a 4 fios, carga instalada de 57001 até 75000W, instalada em poste. | D64: =VLOOKUP(A64,'11 - FINANCEIRO'!A:M,10,FALSE) -> 0 | E64: =VLOOKUP(A64,'11 - FINANCEIRO'!A:M,4,FALSE) -> UNID. | F64: =A64 -> 6.2.4 | G64: =IF(D64>0,"POSITIVO",IF(D64=0,"NULO",IF(D64<0,"NEGATIVO"))) -> NULO | H64: =IF(G64="NULO",0,1) -> 0
A65: 6.2.5 | B65: =VLOOKUP(A65,'11 - FINANCEIRO'!A:M,2,FALSE) -> 150307 | C65: =VLOOKUP(A65,'11 - FINANCEIRO'!A:M,3,FALSE) -> Quadro de distribuição de energia, de embutir, com 18 divisões modulares, com barramento | D65: =VLOOKUP(A65,'11 - FINANCEIRO'!A:M,10,FALSE) -> 0 | E65: =VLOOKUP(A65,'11 - FINANCEIRO'!A:M,4,FALSE) -> und | F65: =A65 -> 6.2.5 | G65: =IF(D65>0,"POSITIVO",IF(D65=0,"NULO",IF(D65<0,"NEGATIVO"))) -> NULO | H65: =IF(G65="NULO",0,1) -> 0
A66: 6.2.6 | B66: =VLOOKUP(A66,'11 - FINANCEIRO'!A:M,2,FALSE) -> 93665 | C66: =VLOOKUP(A66,'11 - FINANCEIRO'!A:M,3,FALSE) -> DISJUNTOR BIPOLAR TIPO DIN, CORRENTE NOMINAL DE 40A - FORNECIMENTO E INSTALAÇÃO. AF_10/2020 | D66: =VLOOKUP(A66,'11 - FINANCEIRO'!A:M,10,FALSE) -> 0 | E66: =VLOOKUP(A66,'11 - FINANCEIRO'!A:M,4,FALSE) -> UN | F66: =A66 -> 6.2.6 | G66: =IF(D66>0,"POSITIVO",IF(D66=0,"NULO",IF(D66<0,"NEGATIVO"))) -> NULO | H66: =IF(G66="NULO",0,1) -> 0
A67: 6.2.7 | B67: =VLOOKUP(A67,'11 - FINANCEIRO'!A:M,2,FALSE) -> 91932 | C67: =VLOOKUP(A67,'11 - FINANCEIRO'!A:M,3,FALSE) -> CABO DE COBRE FLEXÍVEL ISOLADO, 10 MM², ANTI-CHAMA 450/750 V, PARA CIRCUITOS TERMINAIS - FORNECIMENTO E INSTALAÇÃO. AF_03/2023 | D67: =VLOOKUP(A67,'11 - FINANCEIRO'!A:M,10,FALSE) -> 0 | E67: =VLOOKUP(A67,'11 - FINANCEIRO'!A:M,4,FALSE) -> M | F67: =A67 -> 6.2.7 | G67: =IF(D67>0,"POSITIVO",IF(D67=0,"NULO",IF(D67<0,"NEGATIVO"))) -> NULO | H67: =IF(G67="NULO",0,1) -> 0
A68: 6.2.8 | B68: =VLOOKUP(A68,'11 - FINANCEIRO'!A:M,2,FALSE) -> 91930 | C68: =VLOOKUP(A68,'11 - FINANCEIRO'!A:M,3,FALSE) -> CABO DE COBRE FLEXÍVEL ISOLADO, 6 MM², ANTI-CHAMA 450/750 V, PARA CIRCUITOS TERMINAIS - FORNECIMENTO E INSTALAÇÃO. AF_03/2023 | D68: =VLOOKUP(A68,'11 - FINANCEIRO'!A:M,10,FALSE) -> 0 | E68: =VLOOKUP(A68,'11 - FINANCEIRO'!A:M,4,FALSE) -> M | F68: =A68 -> 6.2.8 | G68: =IF(D68>0,"POSITIVO",IF(D68=0,"NULO",IF(D68<0,"NEGATIVO"))) -> NULO | H68: =IF(G68="NULO",0,1) -> 0
A69: 6.2.9 | B69: =VLOOKUP(A69,'11 - FINANCEIRO'!A:M,2,FALSE) -> 101632 | C69: =VLOOKUP(A69,'11 - FINANCEIRO'!A:M,3,FALSE) -> RELÉ FOTOELÉTRICO PARA COMANDO DE ILUMINAÇÃO EXTERNA 1000 W - FORNECIMENTO E INSTALAÇÃO. AF_02/2025 | D69: =VLOOKUP(A69,'11 - FINANCEIRO'!A:M,10,FALSE) -> 0 | E69: =VLOOKUP(A69,'11 - FINANCEIRO'!A:M,4,FALSE) -> UN | F69: =A69 -> 6.2.9 | G69: =IF(D69>0,"POSITIVO",IF(D69=0,"NULO",IF(D69<0,"NEGATIVO"))) -> NULO | H69: =IF(G69="NULO",0,1) -> 0
A70: 6.2.10 | B70: =VLOOKUP(A70,'11 - FINANCEIRO'!A:M,2,FALSE) -> COMP. ELETRICO 2 | C70: =VLOOKUP(A70,'11 - FINANCEIRO'!A:M,3,FALSE) -> Iluminação com luminárias de Led incluso mão de obra. | D70: =VLOOKUP(A70,'11 - FINANCEIRO'!A:M,10,FALSE) -> 0 | E70: =VLOOKUP(A70,'11 - FINANCEIRO'!A:M,4,FALSE) -> Unid. | F70: =A70 -> 6.2.10 | G70: =IF(D70>0,"POSITIVO",IF(D70=0,"NULO",IF(D70<0,"NEGATIVO"))) -> NULO | H70: =IF(G70="NULO",0,1) -> 0
A71: 7.0 | B71: 7.0 | C71: {='[50]11 - FINANCEIRO'!B70:C70} -> Pavimentação | D71: 0 | F71: =A71 -> 7.0 | G71: =IF(D71>0,"POSITIVO",IF(D71=0,"NULO",IF(D71<0,"NEGATIVO"))) -> NULO | H71: =SUM(H73:H80) -> 6
A72: 7.1 | B72: 7.1 | C72: {='[50]11 - FINANCEIRO'!B71:C71} -> Serviços de Pavimentação | D72: 0 | F72: =A72 -> 7.1 | G72: =IF(D72>0,"POSITIVO",IF(D72=0,"NULO",IF(D72<0,"NEGATIVO"))) -> NULO | H72: =SUM(H74:H80) -> 5
A73: 7.1.1 | B73: =VLOOKUP(A73,'11 - FINANCEIRO'!A:M,2,FALSE) -> 40864 | C73: =VLOOKUP(A73,'11 - FINANCEIRO'!A:M,3,FALSE) -> Obturação de buracos c/ CBUQ exclusive fornecimento e transporte dos materiais betuminosos | D73: =VLOOKUP(A73,'11 - FINANCEIRO'!A:M,10,FALSE) -> 2.92215 | E73: =VLOOKUP(A73,'11 - FINANCEIRO'!A:M,4,FALSE) -> t | F73: =A73 -> 7.1.1 | G73: =IF(D73>0,"POSITIVO",IF(D73=0,"NULO",IF(D73<0,"NEGATIVO"))) -> POSITIVO | H73: =IF(G73="NULO",0,1) -> 1
A74: 7.1.2 | B74: =VLOOKUP(A74,'11 - FINANCEIRO'!A:M,2,FALSE) -> 43342 | C74: =VLOOKUP(A74,'11 - FINANCEIRO'!A:M,3,FALSE) -> CBUQ (camada pronta-faixa "C") , exclusive fornecimento do CAP e transporte de todos os materiais (traço padrão areia e brita) | D74: =VLOOKUP(A74,'11 - FINANCEIRO'!A:M,10,FALSE) -> 1324.7223 | E74: =VLOOKUP(A74,'11 - FINANCEIRO'!A:M,4,FALSE) -> t | F74: =A74 -> 7.1.2 | G74: =IF(D74>0,"POSITIVO",IF(D74=0,"NULO",IF(D74<0,"NEGATIVO"))) -> POSITIVO | H74: =IF(G74="NULO",0,1) -> 1
A75: 7.1.3 | B75: =VLOOKUP(A75,'11 - FINANCEIRO'!A:M,2,FALSE) -> 4011353 | C75: =VLOOKUP(A75,'11 - FINANCEIRO'!A:M,3,FALSE) -> Pintura de ligação | D75: =VLOOKUP(A75,'11 - FINANCEIRO'!A:M,10,FALSE) -> 11519.324 | E75: =VLOOKUP(A75,'11 - FINANCEIRO'!A:M,4,FALSE) -> m² | F75: =A75 -> 7.1.3 | G75: =IF(D75>0,"POSITIVO",IF(D75=0,"NULO",IF(D75<0,"NEGATIVO"))) -> POSITIVO | H75: =IF(G75="NULO",0,1) -> 1
A76: 7.2 | B76: 7.2 | C76: {='[50]11 - FINANCEIRO'!B75:C75} -> Aquisição de Materiais Betuminosos - BDI Diferenciado (15,28%) | D76: 0 | F76: =A76 -> 7.2 | G76: =IF(D76>0,"POSITIVO",IF(D76=0,"NULO",IF(D76<0,"NEGATIVO"))) -> NULO | H76: =SUM(H78:H80) -> 1
A77: 7.2.1 | B77: =VLOOKUP(A77,'11 - FINANCEIRO'!A:M,2,FALSE) -> 10009 | C77: =VLOOKUP(A77,'11 - FINANCEIRO'!A:M,3,FALSE) -> Emulsão RR 1C | D77: =VLOOKUP(A77,'11 - FINANCEIRO'!A:M,10,FALSE) -> 5.1836958 | E77: =VLOOKUP(A77,'11 - FINANCEIRO'!A:M,4,FALSE) -> t | F77: =A77 -> 7.2.1 | G77: =IF(D77>0,"POSITIVO",IF(D77=0,"NULO",IF(D77<0,"NEGATIVO"))) -> POSITIVO | H77: =IF(G77="NULO",0,1) -> 1
A78: 7.2.2 | B78: =VLOOKUP(A78,'11 - FINANCEIRO'!A:M,2,FALSE) -> 10001 | C78: =VLOOKUP(A78,'11 - FINANCEIRO'!A:M,3,FALSE) -> CAP 50/70 | D78: =VLOOKUP(A78,'11 - FINANCEIRO'!A:M,10,FALSE) -> 79.682044 | E78: =VLOOKUP(A78,'11 - FINANCEIRO'!A:M,4,FALSE) -> t | F78: =A78 -> 7.2.2 | G78: =IF(D78>0,"POSITIVO",IF(D78=0,"NULO",IF(D78<0,"NEGATIVO"))) -> POSITIVO | H78: =IF(G78="NULO",0,1) -> 1
A79: 7.3 | B79: 7.3 | C79: {='[50]11 - FINANCEIRO'!B78:C78} -> Sinalização Horizontal | D79: 0 | F79: =A79 -> 7.3 | G79: =IF(D79>0,"POSITIVO",IF(D79=0,"NULO",IF(D79<0,"NEGATIVO"))) -> NULO | H79: =SUM(H80:H80) -> 0
A80: 7.3.1 | B80: =VLOOKUP(A80,'11 - FINANCEIRO'!A:M,2,FALSE) -> 40927 | C80: =VLOOKUP(A80,'11 - FINANCEIRO'!A:M,3,FALSE) -> Sinalização horizontal TMD=600, vida útil 3 anos, taxa=3,0 kg/m² material termoplástico ) | D80: =VLOOKUP(A80,'11 - FINANCEIRO'!A:M,10,FALSE) -> 0 | E80: =VLOOKUP(A80,'11 - FINANCEIRO'!A:M,4,FALSE) -> M2 | F80: =A80 -> 7.3.1 | G80: =IF(D80>0,"POSITIVO",IF(D80=0,"NULO",IF(D80<0,"NEGATIVO"))) -> NULO | H80: =IF(G80="NULO",0,1) -> 0
C83: _____________________________________________________
C84: Eduardo Gratz Pimentel
C85: Fiscal do Contrato
M4290: 0.004

Sheet 11 - FINANCEIRO
A1: GOVERNO DO ESTADO DO ESPÍRITO SANTO Secretaria de Estado de Saneamento, Habitação e Desenvolvimento Urbano - SEDURB
A5: INFORMAÇÕES GERAIS DA MEDIÇÃO | D5: EMPREITEIRA
A6: TRECHO: | C6: Rod. Gether Lopes de Farias | D6: EMPREITEIRA: | F6: Consórcio Exata-Monjardim
A7: DESCRIÇÃO: | C7: CONTRATAÇÃO DE EMPRESA PARA EXECUÇÃO DE RECAPEAMENTO ASFÁLTICO E REMANESCENTE DAS OBRAS DE MACRODRENAGEM DO CÓRREGO SÃO SILVANO, MUNICÍPIO DE COLATINA/ES | D7: CONTRATO N°: | F7: 2026.000023.36101.01
A8: MEDIÇÃO: | C8: 2 | D8: ASSINATURA: | F8: 46169
A9: PERÍODO: | C9: 17/08/2026 a 31/08/2026 | D9: INÍCIO SERVIÇO: | F9: 46192
A11: PLANILHA FINANCEIRA
A12: ITEM | C12: SERVIÇO | D12: und. | E12: CONTRATUAL | H12: ACUMULADO ANTERIOR | J12: =C8 -> 2 | L12: ACUMULADO TOTAL
A13: Referência | B13: CÓDIGO | E13: PREÇO UNIT. | F13: QUANT. | G13: TOTAL | H13: QUANT. | I13: TOTAL | J13: QUANT. | K13: TOTAL | L13: QUANT. | M13: TOTAL
A14: 1.0 | B14: Serviços Preliminares | G14: =SUM(G15:G19) -> 113381.61 | I14: =SUBTOTAL(9,I15:I19) -> 44501.97 | K14: =SUBTOTAL(9,K15:K19) -> 38689.91 | M14: =SUBTOTAL(9,M15:M19) -> 83191.88
A15: 1.1 | B15: 20305 | C15: Placa de obra nas dimensões de 2.0 x 4.0 m, padrão DER | D15: m2 | E15: 310.14082 | F15: 18.96 | G15: =ROUND(F15*E15,2) -> 5880.27 | H15: 18.96 | I15: 5880.27 | J15: ='12 - MEMÓRIA'!R20 -> 0 | K15: =M15-I15 -> 0 | L15: =J15+H15 -> 18.96 | M15: =ROUND(L15*E15,2) -> 5880.27
A16: 1.2 | B16: CPU-4 | C16: Limpeza manual e com jato de alta pressão, inclusive remoção, carga, transporte e descarga dos resíduos em área licenciada | D16: m2 | E16: 3.3586974 | F16: 24000.34 | G16: =F16*E16 -> 80609.88 | H16: 11499.01 | I16: 38621.7 | J16: ='12 - MEMÓRIA'!R29 -> 11519.32 | K16: =M16-I16 -> 38689.91 | L16: =J16+H16 -> 23018.33 | M16: =ROUND(L16*E16,2) -> 77311.61
A17: 1.3 | B17: CPU-5 | C17: Nivelamento de poço de visita, inclusive retirada, reassentamento do tampão, fôrma e materiais | D17: und | E17: 288.425 | F17: 40 | G17: =F17*E17 -> 11537 | H17: 0 | I17: 0 | J17: 0 | K17: =M17-I17 -> 0 | L17: =J17+H17 -> 0 | M17: =ROUND(L17*E17,2) -> 0
A18: 1.4 | B18: CPU-6 | C18: Nivelamento de bocas de lobo, inclusive retirada, reassentamento e materiais | D18: und | E18: 244.35172 | F18: 58 | G18: =F18*E18 -> 14172.4 | H18: 0 | I18: 0 | J18: 0 | K18: =M18-I18 -> 0 | L18: =J18+H18 -> 0 | M18: =ROUND(L18*E18,2) -> 0
A19: 1.5 | B19: CPU-7 | C19: Nivelamento de grelhas, inclusive retirada, reassentamento e materiais | D19: und | E19: 295.515 | F19: 4 | G19: =F19*E19 -> 1182.06 | H19: 0 | I19: 0 | J19: 0 | K19: =M19-I19 -> 0 | L19: =J19+H19 -> 0 | M19: =ROUND(L19*E19,2) -> 0
A20: 2.0 | B20: Instalação de Canteiro | G20: =SUM(G21:G30) -> 73971.93 | I20: =SUBTOTAL(9,I21:I30) -> 10099.49 | K20: =SUBTOTAL(9,K21:K30) -> 6702.33 | M20: =SUBTOTAL(9,M21:M30) -> 16801.82
A21: 2.1 | B21: 20355 | C21: Aluguel mensal container sanitário, incl porta, básc, 2 ptos luz, 1 pto aterram., 3vasos, 3lavatórios, calha mictório, 6 chuveiros (1 eletrico), torn.,registros, piso comp. Naval pintado, cert NR18 e laudo descontaminação | D21: ms | E21: 1537.374 | F21: 5 | G21: =F21*E21 -> 7686.87 | H21: 1 | I21: 1537.37 | J21: ='12 - MEMÓRIA'!R47 -> 1 | K21: =M21-I21 -> 1537.38 | L21: =J21+H21 -> 2 | M21: =ROUND(L21*E21,2) -> 3074.75
A22: 2.2 | B22: 20356 | C22: Aluguel mensal container para almoxarifado, incl. porta, 2 janelas, 1 pt iluminação, Isolamento térmico (teto), piso em comp. Naval pintado, cert. NR18, incl. laudo descontaminação. | D22: ms | E22: 1046.926 | F22: 5 | G22: =F22*E22 -> 5234.63 | H22: 1 | I22: 1046.93 | J22: ='12 - MEMÓRIA'!R56 -> 1 | K22: =M22-I22 -> 1046.92 | L22: =J22+H22 -> 2 | M22: =ROUND(L22*E22,2) -> 2093.85
A23: 2.3 | B23: 20352 | C23: Aluguel mensal container para escritório, dim. 6.00x2.40m, c/ banheiro (vaso+lavat+chuveiro e básc), incl. porta, 2 janelas, abert p/ ar cond., 2 pt iluminação, 2 tom. elét. e 1 tom.telef. Isolam.térmico(teto e paredes), piso em comp. Naval, cert. NR18, incl. laudo descontaminação. | D23: ms | E23: 1579.78 | F23: 5 | G23: =F23*E23 -> 7898.9 | H23: 1 | I23: 1579.78 | J23: ='12 - MEMÓRIA'!R65 -> 1 | K23: =M23-I23 -> 1579.78 | L23: =J23+H23 -> 2 | M23: =ROUND(L23*E23,2) -> 3159.56
A24: 2.4 | B24: 20354 | C24: Aluguel mensal container para vestiário, incl. porta, venezianas de circulação, 1 pt iluminação, Isolamento térmico (teto), piso em comp. Naval pintado, cert. NR18, incl. laudo descontaminação. | D24: ms | E24: 954.088 | F24: 5 | G24: =F24*E24 -> 4770.44 | H24: 0 | I24: 0 | J24: ='12 - MEMÓRIA'!R73 -> 0 | K24: =M24-I24 -> 0 | L24: =J24+H24 -> 0 | M24: =ROUND(L24*E24,2) -> 0
A25: 2.5 | B25: 7010100210 | C25: BANHEIRO QUIMICO | D25: UNM | E25: 2538.252 | F25: 5 | G25: =F25*E25 -> 12691.26 | H25: 1 | I25: 2538.25 | J25: ='12 - MEMÓRIA'!R82 -> 1 | K25: =M25-I25 -> 2538.25 | L25: =J25+H25 -> 2 | M25: =ROUND(L25*E25,2) -> 5076.5
A26: 2.6 | B26: 20711 | C26: Reservatório de poliestileno de 1000 L, incl. suporte em madeira de 7x12cm e 8x7cm, elevado de 4m, conf. projeto (1 utilização) | D26: und | E26: 2445.81 | F26: 1 | G26: =F26*E26 -> 2445.81 | H26: 0 | I26: 0 | J26: 0 | K26: =M26-I26 -> 0 | L26: =J26+H26 -> 0 | M26: =ROUND(L26*E26,2) -> 0
A27: 2.7 | B27: 20712 | C27: Rede de água com padrão de entrada dágua diâm. 3/4", conf. espec. CESAN, incl. tubos e conexões para alimentação, distribuição, extravasor e limpeza, cons. o padrão a 25m, conf. projeto (1 utilização) | D27: m | E27: 73.7245 | F27: 20 | G27: =F27*E27 -> 1474.49 | H27: 0 | I27: 0 | J27: 0 | K27: =M27-I27 -> 0 | L27: =J27+H27 -> 0 | M27: =ROUND(L27*E27,2) -> 0
A28: 2.8 | B28: 20713 | C28: Rede de luz, incl. padrão entrada de energia trifás., cabo de ligação até barracões, quadro de distrib., disj. e chave de força (quando necessário), cons. 20m entre padrão entrada e QDG, conf. projeto (1 utilização) | D28: m | E28: 576.414 | F28: 20 | G28: =F28*E28 -> 11528.28 | H28: 0 | I28: 0 | J28: 0 | K28: =M28-I28 -> 0 | L28: =J28+H28 -> 0 | M28: =ROUND(L28*E28,2) -> 0
A29: 2.9 | B29: 20714 | C29: Rede de esgoto, contendo fossa e filtro, inclusive tubos e conexões de ligação entre caixas, considerando distância de 25m, conforme projeto (1 utilização) | D29: m | E29: 559.1075 | F29: 20 | G29: =F29*E29 -> 11182.15 | H29: 0 | I29: 0 | J29: 0 | K29: =M29-I29 -> 0 | L29: =J29+H29 -> 0 | M29: =ROUND(L29*E29,2) -> 0
A30: 2.10 | B30: 20344 | C30: Mobilização e desmobilização de conteiner locado para barracão de obra | D30: und | E30: 2264.775 | F30: 4 | G30: =F30*E30 -> 9059.1 | H30: 1.5 | I30: 3397.16 | J30: ='12 - MEMÓRIA'!R92 -> 0 | K30: =M30-I30 -> 0 | L30: =J30+H30 -> 1.5 | M30: =ROUND(L30*E30,2) -> 3397.16
A31: 3.0 | B31: Sinalização de Obra | G31: =SUM(G32:G36) -> 92172.85 | I31: =SUBTOTAL(9,I32:I36) -> 9195.4 | K31: =SUBTOTAL(9,K32:K36) -> 8505.44 | M31: =SUBTOTAL(9,M32:M36) -> 17700.84
A32: 3.1 | B32: 5213850 | C32: Operação de sinalização por bandeirola de tecido ou com placa metálica | D32: h | E32: 29.266818 | F32: 1760 | G32: =F32*E32 -> 51509.6 | H32: 240 | I32: 7024.04 | J32: ='12 - MEMÓRIA'!R102 -> 240 | K32: =M32-I32 -> 7024.03 | L32: =J32+H32 -> 480 | M32: =ROUND(L32*E32,2) -> 14048.07
A33: 3.2 | B33: 5213835 | C33: Cone plástico para canalização de trânsito - utilização de 150 ciclos - fornecimento, 01 implantação e 01 retirada diária | D33: un.dia | E33: 0.99991693 | F33: 6380 | G33: =F33*E33 -> 6379.47 | H33: 1710 | I33: 1709.86 | J33: ='12 - MEMÓRIA'!R111 -> 1020 | K33: =M33-I33 -> 1019.91 | L33: =J33+H33 -> 2730 | M33: =ROUND(L33*E33,2) -> 2729.77
A34: 3.3 | B34: 5212556 | C34: Placa para sinalização de obras montada em cavalete metálico - 1,00 x 1,00 m - utilização de 600 ciclos - fornecimento, 01 implantação e 01 retirada diária | D34: un.dia | E34: 2.5638889 | F34: 900 | G34: =F34*E34 -> 2307.5 | H34: 180 | I34: 461.5 | J34: ='12 - MEMÓRIA'!R120 -> 180 | K34: =M34-I34 -> 461.5 | L34: =J34+H34 -> 360 | M34: =ROUND(L34*E34,2) -> 923
A35: 3.4 | B35: 41202 | C35: Sinalização noturna ( fio com lâmpada e balde ), fornecimento e instalação | D35: M | E35: 54.957 | F35: 500 | G35: =F35*E35 -> 27478.5 | H35: 0 | I35: 0 | J35: 0 | K35: =M35-I35 -> 0 | L35: =J35+H35 -> 0 | M35: =ROUND(L35*E35,2) -> 0
A36: 3.5 | B36: 5213387 | C36: Barreira de sinalização tipo III de direcionamento ou bloqueio - confecção | D36: un | E36: 1124.445 | F36: 4 | G36: =F36*E36 -> 4497.78 | H36: 0 | I36: 0 | J36: 0 | K36: =M36-I36 -> 0 | L36: =J36+H36 -> 0 | M36: =ROUND(L36*E36,2) -> 0
A37: 4.0 | B37: Transporte, Movimento de Terra e Destinação | G37: =SUM(G38:G42) -> 814731.1 | I37: =SUBTOTAL(9,I38:I42) -> 150282.58 | K37: =SUBTOTAL(9,K38:K42) -> 409778.25 | M37: =SUBTOTAL(9,M38:M42) -> 560060.83
A38: 4.1 | B38: 5915321 | C38: Transporte com caminhão basculante de 14 m³ - rodovia pavimentada | D38: tkm | E38: 0.89736193 | F38: 97600.53 | G38: =F38*E38 -> 87583 | H38: 46703.01 | I38: 41909.5 | J38: ='12 - MEMÓRIA'!R132 -> 46899.652 | K38: =M38-I38 -> 42085.97 | L38: =J38+H38 -> 93602.662 | M38: =ROUND(L38*E38,2) -> 83995.47
A39: 4.2 | B39: 40230 | C39: Escavação e carga de material de 1ª categoria com escavadeira | D39: m³ | E39: 5.6918374 | F39: 3445 | G39: =F39*E39 -> 19608.38 | H39: 2200 | I39: 12522.04 | J39: ='12 - MEMÓRIA'!R141 -> 600 | K39: =M39-I39 -> 3415.1 | L39: =J39+H39 -> 2800 | M39: =ROUND(L39*E39,2) -> 15937.14
A40: 4.3 | B40: 4413942 | C40: Espalhamento de material em bota-fora | D40: m³ | E40: 3.52535 | F40: 3400 | G40: =F40*E40 -> 11986.19 | H40: 300 | I40: 1057.61 | J40: ='12 - MEMÓRIA'!R151 -> 2500 | K40: =M40-I40 -> 8813.37 | L40: =J40+H40 -> 2800 | M40: =ROUND(L40*E40,2) -> 9870.98
A41: 4.4 | B41: 5914622 | C41: Transporte de material betuminoso com caminhão tanque distribuidor - rodovia pavimentada | D41: tkm | E41: 2.9100164 | F41: 95754.93 | G41: =F41*E41 -> 278648.42 | H41: 20364.745 | I41: 59261.74 | J41: ='12 - MEMÓRIA'!R160 -> 20400.723 | K41: =M41-I41 -> 59366.44 | L41: =J41+H41 -> 40765.468 | M41: =ROUND(L41*E41,2) -> 118628.18
A42: 4.5 | B42: 30304 | C42: Índice de preço para remoção de entulho decorrente da execução de obras (Classe A CONAMA - NBR 10.004 - Classe II-B), incluindo aluguel da caçamba, carga, transporte e descarga em área licenciada | D42: m3 | E42: 118.43895 | F42: 3520 | G42: =F42*E42 -> 416905.11 | H42: 300 | I42: 35531.69 | J42: ='12 - MEMÓRIA'!R170 -> 2500 | K42: =M42-I42 -> 296097.37 | L42: =J42+H42 -> 2800 | M42: =ROUND(L42*E42,2) -> 331629.06
A43: 5.0 | B43: Recomposição da Rede de Drenagem | G43: =SUM(G44:G54) -> 533993.75 | I43: =SUBTOTAL(9,I44:I54) -> 55064.96 | K43: =SUBTOTAL(9,K44:K54) -> 160478.53 | M43: =SUBTOTAL(9,M44:M54) -> 215543.49
A44: 5.1 | B44: CPU-1 | C44: SERVIÇO DE REPARO E REJUNTE EM INTERIOR DE GALERIA DE DRENAGEM 3,00 X 2,00 M CONFINADA - CONFECÇÃO EM MISTURADOR E LANÇAMENTO PROJETADO DE ARGAMASSA POLIMÉRICA, INCLUSIVE LIMPEZA POR JATEAMENTO | D44: M | E44: 457.71442 | F44: 800 | G44: =F44*E44 -> 366171.54 | H44: 80 | I44: 36617.15 | J44: ='12 - MEMÓRIA'!R180 -> 270 | K44: =M44-I44 -> 123582.9 | L44: =J44+H44 -> 350 | M44: =ROUND(L44*E44,2) -> 160200.05
A45: 5.2 | B45: 5501706 | C45: Escavação mecânica com retroescavadeira em material de 1ª categoria | D45: m³ | E45: 9.3710278 | F45: 360 | G45: =F45*E45 -> 3373.57 | H45: 0 | I45: 0 | J45: 0 | K45: =M45-I45 -> 0 | L45: =J45+H45 -> 0 | M45: =ROUND(L45*E45,2) -> 0
A46: 5.3 | B46: CPU-2 | C46: Limpeza manual de galeria, inclusos transportes horizontal e vertical no interior da mesma | D46: m³ | E46: 61.492713 | F46: 1500 | G46: =F46*E46 -> 92239.07 | H46: 300 | I46: 18447.81 | J46: ='12 - MEMÓRIA'!R189 -> 600 | K46: =M46-I46 -> 36895.63 | L46: =J46+H46 -> 900 | M46: =ROUND(L46*E46,2) -> 55343.44
A47: 5.4 | B47: 2003866 | C47: Aplicação de geotêxtil não-tecido agulhado com resistência à tração longitudinal de 14 kN/m | D47: m² | E47: 10.012 | F47: 300 | G47: =F47*E47 -> 3003.6 | H47: 0 | I47: 0 | J47: 0 | K47: =M47-I47 -> 0 | L47: =J47+H47 -> 0 | M47: =ROUND(L47*E47,2) -> 0
A48: 5.5 | B48: 40810 | C48: Recomposição de concreto estrutural, com utilização de argamassa de uso geral Graute cimentício | D48: m3 | E48: 10506.905 | F48: 2 | G48: =F48*E48 -> 21013.81 | H48: 0 | I48: 0 | J48: 0 | K48: =M48-I48 -> 0 | L48: =J48+H48 -> 0 | M48: =ROUND(L48*E48,2) -> 0
A49: 5.6 | B49: 93379 | C49: REATERRO MECANIZADO DE VALA COM RETROESCAVADEIRA (CAPACIDADE DA CAÇAMBA DA RETRO: 0,26 M³/POTÊNCIA: 88 HP), LARGURA 0,8 A 1,5 M, PROFUNDIDADE ATÉ 1,5 M, COM SOLO (SEM SUBSTITUIÇÃO) DE 1ª CATEGORIA, COM COMPACTADOR DE SOLOS DE PERCUSSÃO AF_08/2023 | D49: M3 | E49: 28.472 | F49: 360 | G49: =F49*E49 -> 10249.92 | H49: 0 | I49: 0 | J49: 0 | K49: =M49-I49 -> 0 | L49: =J49+H49 -> 0 | M49: =ROUND(L49*E49,2) -> 0
A50: 5.7 | B50: 4011320 | C50: Base ou sub-base estabilizada granulometricamente com mistura solo brita (70% - 30%) na pista com material de jazida e brita comercial - 100% Proctor modificado | D50: m³ | E50: 113.97783 | F50: 60 | G50: =F50*E50 -> 6838.67 | H50: 0 | I50: 0 | J50: 0 | K50: =M50-I50 -> 0 | L50: =J50+H50 -> 0 | M50: =ROUND(L50*E50,2) -> 0
A51: 5.8 | B51: CPU-3 | C51: Trincheira drenante em concreto armado, incluindo grelhas, escavação e reaterro (exceto grelha). (7,00m) | D51: und | E51: 9710.52 | F51: 1 | G51: =F51*E51 -> 9710.52 | H51: 0 | I51: 0 | J51: 0 | K51: =M51-I51 -> 0 | L51: =J51+H51 -> 0 | M51: =ROUND(L51*E51,2) -> 0
A52: 5.9 | B52: 2003864 | C52: Esgotamento de água com bomba submersa | D52: h | E52: 17.947244 | F52: 704 | G52: =F52*E52 -> 12634.86 | H52: 0 | I52: 0 | J52: 0 | K52: =M52-I52 -> 0 | L52: =J52+H52 -> 0 | M52: =ROUND(L52*E52,2) -> 0
A53: 5.10 | B53: 7050100050 | C53: ENSECADEIRA COM SACOS DE AREIA | D53: M3 | E53: 372.96933 | F53: 15 | G53: =F53*E53 -> 5594.54 | H53: 0 | I53: 0 | J53: 0 | K53: =M53-I53 -> 0 | L53: =J53+H53 -> 0 | M53: =ROUND(L53*E53,2) -> 0
A54: 5.11 | B54: 407820 | C54: Armação em aço CA-60 - fornecimento, preparo e colocação | D54: kg | E54: 18.165193 | F54: 174.16 | G54: =F54*E54 -> 3163.65 | H54: 0 | I54: 0 | J54: 0 | K54: =M54-I54 -> 0 | L54: =J54+H54 -> 0 | M54: =ROUND(L54*E54,2) -> 0
A55: 6.0 | B55: Calçadas e Parque Linear | G55: =G56+G59 -> 109926.85 | I55: =I56+I59 -> 0 | K55: =K56+K59 -> 28279.94 | M55: =M56+M59 -> 28279.94
A56: 6.1 | B56: Recomposição de Calçadas | G56: =SUM(G57:G58) -> 75891.58 | I56: =SUBTOTAL(9,I57:I58) -> 0 | K56: =SUBTOTAL(9,K57:K58) -> 28279.94 | M56: =SUBTOTAL(9,M57:M58) -> 28279.94
A57: 6.1.1 | B57: 40911 | C57: Calçada de concreto | D57: M2 | E57: 81.416354 | F57: 480 | G57: =F57*E57 -> 39079.85 | I57: =TRUNC(H57*E57,2) -> 0 | J57: ='12 - MEMÓRIA'!R204 -> 235.68 | K57: =M57-I57 -> 19188.21 | L57: =J57+H57 -> 235.68 | M57: =ROUND(L57*E57,2) -> 19188.21
A58: 6.1.2 | B58: 40912 | C58: Ladrilho hidráulico (argamassa cimento e areia 1:4), fornecimento e assentamento | D58: M2 | E58: 191.72776 | F58: 192 | G58: =F58*E58 -> 36811.73 | I58: =TRUNC(H58*E58,2) -> 0 | J58: ='12 - MEMÓRIA'!R215 -> 47.42 | K58: =M58-I58 -> 9091.73 | L58: =J58+H58 -> 47.42 | M58: =ROUND(L58*E58,2) -> 9091.73
A59: 6.2 | B59: Parque Linear | G59: =SUM(G60:G69) -> 34035.27 | I59: =SUBTOTAL(9,I60:I69) -> 0 | K59: =SUBTOTAL(9,K60:K69) -> 0 | M59: =SUBTOTAL(9,M60:M69) -> 0
A60: 6.2.1 | B60: 210301 | C60: Guarda corpo de tubo de ferro galvanizado, diâm. 3" e 2", h=0.8 m inclusive pintura a óleo ou esmalte | D60: M | E60: 408.88909 | F60: 11 | G60: =F60*E60 -> 4497.78 | I60: =TRUNC(H60*E60,2) -> 0 | J60: 0 | K60: =M60-I60 -> 0 | L60: =J60+H60 -> 0 | M60: =ROUND(L60*E60,2) -> 0
A61: 6.2.2 | B61: 200563 | C61: Banco de concreto armado aparente com apoios de alvenaria assentada com argamassa de cimento, cal e areia, largura de 0,50m e espessura de 0,05m | D61: m | E61: 224.53333 | F61: 6 | G61: =F61*E61 -> 1347.2 | I61: =TRUNC(H61*E61,2) -> 0 | J61: 0 | K61: =M61-I61 -> 0 | L61: =J61+H61 -> 0 | M61: =ROUND(L61*E61,2) -> 0
A62: 6.2.3 | B62: 103307 | C62: INSTALAÇÃO DE LIXEIRA METÁLICA DUPLA, CAPACIDADE DE 60 L, EM TUBO DE AÇO CARBONO E CESTOS EM CHAPA DE AÇO COM PINTURA ELETROSTÁTICA, SOBRE PISO DE CONCRETO EXISTENTE. AF_11/2021 | D62: UN | E62: 1748.37 | F62: 1 | G62: =F62*E62 -> 1748.37 | I62: =TRUNC(H62*E62,2) -> 0 | J62: 0 | K62: =M62-I62 -> 0 | L62: =J62+H62 -> 0 | M62: =ROUND(L62*E62,2) -> 0
A63: 6.2.4 | B63: COMP. ELETRICO | C63: Padrão de entrada de energia elétrica, trifásico, entrada aérea, a 4 fios, carga instalada de 57001 até 75000W, instalada em poste. | D63: UNID. | E63: 14872.44 | F63: 1 | G63: =F63*E63 -> 14872.44 | I63: =TRUNC(H63*E63,2) -> 0 | J63: 0 | K63: =M63-I63 -> 0 | L63: =J63+H63 -> 0 | M63: =ROUND(L63*E63,2) -> 0
A64: 6.2.5 | B64: 150307 | C64: Quadro de distribuição de energia, de embutir, com 18 divisões modulares, com barramento | D64: und | E64: 695.34 | F64: 1 | G64: =F64*E64 -> 695.34 | I64: =TRUNC(H64*E64,2) -> 0 | J64: 0 | K64: =M64-I64 -> 0 | L64: =J64+H64 -> 0 | M64: =ROUND(L64*E64,2) -> 0
A65: 6.2.6 | B65: 93665 | C65: DISJUNTOR BIPOLAR TIPO DIN, CORRENTE NOMINAL DE 40A - FORNECIMENTO E INSTALAÇÃO. AF_10/2020 | D65: UN | E65: 85.48 | F65: 1 | G65: =F65*E65 -> 85.48 | I65: =TRUNC(H65*E65,2) -> 0 | J65: 0 | K65: =M65-I65 -> 0 | L65: =J65+H65 -> 0 | M65: =ROUND(L65*E65,2) -> 0
A66: 6.2.7 | B66: 91932 | C66: CABO DE COBRE FLEXÍVEL ISOLADO, 10 MM², ANTI-CHAMA 450/750 V, PARA CIRCUITOS TERMINAIS - FORNECIMENTO E INSTALAÇÃO. AF_03/2023 | D66: M | E66: 27.100375 | F66: 80 | G66: =F66*E66 -> 2168.03 | I66: =TRUNC(H66*E66,2) -> 0 | J66: 0 | K66: =M66-I66 -> 0 | L66: =J66+H66 -> 0 | M66: =ROUND(L66*E66,2) -> 0
A67: 6.2.8 | B67: 91930 | C67: CABO DE COBRE FLEXÍVEL ISOLADO, 6 MM², ANTI-CHAMA 450/750 V, PARA CIRCUITOS TERMINAIS - FORNECIMENTO E INSTALAÇÃO. AF_03/2023 | D67: M | E67: 15.2808 | F67: 200 | G67: =F67*E67 -> 3056.16 | I67: =TRUNC(H67*E67,2) -> 0 | J67: 0 | K67: =M67-I67 -> 0 | L67: =J67+H67 -> 0 | M67: =ROUND(L67*E67,2) -> 0
A68: 6.2.9 | B68: 101632 | C68: RELÉ FOTOELÉTRICO PARA COMANDO DE ILUMINAÇÃO EXTERNA 1000 W - FORNECIMENTO E INSTALAÇÃO. AF_02/2025 | D68: UN | E68: 40.2925 | F68: 4 | G68: =F68*E68 -> 161.17 | I68: =TRUNC(H68*E68,2) -> 0 | J68: 0 | K68: =M68-I68 -> 0 | L68: =J68+H68 -> 0 | M68: =ROUND(L68*E68,2) -> 0
A69: 6.2.10 | B69: COMP. ELETRICO 2 | C69: Iluminação com luminárias de Led incluso mão de obra. | D69: Unid. | E69: 5403.3 | F69: 1 | G69: =F69*E69 -> 5403.3 | I69: =TRUNC(H69*E69,2) -> 0 | J69: 0 | K69: =M69-I69 -> 0 | L69: =J69+H69 -> 0 | M69: =ROUND(L69*E69,2) -> 0
A70: 7.0 | B70: Pavimentação | G70: =G71+G75+G78 -> 1664135.7 | I70: =SUBTOTAL(9,I71:I79) -> 659850.65 | K70: =SUBTOTAL(9,K71:K79) -> 664419.95 | M70: =SUBTOTAL(9,M71:M79) -> 1324270.6
A71: 7.1 | B71: Serviços de Pavimentação | G71: =SUM(G72:G74) -> 609235.41 | I71: =SUBTOTAL(9,I72:I74) -> 290477.14 | K71: =SUBTOTAL(9,K72:K74) -> 293498.48 | M71: =SUBTOTAL(9,M72:M74) -> 583975.62
A72: 7.1.1 | B72: 40864 | C72: Obturação de buracos c/ CBUQ exclusive fornecimento e transporte dos materiais betuminosos | D72: t | E72: 858.32754 | F72: 3.45 | G72: =F72*E72 -> 2961.23 | I72: =TRUNC(H72*E72,2) -> 0 | J72: ='12 - MEMÓRIA'!R228 -> 2.92215 | K72: =M72-I72 -> 2508.16 | L72: =J72+H72 -> 2.92215 | M72: =ROUND(L72*E72,2) -> 2508.16
A73: 7.1.2 | B73: 43342 | C73: CBUQ (camada pronta-faixa "C") , exclusive fornecimento do CAP e transporte de todos os materiais (traço padrão areia e brita) | D73: t | E73: 214.53359 | F73: 2760.04 | G73: =F73*E73 -> 592121.3 | H73: 1322.386 | I73: 283696.23 | J73: ='12 - MEMÓRIA'!R279 -> 1324.7223 | K73: =M73-I73 -> 284197.43 | L73: =J73+H73 -> 2647.1083 | M73: =ROUND(L73*E73,2) -> 567893.66
A74: 7.1.3 | B74: 4011353 | C74: Pintura de ligação | D74: m² | E74: 0.58969498 | F74: 24000.34 | G74: =F74*E74 -> 14152.88 | H74: 11499.009 | I74: 6780.91 | J74: ='12 - MEMÓRIA'!R330 -> 11519.324 | K74: =M74-I74 -> 6792.89 | L74: =J74+H74 -> 23018.333 | M74: =ROUND(L74*E74,2) -> 13573.8
A75: 7.2 | B75: Aquisição de Materiais Betuminosos - BDI Diferenciado (15,28%) | G75: =SUM(G76:G77) -> 771917.44 | I75: =SUBTOTAL(9,I76:I77) -> 369373.51 | K75: =SUBTOTAL(9,K76:K77) -> 370921.47 | M75: =SUBTOTAL(9,M76:M77) -> 740294.98
A76: 7.2.1 | B76: 10009 | C76: Emulsão RR 1C | D76: t | E76: 5175 | F76: 10.8 | G76: =F76*E76 -> 55890 | H76: 5.17 | I76: 26754.75 | J76: ='12 - MEMÓRIA'!R338 -> 5.1836958 | K76: =M76-I76 -> 26825.63 | L76: =J76+H76 -> 10.353696 | M76: =ROUND(L76*E76,2) -> 53580.38
A77: 7.2.2 | B77: 10001 | C77: CAP 50/70 | D77: t | E77: 4318.361 | F77: 165.81 | G77: =F77*E77 -> 716027.44 | H77: 79.34 | I77: 342618.76 | J77: ='12 - MEMÓRIA'!R347 -> 79.682044 | K77: =M77-I77 -> 344095.84 | L77: =J77+H77 -> 159.02204 | M77: =ROUND(L77*E77,2) -> 686714.6
A78: 7.3 | B78: Transportes | G78: =G79 -> 282982.8 | I78: =SUBTOTAL(9,I79) -> 0 | K78: =SUBTOTAL(9,K79) -> 0 | M78: =SUBTOTAL(9,M79) -> 0
A79: 7.3.1 | B79: 40927 | C79: Sinalização horizontal TMD=600, vida útil 3 anos, taxa=3,0 kg/m² material termoplástico ) | D79: M2 | E79: 56.58513 | F79: 5001.01 | G79: =F79*E79 -> 282982.8 | I79: =TRUNC(H79*E79,2) -> 0 | J79: 0 | K79: =M79-I79 -> 0 | L79: =J79+H79 -> 0 | M79: =ROUND(L79*E79,2) -> 0
A80: TOTAL DO CONTRATO | G80: =G70+G55+G43+G37+G31+G20+G14 -> 3402313.7 | I80: =SUBTOTAL(9,I14:I79) -> 928995.05 | K80: =SUBTOTAL(9,K14:K79) -> 1345134.3 | M80: =SUBTOTAL(9,M14:M79) -> 2274129.3

Sheet 12 - MEMÓRIA
B1: GOVERNO DO ESTADO DO ESPÍRITO SANTO Secretaria de Estado de Saneamento, Habitação e Desenvolvimento Urbano - SEDURB
B5: INFORMAÇÕES GERAIS DA MEDIÇÃO | E5: EMPREITEIRA
B6: TRECHO: | C6: ='11 - FINANCEIRO'!C6 -> Rod. Gether Lopes de Farias | E6: EMPREITEIRA: Consórcio Exata-Monjardim
B7: DESCRIÇÃO: | C7: ='11 - FINANCEIRO'!C7 -> CONTRATAÇÃO DE EMPRESA PARA EXECUÇÃO DE RECAPEAMENTO ASFÁLTICO E REMANESCENTE DAS OBRAS DE MACRODRENAGEM DO CÓRREGO SÃO SILVANO, MUNICÍPIO DE COLATINA/ES | E7: CONTRATO N°: 2026.000023.36101.01
B8: MEDIÇÃO: | C8: ='11 - FINANCEIRO'!C8 -> 2 | E8: ASSINATURA: 27/05/2026
B9: PERÍODO: | C9: ='11 - FINANCEIRO'!C9 -> 17/08/2026 a 31/08/2026 | E9: INÍCIO DOS SERVIÇOS:19/06/2026
B11: MEMÓRIA DE CÁLCULO DE QUANTIDADES
B13: 1.0 | C13: Serviços Preliminares
B14: ='11 - FINANCEIRO'!B15 -> 20305 | C14: ='11 - FINANCEIRO'!C15 -> Placa de obra nas dimensões de 2.0 x 4.0 m, padrão DER | D14: ESTACA | J14: POS. | K14: EXTENSÃO (m) | L14: LARGURA (m) | M14: PROF. (m) | N14: ÁREA (m²) | O14: VOLUME (m³) | P14: DENSIDADE (t/m³) | Q14: % | R14: QUANT. | S14: UND | T14: MEDIÇÃO | U14: OBSERVAÇÕES
D15: INICIAL | G15: FINAL
C16: Placa de Obras | K16: 6 | L16: 3.16 | R16: =K16*L16 -> 18.96 | S16: m² | T16: 1
D18: QUANTIDADE CONTRATUAL | J18: ='11 - FINANCEIRO'!F15 -> 18.96 | L18: ='11 - FINANCEIRO'!D15 -> m2 | M18: QUANTIDADE TOTAL ACUMULADA | R18: =SUM(R16:R17) -> 18.96 | S18: =L18 -> m2
D19: AVANÇO | J19: =R18/J18 -> 1 | M19: ACUMULADA ANTERIOR | R19: =VLOOKUP(A20,'11 - FINANCEIRO'!A:M,8,FALSE) -> 18.96 | S19: =L18 -> m2
A20: 1.1 | M20: MEDIÇÃO LÍQUIDA | R20: =R18-R19 -> 0 | S20: =L18 -> m2
B22: ='[49]11 - FINANCEIRO'!B16 -> CPU-4 | C22: ='[49]11 - FINANCEIRO'!C16 -> Limpeza manual e com jato de alta pressão, inclusive remoção, carga, transporte e descarga dos resíduos em área licenciada | D22: ESTACA | J22: POS. | K22: EXTENSÃO (m) | L22: LARGURA (m) | M22: PROF. (m) | N22: ÁREA (m²) | O22: VOLUME (m³) | P22: DENSIDADE (t/m³) | Q22: % | R22: QUANT. | S22: UND | T22: MEDIÇÃO | U22: OBSERVAÇÕES
D23: INICIAL | G23: FINAL
C24: Área do Asfalto executada | N24: 11499.01 | R24: =N24 -> 11499.01 | S24: m² | T24: 1 | U24: conforme croqui asfalto
C25: Área do Asfalto executada - 2ª Med | N25: 11519.32 | R25: =N25 -> 11519.32 | S25: =S24 -> m² | T25: 2 | U25: conforme croqui asfalto
D27: QUANTIDADE CONTRATUAL | J27: ='11 - FINANCEIRO'!F16 -> 24000.34 | L27: ='[49]11 - FINANCEIRO'!D23 -> ms | M27: QUANTIDADE TOTAL ACUMULADA | R27: =SUM(R24:R26) -> 23018.33 | S27: m²
D28: AVANÇO | J28: =R27/J27 -> 0.9590835 | M28: ACUMULADA ANTERIOR | R28: =VLOOKUP(A29,'11 - FINANCEIRO'!A:M,8,FALSE) -> 11499.01 | S28: m²
A29: 1.2 | M29: MEDIÇÃO LÍQUIDA | R29: =R27-R28 -> 11519.32 | S29: m²
B30: ='[50]11 - FINANCEIRO'!B16 -> CPU-4 | C30: ='[50]11 - FINANCEIRO'!C16 -> Limpeza manual e com jato de alta pressão, inclusive remoção, carga, transporte e descarga dos resíduos em área licenciada | D30: ESTACA | J30: POS. | K30: QUANTIDADE | L30: LARGURA (m) | M30: PROF. (m) | N30: ÁREA (m²) | O30: VOLUME (m³) | P30: DENSIDADE (t/m³) | Q30: % | R30: QUANT. | S30: UND | T30: MEDIÇÃO | U30: OBSERVAÇÕES
D31: INICIAL | G31: FINAL
C32: Levantamento efetuado in loco | K32: 12 | R32: =K32 -> 12 | S32: =L$34 -> und | T32: 2
D34: QUANTIDADE CONTRATUAL | J34: ='11 - FINANCEIRO'!F17 -> 40 | L34: ='11 - FINANCEIRO'!D17 -> und | M34: QUANTIDADE TOTAL ACUMULADA | R34: =SUM(R32:R33) -> 12 | S34: =L34 -> und
D35: AVANÇO | J35: =R34/J34 -> 0.3 | M35: ACUMULADA ANTERIOR | R35: =VLOOKUP(A36,'11 - FINANCEIRO'!A:M,8,FALSE) -> 0 | S35: =L34 -> und
A36: 1.3 | M36: MEDIÇÃO LÍQUIDA | R36: =R34-R35 -> 12 | S36: =L34 -> und
B39: 2.0 | C39: Instalação de Canteiro
B40: ='11 - FINANCEIRO'!B21 -> 20355 | C40: ='11 - FINANCEIRO'!C21 -> Aluguel mensal container sanitário, incl porta, básc, 2 ptos luz, 1 pto aterram., 3vasos, 3lavatórios, calha mictório, 6 chuveiros (1 eletrico), torn.,registros, piso comp. Naval pintado, cert NR18 e laudo descontaminação | D40: ESTACA | J40: POS. | K40: QUANTIDADE | L40: LARGURA (m) | M40: PROF. (m) | N40: ÁREA (m²) | O40: VOLUME (m³) | P40: DENSIDADE (t/m³) | Q40: % | R40: QUANT. | S40: UND | T40: MEDIÇÃO | U40: OBSERVAÇÕES
D41: INICIAL | G41: FINAL
C42: Canteiro de Obras | K42: 1 | R42: =K42 -> 1 | S42: ms | T42: 1
C43: Canteiro de Obras | K43: 1 | R43: =K43 -> 1 | S43: ms | T43: 2
D45: QUANTIDADE CONTRATUAL | J45: ='11 - FINANCEIRO'!F21 -> 5 | L45: ='11 - FINANCEIRO'!D21 -> ms | M45: QUANTIDADE TOTAL ACUMULADA | R45: =SUM(R42:R44) -> 2 | S45: =L45 -> ms
D46: AVANÇO | J46: =R45/J45 -> 0.4 | M46: ACUMULADA ANTERIOR | R46: =VLOOKUP(A47,'11 - FINANCEIRO'!A:M,8,FALSE) -> 1 | S46: =L45 -> ms
A47: 2.1 | M47: MEDIÇÃO LÍQUIDA | R47: =R45-R46 -> 1 | S47: =L45 -> ms
B49: ='11 - FINANCEIRO'!B22 -> 20356 | C49: ='11 - FINANCEIRO'!C22 -> Aluguel mensal container para almoxarifado, incl. porta, 2 janelas, 1 pt iluminação, Isolamento térmico (teto), piso em comp. Naval pintado, cert. NR18, incl. laudo descontaminação. | D49: ESTACA | J49: POS. | K49: QUANTIDADE | L49: LARGURA (m) | M49: PROF. (m) | N49: ÁREA (m²) | O49: VOLUME (m³) | P49: DENSIDADE (t/m³) | Q49: % | R49: QUANT. | S49: UND | T49: MEDIÇÃO | U49: OBSERVAÇÕES
D50: INICIAL | G50: FINAL
C51: Canteiro de Obras | K51: 1 | R51: =K51 -> 1 | S51: ms | T51: 1
C52: Canteiro de Obras | K52: 1 | R52: =K52 -> 1 | S52: ms | T52: 2
D54: QUANTIDADE CONTRATUAL | J54: ='11 - FINANCEIRO'!F22 -> 5 | L54: ='11 - FINANCEIRO'!D22 -> ms | M54: QUANTIDADE TOTAL ACUMULADA | R54: =SUM(R51:R53) -> 2 | S54: =L54 -> ms
D55: AVANÇO | J55: =R54/J54 -> 0.4 | M55: ACUMULADA ANTERIOR | R55: =VLOOKUP(A56,'11 - FINANCEIRO'!A:M,8,FALSE) -> 1 | S55: =L54 -> ms
A56: 2.2 | M56: MEDIÇÃO LÍQUIDA | R56: =R54-R55 -> 1 | S56: =L54 -> ms
B58: ='11 - FINANCEIRO'!B23 -> 20352 | C58: ='11 - FINANCEIRO'!C23 -> Aluguel mensal container para escritório, dim. 6.00x2.40m, c/ banheiro (vaso+lavat+chuveiro e básc), incl. porta, 2 janelas, abert p/ ar cond., 2 pt iluminação, 2 tom. elét. e 1 tom.telef. Isolam.térmico(teto e paredes), piso em comp. Naval, cert. NR18, incl. laudo descontaminação. | D58: ESTACA | J58: POS. | K58: QUANTIDADE | L58: LARGURA (m) | M58: PROF. (m) | N58: ÁREA (m²) | O58: VOLUME (m³) | P58: DENSIDADE (t/m³) | Q58: % | R58: QUANT. | S58: UND | T58: MEDIÇÃO | U58: OBSERVAÇÕES
D59: INICIAL | G59: FINAL
C60: Canteiro de Obras | K60: 1 | R60: =K60 -> 1 | S60: ms | T60: 1
C61: Canteiro de Obras | K61: 1 | R61: =K61 -> 1 | S61: ms | T61: 2
D63: QUANTIDADE CONTRATUAL | J63: ='11 - FINANCEIRO'!F23 -> 5 | L63: ='11 - FINANCEIRO'!D23 -> ms | M63: QUANTIDADE TOTAL ACUMULADA | R63: =SUM(R60:R62) -> 2 | S63: =L63 -> ms
D64: AVANÇO | J64: =R63/J63 -> 0.4 | M64: ACUMULADA ANTERIOR | R64: =VLOOKUP(A65,'11 - FINANCEIRO'!A:M,8,FALSE) -> 1 | S64: =L63 -> ms
A65: 2.3 | M65: MEDIÇÃO LÍQUIDA | R65: =R63-R64 -> 1 | S65: =L63 -> ms
B67: ='11 - FINANCEIRO'!B24 -> 20354 | C67: ='11 - FINANCEIRO'!C24 -> Aluguel mensal container para vestiário, incl. porta, venezianas de circulação, 1 pt iluminação, Isolamento térmico (teto), piso em comp. Naval pintado, cert. NR18, incl. laudo descontaminação. | D67: ESTACA | J67: POS. | K67: QUANTIDADE | L67: LARGURA (m) | M67: PROF. (m) | N67: ÁREA (m²) | O67: VOLUME (m³) | P67: DENSIDADE (t/m³) | Q67: % | R67: QUANT. | S67: UND | T67: MEDIÇÃO | U67: OBSERVAÇÕES
D68: INICIAL | G68: FINAL
C69: Canteiro de Obras | K69: 0 | R69: 0 | S69: ms
D71: QUANTIDADE CONTRATUAL | J71: ='11 - FINANCEIRO'!F24 -> 5 | L71: ='11 - FINANCEIRO'!D24 -> ms | M71: QUANTIDADE TOTAL ACUMULADA | R71: =SUM(R69:R70) -> 0 | S71: =L71 -> ms
D72: AVANÇO | J72: =R71/J71 -> 0 | M72: ACUMULADA ANTERIOR | R72: 0 | S72: =L71 -> ms
M73: MEDIÇÃO LÍQUIDA | R73: =R71-R72 -> 0 | S73: =L71 -> ms
B75: ='11 - FINANCEIRO'!B25 -> 7010100210 | C75: ='11 - FINANCEIRO'!C25 -> BANHEIRO QUIMICO | D75: ESTACA | J75: POS. | K75: QUANTIDADE | L75: LARGURA (m) | M75: PROF. (m) | N75: ÁREA (m²) | O75: VOLUME (m³) | P75: DENSIDADE (t/m³) | Q75: % | R75: QUANT. | S75: UND | T75: MEDIÇÃO | U75: OBSERVAÇÕES
D76: INICIAL | G76: FINAL
C77: banheiro quimico | K77: 1 | R77: 1 | S77: unm | T77: 1
C78: banheiro quimico | K78: 1 | R78: =K78 -> 1 | S78: ms | T78: 2
D80: QUANTIDADE CONTRATUAL | J80: ='11 - FINANCEIRO'!F25 -> 5 | L80: ='11 - FINANCEIRO'!D25 -> UNM | M80: QUANTIDADE TOTAL ACUMULADA | R80: =SUM(R77:R79) -> 2 | S80: =L80 -> UNM
D81: AVANÇO | J81: =R80/J80 -> 0.4 | M81: ACUMULADA ANTERIOR | R81: =VLOOKUP(A82,'11 - FINANCEIRO'!A:M,8,FALSE) -> 1 | S81: =L80 -> UNM
A82: 2.5 | M82: MEDIÇÃO LÍQUIDA | R82: =R80-R81 -> 1 | S82: =L80 -> UNM
B84: ='11 - FINANCEIRO'!B30 -> 20344 | C84: ='11 - FINANCEIRO'!C30 -> Mobilização e desmobilização de conteiner locado para barracão de obra | D84: ESTACA | J84: POS. | K84: QUANTIDADE | L84: LARGURA (m) | M84: PROF. (m) | N84: ÁREA (m²) | O84: VOLUME (m³) | P84: DENSIDADE (t/m³) | Q84: % | R84: QUANT. | S84: UND | T84: MEDIÇÃO | U84: OBSERVAÇÕES
D85: INICIAL | G85: FINAL
C86: Mobilização Container Sanitário | K86: 0.5 | R86: =K86 -> 0.5 | S86: und | T86: 1
C87: Mobilização Container Almoxarifado | K87: 0.5 | R87: =K87 -> 0.5 | S87: und | T87: 1
C88: Mobilização Container Escritório | K88: 0.5 | R88: =K88 -> 0.5 | S88: und | T88: 1
D90: QUANTIDADE CONTRATUAL | J90: ='11 - FINANCEIRO'!F30 -> 4 | L90: ='11 - FINANCEIRO'!D30 -> und | M90: QUANTIDADE TOTAL ACUMULADA | R90: =SUBTOTAL(9,R86:R89) -> 1.5 | S90: =L90 -> und
D91: AVANÇO | J91: =R90/J90 -> 0.375 | M91: ACUMULADA ANTERIOR | R91: =VLOOKUP(A92,'11 - FINANCEIRO'!A:M,8,FALSE) -> 1.5 | S91: =L90 -> und
A92: 2.10 | M92: MEDIÇÃO LÍQUIDA | R92: =R90-R91 -> 0 | S92: =L90 -> und
B94: 3.0 | C94: Sinalização de Obra
B95: ='11 - FINANCEIRO'!B32 -> 5213850 | C95: ='11 - FINANCEIRO'!C32 -> Operação de sinalização por bandeirola de tecido ou com placa metálica | D95: ESTACA | J95: POS. | K95: QUANTIDADE | L95: DIAS | M95: PROF. (m) | N95: ÁREA (m²) | O95: VOLUME (m³) | P95: DENSIDADE (t/m³) | Q95: % | R95: QUANT. | S95: UND | T95: MEDIÇÃO | U95: OBSERVAÇÕES
D96: INICIAL | G96: FINAL
C97: Sinalização provisória | K97: 8 | L97: 30 | R97: =K97*L97 -> 240 | S97: =S100 -> h | T97: 1 | U97: período entre 01/07/2026 e 30/07/2026
C98: Sinalização provisória | K98: 8 | L98: 30 | R98: =K98*L98 -> 240 | S98: =S100 -> h | T98: 2 | U98: período entre 01/08/2026 e 31/08/2026
D100: QUANTIDADE CONTRATUAL | J100: ='11 - FINANCEIRO'!F32 -> 1760 | L100: ='11 - FINANCEIRO'!D32 -> h | M100: QUANTIDADE TOTAL ACUMULADA | R100: =SUM(R97:R99) -> 480 | S100: =L100 -> h
D101: AVANÇO | J101: =R100/J100 -> 0.27272727 | M101: ACUMULADA ANTERIOR | R101: =VLOOKUP(A102,'11 - FINANCEIRO'!A:M,8,FALSE) -> 240 | S101: =L100 -> h
A102: 3.1 | M102: MEDIÇÃO LÍQUIDA | R102: =R100-R101 -> 240 | S102: =L100 -> h
B104: ='11 - FINANCEIRO'!B33 -> 5213835 | C104: ='11 - FINANCEIRO'!C33 -> Cone plástico para canalização de trânsito - utilização de 150 ciclos - fornecimento, 01 implantação e 01 retirada diária | D104: ESTACA | J104: POS. | K104: QUANTIDADE | L104: DIAS | M104: PROF. (m) | N104: ÁREA (m²) | O104: VOLUME (m³) | P104: DENSIDADE (t/m³) | Q104: % | R104: QUANT. | S104: UND | T104: MEDIÇÃO | U104: OBSERVAÇÕES
D105: INICIAL | G105: FINAL
C106: Sinalização provisória | K106: 30 | L106: 57 | R106: =K106*L106 -> 1710 | S106: =S109 -> un.dia | T106: 1
C107: Sinalização provisória | K107: 60 | L107: 17 | R107: =K107*L107 -> 1020 | S107: =S109 -> un.dia | T107: 2
D109: QUANTIDADE CONTRATUAL | J109: ='11 - FINANCEIRO'!F33 -> 6380 | L109: ='11 - FINANCEIRO'!D33 -> un.dia | M109: QUANTIDADE TOTAL ACUMULADA | R109: =SUM(R106:R108) -> 2730 | S109: =L109 -> un.dia
D110: AVANÇO | J110: =R109/J109 -> 0.42789969 | M110: ACUMULADA ANTERIOR | R110: =VLOOKUP(A111,'11 - FINANCEIRO'!A:M,8,FALSE) -> 1710 | S110: =L109 -> un.dia
A111: 3.2 | M111: MEDIÇÃO LÍQUIDA | R111: =R109-R110 -> 1020 | S111: =L109 -> un.dia
B113: ='11 - FINANCEIRO'!B34 -> 5212556 | C113: ='11 - FINANCEIRO'!C34 -> Placa para sinalização de obras montada em cavalete metálico - 1,00 x 1,00 m - utilização de 600 ciclos - fornecimento, 01 implantação e 01 retirada diária | D113: ESTACA | J113: POS. | K113: QUANTIDADE | L113: DIAS | M113: PROF. (m) | N113: ÁREA (m²) | O113: VOLUME (m³) | P113: DENSIDADE (t/m³) | Q113: % | R113: QUANT. | S113: UND | T113: MEDIÇÃO | U113: OBSERVAÇÕES
D114: INICIAL | G114: FINAL
C115: Sinalização provisória | K115: 6 | L115: 30 | R115: =K115*L115 -> 180 | S115: =S118 -> un.dia | T115: 1
C116: Sinalização provisória | K116: 6 | L116: 30 | R116: =K116*L116 -> 180 | S116: =S119 -> un.dia | T116: 2
D118: QUANTIDADE CONTRATUAL | J118: ='11 - FINANCEIRO'!F34 -> 900 | L118: ='11 - FINANCEIRO'!D34 -> un.dia | M118: QUANTIDADE TOTAL ACUMULADA | R118: =SUM(R115:R117) -> 360 | S118: =L118 -> un.dia
D119: AVANÇO | J119: =R118/J118 -> 0.4 | M119: ACUMULADA ANTERIOR | R119: =VLOOKUP(A120,'11 - FINANCEIRO'!A:M,8,FALSE) -> 180 | S119: =L118 -> un.dia
A120: 3.3 | M120: MEDIÇÃO LÍQUIDA | R120: =R118-R119 -> 180 | S120: =L118 -> un.dia
B122: 4.0 | C122: Transporte, Movimento de Terra e Destinação
B123: ='11 - FINANCEIRO'!B38 -> 5915321 | C123: ='11 - FINANCEIRO'!C38 -> Transporte com caminhão basculante de 14 m³ - rodovia pavimentada | D123: ESTACA | J123: POS. | K123: Peso (Ton) | L123: Distância (Km) | M123: PROF. (m) | N123: ÁREA (m²) | O123: Total (TKm) | P123: DENSIDADE (t/m³) | Q123: % | R123: QUANT. | S123: UND | T123: MEDIÇÃO | U123: OBSERVAÇÕES
D124: INICIAL | G124: FINAL
C125: CAP 50/70 - Saída da Refinaria Gabriel Passos com destino à usina (BR 259 Km 46) | K125: 79.34 | L125: 553 | O125: =K125*L125 -> 43875.02 | R125: =O125 -> 43875.02 | S125: =S126 -> tkm | T125: 1
C126: RR 1 C - Saída da Refinaria Gabriel Passos com destino à obra | K126: 5.17 | L126: 547 | O126: =K126*L126 -> 2827.99 | R126: =O126 -> 2827.99 | S126: =S130 -> tkm | T126: 1
C127: CAP 50/70 - Saída da Refinaria Gabriel Passos com destino à usina (BR 259 Km 46) | K127: =R343 -> 79.682044 | L127: 553 | O127: =K127*L127 -> 44064.17 | R127: =O127 -> 44064.17 | S127: =S128 -> tkm | T127: 2
C128: RR 1 C - Saída da Refinaria Gabriel Passos com destino à obra | K128: =R335 -> 5.1836958 | L128: 547 | O128: =K128*L128 -> 2835.4816 | R128: =O128 -> 2835.4816 | S128: =S132 -> tkm | T128: 2
D130: QUANTIDADE CONTRATUAL | J130: ='11 - FINANCEIRO'!F38 -> 97600.53 | L130: ='11 - FINANCEIRO'!D38 -> tkm | M130: QUANTIDADE TOTAL ACUMULADA | R130: =SUBTOTAL(9,R125:R129) -> 93602.662 | S130: =L130 -> tkm
...
