Workbook
Name \0: #REF!
Name \1: #REF!
Name \1: [1]PLANILHA!#REF!
Name \11: #REF!
Name \11: [2]PLANILHA!#REF!
Name \a: #REF!
Name \ates\z: #REF!
Name \ates\z: #REF!
Name \C: #REF!
Name \D: #REF!
Name \f: #N/A
Name \G: #REF!
Name \I: #REF!
Name \M: #REF!
Name \P: #REF!
Name \q: #REF!
Name \q: '[3]Bm 8'!#REF!
Name \R: #REF!
Name \s: '[3]Bm 8'!#REF!
Name \s: #REF!
Name \t: #REF!
Name \w: #REF!
Name \w: [4]PLANILHA!#REF!
Name \x: #REF!
Name \x: '[3]Bm 8'!#REF!
Name \Y: #REF!
Name _: #REF!
Name __\w: #REF!
Name ____\s: #REF!
Name ____\t: #REF!
Name ____\w: #REF!
Name _____\ates\z: #REF!
Name _____\w: #REF!
Name _____________________\s: #REF!
Name _____________________\t: #REF!
Name _____________________\w: #REF!
Name ________________________________________________Excel_BuiltIn_Print_Area_5_1: #REF!
Name _______________________________________________Excel_BuiltIn_Print_Area_5_1: #REF!
Name _____________________________________________Excel_BuiltIn_Print_Area_5_1: #REF!
Name ____________________________________________Excel_BuiltIn_Print_Area_5_1: #REF!
Name ___________________________________________Excel_BuiltIn_Print_Area_5_1: #REF!
Name __________________________________________Excel_BuiltIn_Print_Area_5_1: #REF!
Name _________________________________________Excel_BuiltIn_Print_Area_5_1: #REF!
Name ________________________________________Excel_BuiltIn_Print_Area_5_1: #REF!
Name _______________________________________Excel_BuiltIn_Print_Area_5_1: #REF!
Name ______________________________________Excel_BuiltIn_Print_Area_5_1: #REF!
Name _____________________________________Excel_BuiltIn_Print_Area_5_1: #REF!
Name ____________________________________Excel_BuiltIn_Print_Area_5_1: #REF!
Name ___________________________________Excel_BuiltIn_Print_Area_5_1: #REF!
Name __________________________________Excel_BuiltIn_Print_Area_5_1: #REF!
Name _________________________________Excel_BuiltIn_Print_Area_5_1: #REF!
Name ________________________________Excel_BuiltIn_Print_Area_5_1: #REF!
Name _______________________________Excel_BuiltIn_Print_Area_5_1: #REF!
Name ______________________________Excel_BuiltIn_Print_Area_5_1: #REF!
Name _____________________________Excel_BuiltIn_Print_Area_5_1: #REF!
Name ____________________________Excel_BuiltIn_Print_Area_5_1: #REF!
Name ___________________________Excel_BuiltIn_Print_Area_5_1: #REF!
Name __________________________Excel_BuiltIn_Print_Area_5_1: #REF!
Name _________________________Excel_BuiltIn_Print_Area_5_1: #REF!
Name ________________________Excel_BuiltIn_Print_Area_5_1: #REF!

Sheet 10 - RESUMO
C2: GOVERNO DO ESTADO DO ESPÍRITO SANTO Secretaria de Estado de Saneamento, Habitação e Desenvolvimento Urbano - SEDURB
B7: EMPREITEIRA: | C7: ='[50]11 - FINANCEIRO'!F6 -> Consórcio Exata-Monjardim
B8: TRECHO: | C8: ='[50]11 - FINANCEIRO'!C6 -> Rod. Gether Lopes de Farias
B9: DESCRIÇÃO: | C9: ='[50]11 - FINANCEIRO'!C7 -> CONTRATAÇÃO DE EMPRESA PARA EXECUÇÃO DE RECAPEAMENTO ASFÁLTICO E REMANESCENTE DAS OBRAS DE MACRODRENAGEM DO CÓRREGO SÃO SILVANO, MUNICÍPIO DE COLATINA/ES
B10: CONTR. N°.: | C10: 2026.000023.36101.01
B11: ASSINATURA: | C11: 46169
B12: PERÍODO DE EXECUÇÃO: | C12: ='11 - FINANCEIRO'!C9 -> 17/08/2026 a 31/08/2026
B14: ='11 - FINANCEIRO'!C8 -> 2
A15: 1.0 | B15: 1.0 | C15: ='[50]11 - FINANCEIRO'!B14 -> Serviços Preliminares | D15: 1 | F15: =A15 -> 1.0 | G15: =IF(D15>0,"POSITIVO",IF(D15=0,"NULO",IF(D15<0,"NEGATIVO"))) -> POSITIVO | H15: =SUM(H16:H31) -> 9
A16: 1.1 | B16: =VLOOKUP(A16,'11 - FINANCEIRO'!A:M,2,FALSE) -> 20305 | C16: =VLOOKUP(A16,'11 - FINANCEIRO'!A:M,3,FALSE) -> Placa de obra nas dimensões de 2.0 x 4.0 m, padrão DER | D16: =VLOOKUP(A16,'11 - FINANCEIRO'!A:M,10,FALSE) -> 0 | E16: =VLOOKUP(A16,'11 - FINANCEIRO'!A:M,4,FALSE) -> m2 | F16: =A16 -> 1.1 | G16: =IF(D16>0,"POSITIVO",IF(D16=0,"NULO",IF(D16<0,"NEGATIVO"))) -> NULO | H16: =IF(G16="NULO",0,1) -> 0
A17: 1.2 | B17: =VLOOKUP(A17,'11 - FINANCEIRO'!A:M,2,FALSE) -> CPU-4 | C17: =VLOOKUP(A17,'11 - FINANCEIRO'!A:M,3,FALSE) -> Limpeza manual e com jato de alta pressão, inclusive remoção, carga, transporte e descarga dos resíduos em área licenciada | D17: =VLOOKUP(A17,'11 - FINANCEIRO'!A:M,10,FALSE) -> 11519.32 | E17: =VLOOKUP(A17,'11 - FINANCEIRO'!A:M,4,FALSE) -> m2 | F17: =A17 -> 1.2 | G17: =IF(D17>0,"POSITIVO",IF(D17=0,"NULO",IF(D17<0,"NEGATIVO"))) -> POSITIVO | H17: =IF(G17="NULO",0,1) -> 1
A18: 1.3 | B18: =VLOOKUP(A18,'11 - FINANCEIRO'!A:M,2,FALSE) -> CPU-5 | C18: =VLOOKUP(A18,'11 - FINANCEIRO'!A:M,3,FALSE) -> Nivelamento de poço de visita, inclusive retirada, reassentamento do tampão, fôrma e materiais | D18: =VLOOKUP(A18,'11 - FINANCEIRO'!A:M,10,FALSE) -> 0 | E18: =VLOOKUP(A18,'11 - FINANCEIRO'!A:M,4,FALSE) -> und | F18: =A18 -> 1.3 | G18: =IF(D18>0,"POSITIVO",IF(D18=0,"NULO",IF(D18<0,"NEGATIVO"))) -> NULO | H18: =IF(G18="NULO",0,1) -> 0
A19: 1.4 | B19: =VLOOKUP(A19,'11 - FINANCEIRO'!A:M,2,FALSE) -> CPU-6 | C19: =VLOOKUP(A19,'11 - FINANCEIRO'!A:M,3,FALSE) -> Nivelamento de bocas de lobo, inclusive retirada, reassentamento e materiais | D19: =VLOOKUP(A19,'11 - FINANCEIRO'!A:M,10,FALSE) -> 0 | E19: =VLOOKUP(A19,'11 - FINANCEIRO'!A:M,4,FALSE) -> und | F19: =A19 -> 1.4 | G19: =IF(D19>0,"POSITIVO",IF(D19=0,"NULO",IF(D19<0,"NEGATIVO"))) -> NULO | H19: =IF(G19="NULO",0,1) -> 0
A20: 1.5 | B20: =VLOOKUP(A20,'11 - FINANCEIRO'!A:M,2,FALSE) -> CPU-7 | C20: =VLOOKUP(A20,'11 - FINANCEIRO'!A:M,3,FALSE) -> Nivelamento de grelhas, inclusive retirada, reassentamento e materiais | D20: =VLOOKUP(A20,'11 - FINANCEIRO'!A:M,10,FALSE) -> 0 | E20: =VLOOKUP(A20,'11 - FINANCEIRO'!A:M,4,FALSE) -> und | F20: =A20 -> 1.5 | G20: =IF(D20>0,"POSITIVO",IF(D20=0,"NULO",IF(D20<0,"NEGATIVO"))) -> NULO | H20: =IF(G20="NULO",0,1) -> 0
A21: 2 | B21: 2.0 | C21: ='[50]11 - FINANCEIRO'!B20 -> Instalação de Canteiro | F21: =A21 -> 2 | G21: =IF(D21>0,"POSITIVO",IF(D21=0,"NULO",IF(D21<0,"NEGATIVO"))) -> NULO | H21: =SUM(H22:H31) -> 4
A22: 2.1 | B22: =VLOOKUP(A22,'11 - FINANCEIRO'!A:M,2,FALSE) -> 20355 | C22: =VLOOKUP(A22,'11 - FINANCEIRO'!A:M,3,FALSE) -> Aluguel mensal container sanitário, incl porta, básc, 2 ptos luz, 1 pto aterram., 3vasos, 3lavatórios, calha mictório, 6 chuveiros (1 eletrico), torn.,registros, piso comp. Naval pintado, cert NR18 e laudo descontaminação | D22: =VLOOKUP(A22,'11 - FINANCEIRO'!A:M,10,FALSE) -> 1 | E22: =VLOOKUP(A22,'11 - FINANCEIRO'!A:M,4,FALSE) -> ms | F22: =A22 -> 2.1 | G22: =IF(D22>0,"POSITIVO",IF(D22=0,"NULO",IF(D22<0,"NEGATIVO"))) -> POSITIVO | H22: =IF(G22="NULO",0,1) -> 1
A23: 2.2 | B23: =VLOOKUP(A23,'11 - FINANCEIRO'!A:M,2,FALSE) -> 20356 | C23: =VLOOKUP(A23,'11 - FINANCEIRO'!A:M,3,FALSE) -> Aluguel mensal container para almoxarifado, incl. porta, 2 janelas, 1 pt iluminação, Isolamento térmico (teto), piso em comp. Naval pintado, cert. NR18, incl. laudo descontaminação. | D23: =VLOOKUP(A23,'11 - FINANCEIRO'!A:M,10,FALSE) -> 1 | E23: =VLOOKUP(A23,'11 - FINANCEIRO'!A:M,4,FALSE) -> ms | F23: =A23 -> 2.2 | G23: =IF(D23>0,"POSITIVO",IF(D23=0,"NULO",IF(D23<0,"NEGATIVO"))) -> POSITIVO | H23: =IF(G23="NULO",0,1) -> 1
A24: 2.3 | B24: =VLOOKUP(A24,'11 - FINANCEIRO'!A:M,2,FALSE) -> 20352 | C24: =VLOOKUP(A24,'11 - FINANCEIRO'!A:M,3,FALSE) -> Aluguel mensal container para escritório, dim. 6.00x2.40m, c/ banheiro (vaso+lavat+chuveiro e básc), incl. porta, 2 janelas, abert p/ ar cond., 2 pt iluminação, 2 tom. elét. e 1 tom.telef. Isolam.térmico(teto e paredes), piso em comp. Naval, cert. NR18, incl. laudo descontaminação. | D24: =VLOOKUP(A24,'11 - FINANCEIRO'!A:M,10,FALSE) -> 1 | E24: =VLOOKUP(A24,'11 - FINANCEIRO'!A:M,4,FALSE) -> ms | F24: =A24 -> 2.3 | G24: =IF(D24>0,"POSITIVO",IF(D24=0,"NULO",IF(D24<0,"NEGATIVO"))) -> POSITIVO | H24: =IF(G24="NULO",0,1) -> 1
A25: 2.4 | B25: =VLOOKUP(A25,'11 - FINANCEIRO'!A:M,2,FALSE) -> 20354 | C25: =VLOOKUP(A25,'11 - FINANCEIRO'!A:M,3,FALSE) -> Aluguel mensal container para vestiário, incl. porta, venezianas de circulação, 1 pt iluminação, Isolamento térmico (teto), piso em comp. Naval pintado, cert. NR18, incl. laudo descontaminação. | D25: =VLOOKUP(A25,'11 - FINANCEIRO'!A:M,10,FALSE) -> 0 | E25: =VLOOKUP(A25,'11 - FINANCEIRO'!A:M,4,FALSE) -> ms | F25: =A25 -> 2.4 | G25: =IF(D25>0,"POSITIVO",IF(D25=0,"NULO",IF(D25<0,"NEGATIVO"))) -> NULO | H25: =IF(G25="NULO",0,1) -> 0
A26: 2.5 | B26: =VLOOKUP(A26,'11 - FINANCEIRO'!A:M,2,FALSE) -> 7010100210 | C26: =VLOOKUP(A26,'11 - FINANCEIRO'!A:M,3,FALSE) -> BANHEIRO QUIMICO | D26: =VLOOKUP(A26,'11 - FINANCEIRO'!A:M,10,FALSE) -> 1 | E26: =VLOOKUP(A26,'11 - FINANCEIRO'!A:M,4,FALSE) -> UNM | F26: =A26 -> 2.5 | G26: =IF(D26>0,"POSITIVO",IF(D26=0,"NULO",IF(D26<0,"NEGATIVO"))) -> POSITIVO | H26: =IF(G26="NULO",0,1) -> 1
A27: 2.6 | B27: =VLOOKUP(A27,'11 - FINANCEIRO'!A:M,2,FALSE) -> 20711 | C27: =VLOOKUP(A27,'11 - FINANCEIRO'!A:M,3,FALSE) -> Reservatório de poliestileno de 1000 L, incl. suporte em madeira de 7x12cm e 8x7cm, elevado de 4m, conf. projeto (1 utilização) | D27: =VLOOKUP(A27,'11 - FINANCEIRO'!A:M,10,FALSE) -> 0 | E27: =VLOOKUP(A27,'11 - FINANCEIRO'!A:M,4,FALSE) -> und | G27: =IF(D27>0,"POSITIVO",IF(D27=0,"NULO",IF(D27<0,"NEGATIVO"))) -> NULO | H27: =IF(G27="NULO",0,1) -> 0
A28: 2.7 | B28: =VLOOKUP(A28,'11 - FINANCEIRO'!A:M,2,FALSE) -> 20712 | C28: =VLOOKUP(A28,'11 - FINANCEIRO'!A:M,3,FALSE) -> Rede de água com padrão de entrada dágua diâm. 3/4", conf. espec. CESAN, incl. tubos e conexões para alimentação, distribuição, extravasor e limpeza, cons. o padrão a 25m, conf. projeto (1 utilização) | D28: =VLOOKUP(A28,'11 - FINANCEIRO'!A:M,10,FALSE) -> 0 | E28: =VLOOKUP(A28,'11 - FINANCEIRO'!A:M,4,FALSE) -> m | G28: =IF(D28>0,"POSITIVO",IF(D28=0,"NULO",IF(D28<0,"NEGATIVO"))) -> NULO | H28: =IF(G28="NULO",0,1) -> 0
A29: 2.8 | B29: =VLOOKUP(A29,'11 - FINANCEIRO'!A:M,2,FALSE) -> 20713 | C29: =VLOOKUP(A29,'11 - FINANCEIRO'!A:M,3,FALSE) -> Rede de luz, incl. padrão entrada de energia trifás., cabo de ligação até barracões, quadro de distrib., disj. e chave de força (quando necessário), cons. 20m entre padrão entrada e QDG, conf. projeto (1 utilização) | D29: =VLOOKUP(A29,'11 - FINANCEIRO'!A:M,10,FALSE) -> 0 | E29: =VLOOKUP(A29,'11 - FINANCEIRO'!A:M,4,FALSE) -> m | G29: =IF(D29>0,"POSITIVO",IF(D29=0,"NULO",IF(D29<0,"NEGATIVO"))) -> NULO | H29: =IF(G29="NULO",0,1) -> 0
A30: 2.9 | B30: =VLOOKUP(A30,'11 - FINANCEIRO'!A:M,2,FALSE) -> 20714 | C30: =VLOOKUP(A30,'11 - FINANCEIRO'!A:M,3,FALSE) -> Rede de esgoto, contendo fossa e filtro, inclusive tubos e conexões de ligação entre caixas, considerando distância de 25m, conforme projeto (1 utilização) | D30: =VLOOKUP(A30,'11 - FINANCEIRO'!A:M,10,FALSE) -> 0 | E30: =VLOOKUP(A30,'11 - FINANCEIRO'!A:M,4,FALSE) -> m | F30: =A30 -> 2.9 | G30: =IF(D30>0,"POSITIVO",IF(D30=0,"NULO",IF(D30<0,"NEGATIVO"))) -> NULO | H30: =IF(G30="NULO",0,1) -> 0
A31: 2.10 | B31: =VLOOKUP(A31,'11 - FINANCEIRO'!A:M,2,FALSE) -> 20344 | C31: =VLOOKUP(A31,'11 - FINANCEIRO'!A:M,3,FALSE) -> Mobilização e desmobilização de conteiner locado para barracão de obra | D31: =VLOOKUP(A31,'11 - FINANCEIRO'!A:M,10,FALSE) -> 0 | E31: =VLOOKUP(A31,'11 - FINANCEIRO'!A:M,4,FALSE) -> und | F31: =A31 -> 2.10 | G31: =IF(D31>0,"POSITIVO",IF(D31=0,"NULO",IF(D31<0,"NEGATIVO"))) -> NULO | H31: =IF(G31="NULO",0,1) -> 0
A32: 3.0 | B32: =VLOOKUP(A32,'[51]11 - FINANCEIRO'!A:M,1,0) -> 3.0 | C32: ='[50]11 - FINANCEIRO'!B31 -> Sinalização de Obra | F32: =A32 -> 3.0 | G32: =IF(D32>0,"POSITIVO",IF(D32=0,"NULO",IF(D32<0,"NEGATIVO"))) -> NULO | H32: =SUBTOTAL(9,H36:H70) -> 74
A33: 3.1 | B33: =VLOOKUP(A33,'11 - FINANCEIRO'!A:M,2,FALSE) -> 5213850 | C33: =VLOOKUP(A33,'11 - FINANCEIRO'!A:M,3,FALSE) -> Operação de sinalização por bandeirola de tecido ou com placa metálica | D33: =VLOOKUP(A33,'11 - FINANCEIRO'!A:M,10,FALSE) -> 240 | E33: =VLOOKUP(A33,'11 - FINANCEIRO'!A:M,4,FALSE) -> h | F33: =A33 -> 3.1 | G33: =IF(D33>0,"POSITIVO",IF(D33=0,"NULO",IF(D33<0,"NEGATIVO"))) -> POSITIVO | H33: =IF(G33="NULO",0,1) -> 1
A34: 3.2 | B34: =VLOOKUP(A34,'11 - FINANCEIRO'!A:M,2,FALSE) -> 5213835 | C34: =VLOOKUP(A34,'11 - FINANCEIRO'!A:M,3,FALSE) -> Cone plástico para canalização de trânsito - utilização de 150 ciclos - fornecimento, 01 implantação e 01 retirada diária | D34: =VLOOKUP(A34,'11 - FINANCEIRO'!A:M,10,FALSE) -> 1020 | E34: =VLOOKUP(A34,'11 - FINANCEIRO'!A:M,4,FALSE) -> un.dia | F34: =A34 -> 3.2 | G34: =IF(D34>0,"POSITIVO",IF(D34=0,"NULO",IF(D34<0,"NEGATIVO"))) -> POSITIVO | H34: =IF(G34="NULO",0,1) -> 1
A35: 3.3 | B35: =VLOOKUP(A35,'11 - FINANCEIRO'!A:M,2,FALSE) -> 5212556 | C35: =VLOOKUP(A35,'11 - FINANCEIRO'!A:M,3,FALSE) -> Placa para sinalização de obras montada em cavalete metálico - 1,00 x 1,00 m - utilização de 600 ciclos - fornecimento, 01 implantação e 01 retirada diária | D35: =VLOOKUP(A35,'11 - FINANCEIRO'!A:M,10,FALSE) -> 180 | E35: =VLOOKUP(A35,'11 - FINANCEIRO'!A:M,4,FALSE) -> un.dia | F35: =A35 -> 3.3 | G35: =IF(D35>0,"POSITIVO",IF(D35=0,"NULO",IF(D35<0,"NEGATIVO"))) -> POSITIVO | H35: =IF(G35="NULO",0,1) -> 1
A36: 3.4 | B36: =VLOOKUP(A36,'11 - FINANCEIRO'!A:M,2,FALSE) -> 41202 | C36: =VLOOKUP(A36,'11 - FINANCEIRO'!A:M,3,FALSE) -> Sinalização noturna ( fio com lâmpada e balde ), fornecimento e instalação | D36: =VLOOKUP(A36,'11 - FINANCEIRO'!A:M,10,FALSE) -> 0 | E36: =VLOOKUP(A36,'11 - FINANCEIRO'!A:M,4,FALSE) -> M | F36: =A36 -> 3.4 | G36: =IF(D36>0,"POSITIVO",IF(D36=0,"NULO",IF(D36<0,"NEGATIVO"))) -> NULO | H36: =IF(G36="NULO",0,1) -> 0
A37: 3.5 | B37: =VLOOKUP(A37,'11 - FINANCEIRO'!A:M,2,FALSE) -> 5213387 | C37: =VLOOKUP(A37,'11 - FINANCEIRO'!A:M,3,FALSE) -> Barreira de sinalização tipo III de direcionamento ou bloqueio - confecção | D37: =VLOOKUP(A37,'11 - FINANCEIRO'!A:M,10,FALSE) -> 0 | E37: =VLOOKUP(A37,'11 - FINANCEIRO'!A:M,4,FALSE) -> un | F37: =A37 -> 3.5 | G37: =IF(D37>0,"POSITIVO",IF(D37=0,"NULO",IF(D37<0,"NEGATIVO"))) -> NULO | H37: =IF(G37="NULO",0,1) -> 0
A38: 4.0 | B38: 4.0 | C38: ='[50]11 - FINANCEIRO'!B37 -> Transporte, Movimento de Terra e Destinação | F38: =A38 -> 4.0 | G38: =IF(D38>0,"POSITIVO",IF(D38=0,"NULO",IF(D38<0,"NEGATIVO"))) -> NULO | H38: =SUM(H39:H43) -> 5
A39: 4.1 | B39: =VLOOKUP(A39,'11 - FINANCEIRO'!A:M,2,FALSE) -> 5915321 | C39: =VLOOKUP(A39,'11 - FINANCEIRO'!A:M,3,FALSE) -> Transporte com caminhão basculante de 14 m³ - rodovia pavimentada | D39: =VLOOKUP(A39,'11 - FINANCEIRO'!A:M,10,FALSE) -> 46899.652 | E39: =VLOOKUP(A39,'11 - FINANCEIRO'!A:M,4,FALSE) -> tkm | F39: =A39 -> 4.1 | G39: =IF(D39>0,"POSITIVO",IF(D39=0,"NULO",IF(D39<0,"NEGATIVO"))) -> POSITIVO | H39: =IF(G39="NULO",0,1) -> 1
A40: 4.2 | B40: =VLOOKUP(A40,'11 - FINANCEIRO'!A:M,2,FALSE) -> 40230 | C40: =VLOOKUP(A40,'11 - FINANCEIRO'!A:M,3,FALSE) -> Escavação e carga de material de 1ª categoria com escavadeira | D40: =VLOOKUP(A40,'11 - FINANCEIRO'!A:M,10,FALSE) -> 600 | E40: =VLOOKUP(A40,'11 - FINANCEIRO'!A:M,4,FALSE) -> m³ | F40: =A40 -> 4.2 | G40: =IF(D40>0,"POSITIVO",IF(D40=0,"NULO",IF(D40<0,"NEGATIVO"))) -> POSITIVO | H40: =IF(G40="NULO",0,1) -> 1
A41: 4.3 | B41: =VLOOKUP(A41,'11 - FINANCEIRO'!A:M,2,FALSE) -> 4413942 | C41: =VLOOKUP(A41,'11 - FINANCEIRO'!A:M,3,FALSE) -> Espalhamento de material em bota-fora | D41: =VLOOKUP(A41,'11 - FINANCEIRO'!A:M,10,FALSE) -> 2500 | E41: =VLOOKUP(A41,'11 - FINANCEIRO'!A:M,4,FALSE) -> m³ | F41: =A41 -> 4.3 | G41: =IF(D41>0,"POSITIVO",IF(D41=0,"NULO",IF(D41<0,"NEGATIVO"))) -> POSITIVO | H41: =IF(G41="NULO",0,1) -> 1
A42: 4.4 | B42: =VLOOKUP(A42,'11 - FINANCEIRO'!A:M,2,FALSE) -> 5914622 | C42: =VLOOKUP(A42,'11 - FINANCEIRO'!A:M,3,FALSE) -> Transporte de material betuminoso com caminhão tanque distribuidor - rodovia pavimentada | D42: =VLOOKUP(A42,'11 - FINANCEIRO'!A:M,10,FALSE) -> 20400.723 | E42: =VLOOKUP(A42,'11 - FINANCEIRO'!A:M,4,FALSE) -> tkm | F42: =A42 -> 4.4 | G42: =IF(D42>0,"POSITIVO",IF(D42=0,"NULO",IF(D42<0,"NEGATIVO"))) -> POSITIVO | H42: =IF(G42="NULO",0,1) -> 1
A43: 4.5 | B43: =VLOOKUP(A43,'11 - FINANCEIRO'!A:M,2,FALSE) -> 30304 | C43: =VLOOKUP(A43,'11 - FINANCEIRO'!A:M,3,FALSE) -> Índice de preço para remoção de entulho decorrente da execução de obras (Classe A CONAMA - NBR 10.004 - Classe II-B), incluindo aluguel da caçamba, carga, transporte e descarga em área licenciada | D43: =VLOOKUP(A43,'11 - FINANCEIRO'!A:M,10,FALSE) -> 2500 | E43: =VLOOKUP(A43,'11 - FINANCEIRO'!A:M,4,FALSE) -> m3 | F43: =A43 -> 4.5 | G43: =IF(D43>0,"POSITIVO",IF(D43=0,"NULO",IF(D43<0,"NEGATIVO"))) -> POSITIVO | H43: =IF(G43="NULO",0,1) -> 1
A44: 5.0 | B44: 5.0 | C44: ='[50]11 - FINANCEIRO'!B43 -> Recomposição da Rede de Drenagem | F44: =A44 -> 5.0 | G44: =IF(D44>0,"POSITIVO",IF(D44=0,"NULO",IF(D44<0,"NEGATIVO"))) -> NULO | H44: =SUM(H45:H55) -> 2
A45: 5.1 | B45: =VLOOKUP(A45,'11 - FINANCEIRO'!A:M,2,FALSE) -> CPU-1 | C45: =VLOOKUP(A45,'11 - FINANCEIRO'!A:M,3,FALSE) -> SERVIÇO DE REPARO E REJUNTE EM INTERIOR DE GALERIA DE DRENAGEM 3,00 X 2,00 M CONFINADA - CONFECÇÃO EM MISTURADOR E LANÇAMENTO PROJETADO DE ARGAMASSA POLIMÉRICA, INCLUSIVE LIMPEZA POR JATEAMENTO | D45: =VLOOKUP(A45,'11 - FINANCEIRO'!A:M,10,FALSE) -> 270 | E45: =VLOOKUP(A45,'11 - FINANCEIRO'!A:M,4,FALSE) -> M | F45: =A45 -> 5.1 | G45: =IF(D45>0,"POSITIVO",IF(D45=0,"NULO",IF(D45<0,"NEGATIVO"))) -> POSITIVO | H45: =IF(G45="NULO",0,1) -> 1
A46: 5.2 | B46: =VLOOKUP(A46,'11 - FINANCEIRO'!A:M,2,FALSE) -> 5501706 | C46: =VLOOKUP(A46,'11 - FINANCEIRO'!A:M,3,FALSE) -> Escavação mecânica com retroescavadeira em material de 1ª categoria | D46: =VLOOKUP(A46,'11 - FINANCEIRO'!A:M,10,FALSE) -> 0 | E46: =VLOOKUP(A46,'11 - FINANCEIRO'!A:M,4,FALSE) -> m³ | F46: =A46 -> 5.2 | G46: =IF(D46>0,"POSITIVO",IF(D46=0,"NULO",IF(D46<0,"NEGATIVO"))) -> NULO | H46: =IF(G46="NULO",0,1) -> 0
...

Sheet 11 - FINANCEIRO
A1: GOVERNO DO ESTADO DO ESPÍRITO SANTO Secretaria de Estado de Saneamento, Habitação e Desenvolvimento Urbano - SEDURB
A5: INFORMAÇÕES GERAIS DA MEDIÇÃO | D5: EMPREITEIRA
A6: TRECHO: | C6: Rod. Gether Lopes de Farias | D6: EMPREITEIRA: | F6: Consórcio Exata-Monjardim
A7: DESCRIÇÃO: | C7: CONTRATAÇÃO DE EMPRESA PARA EXECUÇÃO DE RECAPEAMENTO ASFÁLTICO E REMANESCENTE DAS OBRAS DE MACRODRENAGEM DO CÓRREGO SÃO SILVANO, MUNICÍPIO DE COLATINA/ES | D7: CONTRATO N°: | F7: 2026.000023.36101.01
A8: MEDIÇÃO: | C8: 2 | D8: ASSINATURA: | F8: 46169
A9: PERÍODO: | C9: 17/08/2026 a 31/08/2026 | D9: INÍCIO SERVIÇO: | F9: 46192
A11: PLANILHA FINANCEIRA
A12: ITEM | C12: SERVIÇO | D12: und. | E12: CONTRATUAL | H12: ACUMULADO ANTERIOR | J12: =C8 -> 2 | L12: ACUMULADO TOTAL
A13: Referência | B13: CÓDIGO | E13: PREÇO UNIT. | F13: QUANT. | G13: TOTAL | H13: QUANT. | I13: TOTAL | J13: QUANT. | K13: TOTAL | L13: QUANT. | M13: TOTAL
A14: 1.0 | B14: Serviços Preliminares | G14: =SUM(G15:G19) -> 113381.61 | I14: =SUBTOTAL(9,I15:I19) -> 44501.97 | K14: =SUBTOTAL(9,K15:K19) -> 38689.91 | M14: =SUBTOTAL(9,M15:M19) -> 83191.88
A15: 1.1 | B15: 20305 | C15: Placa de obra nas dimensões de 2.0 x 4.0 m, padrão DER | D15: m2 | E15: 310.14082 | F15: 18.96 | G15: =ROUND(F15*E15,2) -> 5880.27 | H15: 18.96 | I15: 5880.27 | J15: ='12 - MEMÓRIA'!R20 -> 0 | K15: =M15-I15 -> 0 | L15: =J15+H15 -> 18.96 | M15: =ROUND(L15*E15,2) -> 5880.27
A16: 1.2 | B16: CPU-4 | C16: Limpeza manual e com jato de alta pressão, inclusive remoção, carga, transporte e descarga dos resíduos em área licenciada | D16: m2 | E16: 3.3586974 | F16: 24000.34 | G16: =F16*E16 -> 80609.88 | H16: 11499.01 | I16: 38621.7 | J16: ='12 - MEMÓRIA'!R29 -> 11519.32 | K16: =M16-I16 -> 38689.91 | L16: =J16+H16 -> 23018.33 | M16: =ROUND(L16*E16,2) -> 77311.61
A17: 1.3 | B17: CPU-5 | C17: Nivelamento de poço de visita, inclusive retirada, reassentamento do tampão, fôrma e materiais | D17: und | E17: 288.425 | F17: 40 | G17: =F17*E17 -> 11537 | H17: 0 | I17: 0 | J17: 0 | K17: =M17-I17 -> 0 | L17: =J17+H17 -> 0 | M17: =ROUND(L17*E17,2) -> 0
A18: 1.4 | B18: CPU-6 | C18: Nivelamento de bocas de lobo, inclusive retirada, reassentamento e materiais | D18: und | E18: 244.35172 | F18: 58 | G18: =F18*E18 -> 14172.4 | H18: 0 | I18: 0 | J18: 0 | K18: =M18-I18 -> 0 | L18: =J18+H18 -> 0 | M18: =ROUND(L18*E18,2) -> 0
A19: 1.5 | B19: CPU-7 | C19: Nivelamento de grelhas, inclusive retirada, reassentamento e materiais | D19: und | E19: 295.515 | F19: 4 | G19: =F19*E19 -> 1182.06 | H19: 0 | I19: 0 | J19: 0 | K19: =M19-I19 -> 0 | L19: =J19+H19 -> 0 | M19: =ROUND(L19*E19,2) -> 0
A20: 2.0 | B20: Instalação de Canteiro | G20: =SUM(G21:G30) -> 73971.93 | I20: =SUBTOTAL(9,I21:I30) -> 10099.49 | K20: =SUBTOTAL(9,K21:K30) -> 6702.33 | M20: =SUBTOTAL(9,M21:M30) -> 16801.82
A21: 2.1 | B21: 20355 | C21: Aluguel mensal container sanitário, incl porta, básc, 2 ptos luz, 1 pto aterram., 3vasos, 3lavatórios, calha mictório, 6 chuveiros (1 eletrico), torn.,registros, piso comp. Naval pintado, cert NR18 e laudo descontaminação | D21: ms | E21: 1537.374 | F21: 5 | G21: =F21*E21 -> 7686.87 | H21: 1 | I21: 1537.37 | J21: ='12 - MEMÓRIA'!R47 -> 1 | K21: =M21-I21 -> 1537.38 | L21: =J21+H21 -> 2 | M21: =ROUND(L21*E21,2) -> 3074.75
A22: 2.2 | B22: 20356 | C22: Aluguel mensal container para almoxarifado, incl. porta, 2 janelas, 1 pt iluminação, Isolamento térmico (teto), piso em comp. Naval pintado, cert. NR18, incl. laudo descontaminação. | D22: ms | E22: 1046.926 | F22: 5 | G22: =F22*E22 -> 5234.63 | H22: 1 | I22: 1046.93 | J22: ='12 - MEMÓRIA'!R56 -> 1 | K22: =M22-I22 -> 1046.92 | L22: =J22+H22 -> 2 | M22: =ROUND(L22*E22,2) -> 2093.85
A23: 2.3 | B23: 20352 | C23: Aluguel mensal container para escritório, dim. 6.00x2.40m, c/ banheiro (vaso+lavat+chuveiro e básc), incl. porta, 2 janelas, abert p/ ar cond., 2 pt iluminação, 2 tom. elét. e 1 tom.telef. Isolam.térmico(teto e paredes), piso em comp. Naval, cert. NR18, incl. laudo descontaminação. | D23: ms | E23: 1579.78 | F23: 5 | G23: =F23*E23 -> 7898.9 | H23: 1 | I23: 1579.78 | J23: ='12 - MEMÓRIA'!R65 -> 1 | K23: =M23-I23 -> 1579.78 | L23: =J23+H23 -> 2 | M23: =ROUND(L23*E23,2) -> 3159.56
A24: 2.4 | B24: 20354 | C24: Aluguel mensal container para vestiário, incl. porta, venezianas de circulação, 1 pt iluminação, Isolamento térmico (teto), piso em comp. Naval pintado, cert. NR18, incl. laudo descontaminação. | D24: ms | E24: 954.088 | F24: 5 | G24: =F24*E24 -> 4770.44 | H24: 0 | I24: 0 | J24: ='12 - MEMÓRIA'!R73 -> 0 | K24: =M24-I24 -> 0 | L24: =J24+H24 -> 0 | M24: =ROUND(L24*E24,2) -> 0
A25: 2.5 | B25: 7010100210 | C25: BANHEIRO QUIMICO | D25: UNM | E25: 2538.252 | F25: 5 | G25: =F25*E25 -> 12691.26 | H25: 1 | I25: 2538.25 | J25: ='12 - MEMÓRIA'!R82 -> 1 | K25: =M25-I25 -> 2538.25 | L25: =J25+H25 -> 2 | M25: =ROUND(L25*E25,2) -> 5076.5
A26: 2.6 | B26: 20711 | C26: Reservatório de poliestileno de 1000 L, incl. suporte em madeira de 7x12cm e 8x7cm, elevado de 4m, conf. projeto (1 utilização) | D26: und | E26: 2445.81 | F26: 1 | G26: =F26*E26 -> 2445.81 | H26: 0 | I26: 0 | J26: 0 | K26: =M26-I26 -> 0 | L26: =J26+H26 -> 0 | M26: =ROUND(L26*E26,2) -> 0
A27: 2.7 | B27: 20712 | C27: Rede de água com padrão de entrada dágua diâm. 3/4", conf. espec. CESAN, incl. tubos e conexões para alimentação, distribuição, extravasor e limpeza, cons. o padrão a 25m, conf. projeto (1 utilização) | D27: m | E27: 73.7245 | F27: 20 | G27: =F27*E27 -> 1474.49 | H27: 0 | I27: 0 | J27: 0 | K27: =M27-I27 -> 0 | L27: =J27+H27 -> 0 | M27: =ROUND(L27*E27,2) -> 0
A28: 2.8 | B28: 20713 | C28: Rede de luz, incl. padrão entrada de energia trifás., cabo de ligação até barracões, quadro de distrib., disj. e chave de força (quando necessário), cons. 20m entre padrão entrada e QDG, conf. projeto (1 utilização) | D28: m | E28: 576.414 | F28: 20 | G28: =F28*E28 -> 11528.28 | H28: 0 | I28: 0 | J28: 0 | K28: =M28-I28 -> 0 | L28: =J28+H28 -> 0 | M28: =ROUND(L28*E28,2) -> 0
A29: 2.9 | B29: 20714 | C29: Rede de esgoto, contendo fossa e filtro, inclusive tubos e conexões de ligação entre caixas, considerando distância de 25m, conforme projeto (1 utilização) | D29: m | E29: 559.1075 | F29: 20 | G29: =F29*E29 -> 11182.15 | H29: 0 | I29: 0 | J29: 0 | K29: =M29-I29 -> 0 | L29: =J29+H29 -> 0 | M29: =ROUND(L29*E29,2) -> 0
A30: 2.10 | B30: 20344 | C30: Mobilização e desmobilização de conteiner locado para barracão de obra | D30: und | E30: 2264.775 | F30: 4 | G30: =F30*E30 -> 9059.1 | H30: 1.5 | I30: 3397.16 | J30: ='12 - MEMÓRIA'!R92 -> 0 | K30: =M30-I30 -> 0 | L30: =J30+H30 -> 1.5 | M30: =ROUND(L30*E30,2) -> 3397.16
A31: 3.0 | B31: Sinalização de Obra | G31: =SUM(G32:G36) -> 92172.85 | I31: =SUBTOTAL(9,I32:I36) -> 9195.4 | K31: =SUBTOTAL(9,K32:K36) -> 8505.44 | M31: =SUBTOTAL(9,M32:M36) -> 17700.84
A32: 3.1 | B32: 5213850 | C32: Operação de sinalização por bandeirola de tecido ou com placa metálica | D32: h | E32: 29.266818 | F32: 1760 | G32: =F32*E32 -> 51509.6 | H32: 240 | I32: 7024.04 | J32: ='12 - MEMÓRIA'!R102 -> 240 | K32: =M32-I32 -> 7024.03 | L32: =J32+H32 -> 480 | M32: =ROUND(L32*E32,2) -> 14048.07
A33: 3.2 | B33: 5213835 | C33: Cone plástico para canalização de trânsito - utilização de 150 ciclos - fornecimento, 01 implantação e 01 retirada diária | D33: un.dia | E33: 0.99991693 | F33: 6380 | G33: =F33*E33 -> 6379.47 | H33: 1710 | I33: 1709.86 | J33: ='12 - MEMÓRIA'!R111 -> 1020 | K33: =M33-I33 -> 1019.91 | L33: =J33+H33 -> 2730 | M33: =ROUND(L33*E33,2) -> 2729.77
A34: 3.3 | B34: 5212556 | C34: Placa para sinalização de obras montada em cavalete metálico - 1,00 x 1,00 m - utilização de 600 ciclos - fornecimento, 01 implantação e 01 retirada diária | D34: un.dia | E34: 2.5638889 | F34: 900 | G34: =F34*E34 -> 2307.5 | H34: 180 | I34: 461.5 | J34: ='12 - MEMÓRIA'!R120 -> 180 | K34: =M34-I34 -> 461.5 | L34: =J34+H34 -> 360 | M34: =ROUND(L34*E34,2) -> 923
A35: 3.4 | B35: 41202 | C35: Sinalização noturna ( fio com lâmpada e balde ), fornecimento e instalação | D35: M | E35: 54.957 | F35: 500 | G35: =F35*E35 -> 27478.5 | H35: 0 | I35: 0 | J35: 0 | K35: =M35-I35 -> 0 | L35: =J35+H35 -> 0 | M35: =ROUND(L35*E35,2) -> 0
A36: 3.5 | B36: 5213387 | C36: Barreira de sinalização tipo III de direcionamento ou bloqueio - confecção | D36: un | E36: 1124.445 | F36: 4 | G36: =F36*E36 -> 4497.78 | H36: 0 | I36: 0 | J36: 0 | K36: =M36-I36 -> 0 | L36: =J36+H36 -> 0 | M36: =ROUND(L36*E36,2) -> 0
A37: 4.0 | B37: Transporte, Movimento de Terra e Destinação | G37: =SUM(G38:G42) -> 814731.1 | I37: =SUBTOTAL(9,I38:I42) -> 150282.58 | K37: =SUBTOTAL(9,K38:K42) -> 409778.25 | M37: =SUBTOTAL(9,M38:M42) -> 560060.83
A38: 4.1 | B38: 5915321 | C38: Transporte com caminhão basculante de 14 m³ - rodovia pavimentada | D38: tkm | E38: 0.89736193 | F38: 97600.53 | G38: =F38*E38 -> 87583 | H38: 46703.01 | I38: 41909.5 | J38: ='12 - MEMÓRIA'!R132 -> 46899.652 | K38: =M38-I38 -> 42085.97 | L38: =J38+H38 -> 93602.662 | M38: =ROUND(L38*E38,2) -> 83995.47
A39: 4.2 | B39: 40230 | C39: Escavação e carga de material de 1ª categoria com escavadeira | D39: m³ | E39: 5.6918374 | F39: 3445 | G39: =F39*E39 -> 19608.38 | H39: 2200 | I39: 12522.04 | J39: ='12 - MEMÓRIA'!R141 -> 600 | K39: =M39-I39 -> 3415.1 | L39: =J39+H39 -> 2800 | M39: =ROUND(L39*E39,2) -> 15937.14
A40: 4.3 | B40: 4413942 | C40: Espalhamento de material em bota-fora | D40: m³ | E40: 3.52535 | F40: 3400 | G40: =F40*E40 -> 11986.19 | H40: 300 | I40: 1057.61 | J40: ='12 - MEMÓRIA'!R151 -> 2500 | K40: =M40-I40 -> 8813.37 | L40: =J40+H40 -> 2800 | M40: =ROUND(L40*E40,2) -> 9870.98
A41: 4.4 | B41: 5914622 | C41: Transporte de material betuminoso com caminhão tanque distribuidor - rodovia pavimentada | D41: tkm | E41: 2.9100164 | F41: 95754.93 | G41: =F41*E41 -> 278648.42 | H41: 20364.745 | I41: 59261.74 | J41: ='12 - MEMÓRIA'!R160 -> 20400.723 | K41: =M41-I41 -> 59366.44 | L41: =J41+H41 -> 40765.468 | M41: =ROUND(L41*E41,2) -> 118628.18
A42: 4.5 | B42: 30304 | C42: Índice de preço para remoção de entulho decorrente da execução de obras (Classe A CONAMA - NBR 10.004 - Classe II-B), incluindo aluguel da caçamba, carga, transporte e descarga em área licenciada | D42: m3 | E42: 118.43895 | F42: 3520 | G42: =F42*E42 -> 416905.11 | H42: 300 | I42: 35531.69 | J42: ='12 - MEMÓRIA'!R170 -> 2500 | K42: =M42-I42 -> 296097.37 | L42: =J42+H42 -> 2800 | M42: =ROUND(L42*E42,2) -> 331629.06
A43: 5.0 | B43: Recomposição da Rede de Drenagem | G43: =SUM(G44:G54) -> 533993.75 | I43: =SUBTOTAL(9,I44:I54) -> 55064.96 | K43: =SUBTOTAL(9,K44:K54) -> 160478.53 | M43: =SUBTOTAL(9,M44:M54) -> 215543.49
A44: 5.1 | B44: CPU-1 | C44: SERVIÇO DE REPARO E REJUNTE EM INTERIOR DE GALERIA DE DRENAGEM 3,00 X 2,00 M CONFINADA - CONFECÇÃO EM MISTURADOR E LANÇAMENTO PROJETADO DE ARGAMASSA POLIMÉRICA, INCLUSIVE LIMPEZA POR JATEAMENTO | D44: M | E44: 457.71442 | F44: 800 | G44: =F44*E44 -> 366171.54 | H44: 80 | I44: 36617.15 | J44: ='12 - MEMÓRIA'!R180 -> 270 | K44: =M44-I44 -> 123582.9 | L44: =J44+H44 -> 350 | M44: =ROUND(L44*E44,2) -> 160200.05
...

Sheet 12 - MEMÓRIA
B1: GOVERNO DO ESTADO DO ESPÍRITO SANTO Secretaria de Estado de Saneamento, Habitação e Desenvolvimento Urbano - SEDURB
B5: INFORMAÇÕES GERAIS DA MEDIÇÃO | E5: EMPREITEIRA
B6: TRECHO: | C6: ='11 - FINANCEIRO'!C6 -> Rod. Gether Lopes de Farias | E6: EMPREITEIRA: Consórcio Exata-Monjardim
B7: DESCRIÇÃO: | C7: ='11 - FINANCEIRO'!C7 -> CONTRATAÇÃO DE EMPRESA PARA EXECUÇÃO DE RECAPEAMENTO ASFÁLTICO E REMANESCENTE DAS OBRAS DE MACRODRENAGEM DO CÓRREGO SÃO SILVANO, MUNICÍPIO DE COLATINA/ES | E7: CONTRATO N°: 2026.000023.36101.01
B8: MEDIÇÃO: | C8: ='11 - FINANCEIRO'!C8 -> 2 | E8: ASSINATURA: 27/05/2026
B9: PERÍODO: | C9: ='11 - FINANCEIRO'!C9 -> 17/08/2026 a 31/08/2026 | E9: INÍCIO DOS SERVIÇOS:19/06/2026
B11: MEMÓRIA DE CÁLCULO DE QUANTIDADES
B13: 1.0 | C13: Serviços Preliminares
B14: ='11 - FINANCEIRO'!B15 -> 20305 | C14: ='11 - FINANCEIRO'!C15 -> Placa de obra nas dimensões de 2.0 x 4.0 m, padrão DER | D14: ESTACA | J14: POS. | K14: EXTENSÃO (m) | L14: LARGURA (m) | M14: PROF. (m) | N14: ÁREA (m²) | O14: VOLUME (m³) | P14: DENSIDADE (t/m³) | Q14: % | R14: QUANT. | S14: UND | T14: MEDIÇÃO | U14: OBSERVAÇÕES
D15: INICIAL | G15: FINAL
C16: Placa de Obras | K16: 6 | L16: 3.16 | R16: =K16*L16 -> 18.96 | S16: m² | T16: 1
D18: QUANTIDADE CONTRATUAL | J18: ='11 - FINANCEIRO'!F15 -> 18.96 | L18: ='11 - FINANCEIRO'!D15 -> m2 | M18: QUANTIDADE TOTAL ACUMULADA | R18: =SUM(R16:R17) -> 18.96 | S18: =L18 -> m2
D19: AVANÇO | J19: =R18/J18 -> 1 | M19: ACUMULADA ANTERIOR | R19: =VLOOKUP(A20,'11 - FINANCEIRO'!A:M,8,FALSE) -> 18.96 | S19: =L18 -> m2
A20: 1.1 | M20: MEDIÇÃO LÍQUIDA | R20: =R18-R19 -> 0 | S20: =L18 -> m2
B22: ='[49]11 - FINANCEIRO'!B16 -> CPU-4 | C22: ='[49]11 - FINANCEIRO'!C16 -> Limpeza manual e com jato de alta pressão, inclusive remoção, carga, transporte e descarga dos resíduos em área licenciada | D22: ESTACA | J22: POS. | K22: EXTENSÃO (m) | L22: LARGURA (m) | M22: PROF. (m) | N22: ÁREA (m²) | O22: VOLUME (m³) | P22: DENSIDADE (t/m³) | Q22: % | R22: QUANT. | S22: UND | T22: MEDIÇÃO | U22: OBSERVAÇÕES
D23: INICIAL | G23: FINAL
C24: Área do Asfalto executada | N24: 11499.01 | R24: =N24 -> 11499.01 | S24: m² | T24: 1 | U24: conforme croqui asfalto
C25: Área do Asfalto executada - 2ª Med | N25: 11519.32 | R25: =N25 -> 11519.32 | S25: =S24 -> m² | T25: 2 | U25: conforme croqui asfalto
D27: QUANTIDADE CONTRATUAL | J27: ='11 - FINANCEIRO'!F16 -> 24000.34 | L27: ='[49]11 - FINANCEIRO'!D23 -> ms | M27: QUANTIDADE TOTAL ACUMULADA | R27: =SUM(R24:R26) -> 23018.33 | S27: m²
D28: AVANÇO | J28: =R27/J27 -> 0.9590835 | M28: ACUMULADA ANTERIOR | R28: =VLOOKUP(A29,'11 - FINANCEIRO'!A:M,8,FALSE) -> 11499.01 | S28: m²
A29: 1.2 | M29: MEDIÇÃO LÍQUIDA | R29: =R27-R28 -> 11519.32 | S29: m²
B30: ='[50]11 - FINANCEIRO'!B16 -> CPU-4 | C30: ='[50]11 - FINANCEIRO'!C16 -> Limpeza manual e com jato de alta pressão, inclusive remoção, carga, transporte e descarga dos resíduos em área licenciada | D30: ESTACA | J30: POS. | K30: QUANTIDADE | L30: LARGURA (m) | M30: PROF. (m) | N30: ÁREA (m²) | O30: VOLUME (m³) | P30: DENSIDADE (t/m³) | Q30: % | R30: QUANT. | S30: UND | T30: MEDIÇÃO | U30: OBSERVAÇÕES
D31: INICIAL | G31: FINAL
C32: Levantamento efetuado in loco | K32: 12 | R32: =K32 -> 12 | S32: =L$34 -> und | T32: 2
D34: QUANTIDADE CONTRATUAL | J34: ='11 - FINANCEIRO'!F17 -> 40 | L34: ='11 - FINANCEIRO'!D17 -> und | M34: QUANTIDADE TOTAL ACUMULADA | R34: =SUM(R32:R33) -> 12 | S34: =L34 -> und
D35: AVANÇO | J35: =R34/J34 -> 0.3 | M35: ACUMULADA ANTERIOR | R35: =VLOOKUP(A36,'11 - FINANCEIRO'!A:M,8,FALSE) -> 0 | S35: =L34 -> und
A36: 1.3 | M36: MEDIÇÃO LÍQUIDA | R36: =R34-R35 -> 12 | S36: =L34 -> und
B39: 2.0 | C39: Instalação de Canteiro
B40: ='11 - FINANCEIRO'!B21 -> 20355 | C40: ='11 - FINANCEIRO'!C21 -> Aluguel mensal container sanitário, incl porta, básc, 2 ptos luz, 1 pto aterram., 3vasos, 3lavatórios, calha mictório, 6 chuveiros (1 eletrico), torn.,registros, piso comp. Naval pintado, cert NR18 e laudo descontaminação | D40: ESTACA | J40: POS. | K40: QUANTIDADE | L40: LARGURA (m) | M40: PROF. (m) | N40: ÁREA (m²) | O40: VOLUME (m³) | P40: DENSIDADE (t/m³) | Q40: % | R40: QUANT. | S40: UND | T40: MEDIÇÃO | U40: OBSERVAÇÕES
D41: INICIAL | G41: FINAL
C42: Canteiro de Obras | K42: 1 | R42: =K42 -> 1 | S42: ms | T42: 1
C43: Canteiro de Obras | K43: 1 | R43: =K43 -> 1 | S43: ms | T43: 2
D45: QUANTIDADE CONTRATUAL | J45: ='11 - FINANCEIRO'!F21 -> 5 | L45: ='11 - FINANCEIRO'!D21 -> ms | M45: QUANTIDADE TOTAL ACUMULADA | R45: =SUM(R42:R44) -> 2 | S45: =L45 -> ms
D46: AVANÇO | J46: =R45/J45 -> 0.4 | M46: ACUMULADA ANTERIOR | R46: =VLOOKUP(A47,'11 - FINANCEIRO'!A:M,8,FALSE) -> 1 | S46: =L45 -> ms
A47: 2.1 | M47: MEDIÇÃO LÍQUIDA | R47: =R45-R46 -> 1 | S47: =L45 -> ms
B49: ='11 - FINANCEIRO'!B22 -> 20356 | C49: ='11 - FINANCEIRO'!C22 -> Aluguel mensal container para almoxarifado, incl. porta, 2 janelas, 1 pt iluminação, Isolamento térmico (teto), piso em comp. Naval pintado, cert. NR18, incl. laudo descontaminação. | D49: ESTACA | J49: POS. | K49: QUANTIDADE | L49: LARGURA (m) | M49: PROF. (m) | N49: ÁREA (m²) | O49: VOLUME (m³) | P49: DENSIDADE (t/m³) | Q49: % | R49: QUANT. | S49: UND | T49: MEDIÇÃO | U49: OBSERVAÇÕES
D50: INICIAL | G50: FINAL
C51: Canteiro de Obras | K51: 1 | R51: =K51 -> 1 | S51: ms | T51: 1
C52: Canteiro de Obras | K52: 1 | R52: =K52 -> 1 | S52: ms | T52: 2
D54: QUANTIDADE CONTRATUAL | J54: ='11 - FINANCEIRO'!F22 -> 5 | L54: ='11 - FINANCEIRO'!D22 -> ms | M54: QUANTIDADE TOTAL ACUMULADA | R54: =SUM(R51:R53) -> 2 | S54: =L54 -> ms
...
